Workbook
Name btw: [1]Uitgangspunten!$E$12
Name jaar: [1]Uitgangspunten!$E$7
Name jaar: '[2]Gegevens gemeenten'!$B$3
Name jaarnieuw: [1]Uitgangspunten!$E$7

Sheet OZB oud
B6: 2025 Vastgestelde verordening OZB | D6: 496126.54
E7: is dit 2024? | F7: Klopt dit?
B8: Belastingsoort | C8: Tarief 2025 | D8: Ons tarief | E8: WOZ oud volgens presentatie | F8: WOZ 2025 | H8: 2025
B9: OZB eigen woningen | C9: 0.000648 | D9: 0.000659 | E9: 7215000000 | F9: 7.9245077e+09 | G9: =D9*E9 -> 4754685 | H9: =F9*C9 -> 5135081 | I9: =C9-D9 -> -1.1e-05 | J9: =F9/E9 -> 1.0983379 | K9: =D9*1.01 -> 0.00066559 | L9: =K9*H9 -> 3417.8586
B10: OZB gebruiker niet woningen | C10: 0.001524 | D10: 0.00149 | E10: 570000000 | F10: 6.1787336e+08 | G10: =D10*E10 -> 849300 | H10: =F10*C10 -> 941639 | I10: =C10-D10 -> 3.4e-05 | J10: =F10/E10 -> 1.0839884
B11: OZB eigenaar niet woningen | C11: 0.001876 | D11: 0.001834 | E11: 651000000 | F11: 6.6972228e+08 | G11: =D11*E11 -> 1193934 | H11: =F11*C11 -> 1256399 | I11: =C11-D11 -> 4.2e-05 | J11: =F11/E11 -> 1.0287593
E12: =SUM(E9:E11) -> 8436000000 | F12: =SUM(F9:F11) -> 9.2121034e+09 | G12: =SUM(G9:G11) -> 6797919 | H12: =SUM(H9:H11) -> 7333119
B13: OZB opbrengst woning €390.000
B14: 390000 | C14: =C9*B14 -> 252.72 | D14: =C9*D6 -> 321.49 | E14: dit bedrag staat in COELO 2025 | F14: 7925000000 | G14: =F14*C9 -> 5135400 | I14: Opmerkingen
B15: =F9/B14 -> 20319.251 | I15: Gemiddelde WOZ waarde in COELO is 496.126,54
B16: OZB eigen woningen | I16: Gemiddelde WOZ waarde gemeente Geldrop is 390.000
B17: Gemiddelde WOZ 2025 in COELO | C17: 496126.54 | I17: In presentatie is uitgegaan van totale WOZ van 7.215.000.000
B18: Tarief 2025 | C18: =C9 -> 0.000648 | F18: 8 | G18: 0=aflopen | I18: Maar volgens het overzicht hiernaast is uitgegaan van WOZ 7.924.507.716
B19: OZB 2025 COELO | C19: 321 | F19: 2 | G19: 1=oplopen
B20: Tariefsaanapssing | C20: 0.3 | F20: 3
B21: Voorgesteld tarief | C21: =C18*(1+C20) -> 0.0008424 | F21: 4
B22: Voorgesteld OZB bedrag | C22: =C21*C17 -> 417.937 | F22: 5
B23: Totale OZB | C23: =C21*F9 -> 6675605.3
B24: 1771 | C24: Geldrop-Mierlo
B25: =_xlfn.RANK.EQ(C22,'Gegevens per gemeente 2025'!L5:L346,1) -> #N/A | D25: =_xlfn.RANK.EQ(3,F18:F22,1) -> 2
C26: =IF(B24='COELO oud'!B20,1,0) -> 1

Sheet Dashboard
A4: Gemeentelijke lasten Geldrop-Mierlo
A5: Bedragen in euro's | I5: De blauwe cellen zijn beschikbaar voor scenario analyse
B6: BEGROTING 2025 | I6: 2025 NA AANPASSING | J6: AANPASSING | R6: VERSCHIL AANPASSINGEN TOV BEGROTING
A7: Heffingen | B7: Bedrag 2025 | C7: Maatman meerpersoons eigenaar | D7: Maatman meerpersoons huurder | E7: Maatman eenpersoons eigenaar | F7: Maatman eenpersoons huurder | G7: Kwijtschelding | I7: Heffingen | J7: Percentage aanpassing | K7: Bedrag 2025 na aanpassing | L7: Maatman meerpersoons eigenaar | M7: Maatman meerpersoons huurder | N7: Maatman eenpersoons eigenaar | O7: Maatman eenpersoons huurder | P7: Kwijtschelding | R7: Heffingen | S7: Bedrag 2025 | T7: Maatman meerpersoons eigenaar | U7: Maatman meerpersoons huurder | V7: Maatman eenpersoons eigenaar | W7: Maatman eenpersoons huurder | X7: Kwijtschelding | Z7: Positie landelijk gemiddelde 2025* | AA7: Geschat landelijk gemiddelde na aanpassing *
A8: OZB eigen woningen | B8: =OZB!$C$17 -> 252.72 | C8: =B8 -> 252.72 | E8: =B8 -> 252.72 | G8: 0 | I8: OZB eigen woningen | J8: =SUM($K$20:$K$22)+SUM($P$20:$P$21) -> 0.020176079 | K8: =OZB!C21 -> 257.8189 | L8: =K8 -> 257.8189 | N8: =K8 -> 257.8189 | P8: 0 | R8: OZB eigen woningen | S8: =K8-B8 -> 5.0988987 | T8: =L8-C8 -> 5.0988987 | U8: =M8-D8 -> 0 | V8: =N8-E8 -> 5.0988987 | W8: =O8-F8 -> 0 | X8: =P8-G8 -> 0 | Z8: =OZB!C25 -> 19 | AA8: =OZB!C24 -> 20
A9: OZB niet woningen bv € 500.000 | B9: =OZB!K31 -> 850 | G9: 0 | I9: OZB niet woningen bv € 500.000 | J9: 0 | K9: =OZB!K32 -> 850 | P9: 0 | R9: OZB niet woningen bv € 500.000 | S9: =K9-B9 -> 0 | T9: =L9-C9 -> 0 | U9: =M9-D9 -> 0 | V9: =N9-E9 -> 0 | W9: =O9-F9 -> 0 | X9: =P9-G9 -> 0
A10: Afvalstoffenheffing vast | B10: ='Afval omrekening'!I19 -> 222 | C10: ='Afval omrekening'!S19 -> 222 | D10: ='Afval omrekening'!S19 -> 222 | E10: ='Afval omrekening'!O19 -> 222 | F10: =E10 -> 222 | G10: 0 | I10: Afvalstoffenheffing vast | K10: ='Afval omrekening'!I21 -> 216.30667 | L10: ='Afval omrekening'!S21 -> 216.30667 | M10: ='Afval omrekening'!S21 -> 216.30667 | N10: ='Afval omrekening'!O21 -> 216.30667 | O10: ='Afval omrekening'!O21 -> 216.30667 | P10: 0 | R10: Afvalstoffenheffing vast | S10: =K10-B10 -> -5.6933288 | T10: =L10-C10 -> -5.6933288 | U10: =M10-D10 -> -5.6933288 | V10: =N10-E10 -> -5.6933288 | W10: =O10-F10 -> -5.6933288 | X10: =P10-G10 -> 0
A11: Afvalstoffenheffing variabel | B11: ='Afval omrekening'!I18 -> 91.598624 | C11: ='Afval omrekening'!S18 -> 176.68 | D11: ='Afval omrekening'!S18 -> 176.68 | E11: ='Afval omrekening'!O18 -> 42 | F11: ='Afval omrekening'!O18 -> 42 | G11: 0 | I11: Afvalstoffenheffing variabel | K11: ='Afval omrekening'!I18 -> 91.598624 | L11: ='Afval omrekening'!S18 -> 176.68 | M11: ='Afval omrekening'!S18 -> 176.68 | N11: ='Afval omrekening'!O18 -> 42 | O11: ='Afval omrekening'!O18 -> 42 | P11: 0 | R11: Afvalstoffenheffing variabel | S11: =K11-B11 -> 0 | T11: =L11-C11 -> 0 | U11: =M11-D11 -> 0 | V11: =N11-E11 -> 0 | W11: =O11-F11 -> 0 | X11: =P11-G11 -> 0
A12: Afvalstoffenheffing | B12: ='Afval omrekening'!I20 -> 313.59862 | C12: ='Afval omrekening'!S20 -> 398.68 | D12: ='Afval omrekening'!S20 -> 398.68 | E12: ='Afval omrekening'!O20 -> 264 | F12: ='Afval omrekening'!O20 -> 264 | G12: 0 | I12: Afvalstoffenheffing | K12: ='Afval omrekening'!I22 -> 307.9053 | L12: ='Afval omrekening'!S22 -> 392.98667 | M12: ='Afval omrekening'!S22 -> 392.98667 | N12: ='Afval omrekening'!O22 -> 258.30667 | O12: ='Afval omrekening'!O22 -> 258.30667 | P12: 0 | R12: Afvalstoffenheffing | S12: =K12-B12 -> -5.6933288 | T12: =L12-C12 -> -5.6933288 | U12: =M12-D12 -> -5.6933288 | V12: =N12-E12 -> -5.6933288 | W12: =O12-F12 -> -5.6933288 | X12: =P12-G12 -> 0
A13: Rioolheffing | B13: =Riool!C6 -> 201.6 | C13: =Riool!C6 -> 201.6 | D13: =Riool!C6 -> 201.6 | E13: =B13 -> 201.6 | F13: =B13 -> 201.6 | G13: 0 | I13: Rioolheffing | J13: 0 | K13: =(N26-Riool!$J$22)*(1+$J13) -> 240 | L13: =(N26-Riool!$J$22)*(1+$J13) -> 240 | M13: =(N26-Riool!$J$22)*(1+$J13) -> 240 | N13: =(N25-Riool!$J$22)*(1+$J13) -> 120 | O13: =(N25-Riool!$J$22)*(1+$J13) -> 120 | P13: 0 | R13: Rioolheffing | S13: =K13-B13 -> 38.4 | T13: =L13-C13 -> 38.4 | U13: =M13-D13 -> 38.4 | V13: =N13-E13 -> -81.6 | W13: =O13-F13 -> -81.6 | X13: =P13-G13 -> 0 | Z13: =Riool!C33 -> 84 | AA13: =Riool!C32 -> 178
A14: Totale gemeentelijke lasten | B14: =SUM(B8:B9)+B12+B13 -> 1617.9186 | C14: =SUM(C8:C9)+C12+C13 -> 853 | D14: =SUM(D8:D9)+D12+D13 -> 600.28 | E14: =SUM(E8:E9)+E12+E13 -> 718.32 | F14: =SUM(F8:F9)+F12+F13 -> 465.6 | G14: =SUM(G8:G9)+G12+G13 -> 0 | I14: Totale gemeentelijke lasten | K14: =SUM(K8:K9)+K12+K13 -> 1655.7242 | L14: =SUM(L8:L9)+L12+L13 -> 890.80557 | M14: =SUM(M8:M9)+M12+M13 -> 632.98667 | N14: =SUM(N8:N9)+N12+N13 -> 636.12557 | O14: =SUM(O8:O9)+O12+O13 -> 378.30667 | P14: =SUM(P8:P13) -> 0 | R14: Totale gemeentelijke lasten | S14: =SUM(S8:S9)+S12+S13 -> 37.80557 | T14: =SUM(T8:T9)+T12+T13 -> 37.80557 | U14: =SUM(U8:U9)+U12+U13 -> 32.706671 | V14: =SUM(V8:V9)+V12+V13 -> -82.19443 | W14: =SUM(W8:W9)+W12+W13 -> -87.293329 | X14: =SUM(X8:X9)+X12+X13 -> 0
A18: Uitgangspunten begroting 2025 | I18: Aanpassingsmogelijkheden | J18: percentages tussen 0-100% (bij 0% wordt het bedrag niet meegenomen, bij 100% volledig meegenomen) | O18: %OZB tov bedragen begroting 2025 | Z18: OZB obv gemiddelde WOZ waarde Geldrop van € 390.000 en landelijk € 496.126
A19: Afvalstoffenheffig | C19: Rioolheffing | I19: Afvalstoffenheffig | K19: %OZB | L19: Rioolheffing | P19: %OZB | Z19: * Bron: COELO obv 342 gemeenten
A20: Percentage straatreiniging (25%) | B20: 1 | C20: Percentage straatreiniging (37,5%) | E20: 1 | I20: Percentage straatreiniging (25%) | J20: 1 | K20: =IF(J20<>100%,(Afval!O31-Afval!N14)/$B$41,0) -> 0 | L20: Percentage straatreiniging (37,5%) | O20: 1 | P20: =IF(O20<>100%,(100%-O20)*Riool!H21/$B$41,0) -> 0
A21: Zwerfafval vergoeding | B21: Ja | C21: Percentage kwijtschelding | E21: 1 | I21: Zwerfafval vergoeding | J21: Ja | K21: =IF(J21="Nee",-Afval!O32/$B$41,0) -> 0 | L21: Percentage kwijtschelding | O21: 1 | P21: =IF(O21<>100%,(100%-O21)*Riool!H20/$B$41,0) -> 0
A22: Percentage kwijtschelding | B22: 1 | I22: Percentage kwijtschelding | J22: 1 | K22: =(Afval!O37-Afval!$N$16)/$B$41 -> 0.020176079
A23: Alleen vastrecht | B23: Nee | C23: Rioolheffing | I23: Vastrecht met variabele kosten | L23: Aanpassing rioolheffing
A24: Bedrag variabele kosten | B24: 0 | C24: Categorie | E24: Tarief 2025 | F24: Aantal | G24: Inkomsten | I24: Volledige kwijtschelding | L24: Categorie (extra categorie 1a en 1b) | N24: Tarief 2025 | O24: Aantal | P24: Inkomsten
C25: Cat 1: woningen (0-200 m3) | E25: 201.6 | F25: 16399 | G25: =F25*E25 -> 3306038.4 | I25: Alleen vastrecht | L25: Cat 1a: woningen (0-50 m3) | N25: 120 | O25: 6399 | P25: =O25*N25 -> 767880
C26: Cat 2+3: woningen (>200 m3) | E26: 268.8 | F26: =Riool!D7+Riool!D8 -> 1722 | G26: =F26*E26 -> 462873.6 | I26: Vastrecht met variabele kosten | J26: 10 | L26: Cat 1b: woningen (50-200 m3) | N26: 240 | O26: 10000 | P26: =O26*N26 -> 2400000
A27: Extra afval scenario's: | C27: Cat 4: niet woningen (0-200 m3) | E27: 201.6 | F27: 797 | G27: =F27*E27 -> 160675.2 | I27: Extra afval scenario's: | L27: Cat 2+3: woningen (>200 m3)* | N27: =$N$26+67 -> 307 | O27: =Riool!I7+Riool!I8 -> 1722 | P27: =O27*N27 -> 528654
A28: 1.Papierinzameling | B28: 2 weken | C28: Cat 5+6: niet woningen (>200 m3) | E28: 268.8 | F28: =Riool!D10+Riool!D11 -> 1206 | G28: =F28*E28 -> 324172.8 | I28: =Afval_dashboard!U6 -> 1. Oud papier en karton | J28: =Afval_dashboard!V6 -> 1x per vier weken | L28: Cat4: niet woningen (0-200 m3) | N28: =N26 -> 240 | O28: =Riool!I9 -> 797 | P28: =O28*N28 -> 191280
A29: 2.PBD (plastic, Blik en Drinkpakken) | B29: 1 week | C29: Totaal | G29: =SUM(G25:G28) -> 4253760 | I29: =Afval_dashboard!U7 -> 2. PBD (Plastic, Blik en Drankenkartons) | J29: =Afval_dashboard!V7 -> 1x per twee weken + elke week op hotspots | L29: Cat 5+6: niet woningen (>200 m3)* | N29: =$N$26+67 -> 307 | O29: =Riool!I10+Riool!I11 -> 1206 | P29: =O29*N29 -> 370242
A30: 3.Groenbak (GFT container) | B30: Tarief | I30: =Afval_dashboard!U8 -> 3. Luiers en incontinentiemateriaal | J30: =Afval_dashboard!V8 -> centrale ondergrondse containers | L30: Totaal | P30: =SUM(P25:P29) -> 4258056
A31: 4.Container luier en incontinentie | B31: Huidig Renewi | I31: =Afval_dashboard!U9 -> 4. GFT/E-container (Groente-, Fruit-, Tuin- en Etensrestenafval) | J31: =Afval_dashboard!V9 -> tarief verlagen | L31: *Tarief niet woningen is tarief woningen + €67 volgens huidige verhouding
A32: 5.Bladcontainers | B32: Wel plaatsen | I32: =Afval_dashboard!U10 -> 5. Bladkorven | J32: =Afval_dashboard!V10 -> bladkorven
A33: 6.Milieustraat | B33: Betaald | I33: =Afval_dashboard!U11 -> 6. Milieustraat | J33: =Afval_dashboard!V11 -> poorttarieven
I35: TOTAAL % OZB | K35: =SUM($K$20:$K$22)+SUM($P$20:$P$21) -> 0.020176079
A39: Vergelijking baten en lasten 2025 | I39: Vergelijking baten en lasten na aanpassing | R39: Verschil baten en lasten voor en na anpassing
A40: Heffingen | B40: Begroting 2025 | C40: Kosten | D40: Verschil opbrengsten kosten | I40: Heffingen | J40: Opbrengsten na aanpassing | K40: Kosten na aanpassing | L40: Verschil opbrengsten kosten | R40: Heffingen | S40: Verschil Opbrengsten | T40: Verschil kosten
A41: OZB eigen woningen | B41: =OZB!E5 -> 5135081 | C41: 0 | D41: 0 | I41: OZB eigen woningen | J41: =OZB!F5 -> 5238686.8 | K41: 0 | L41: 0 | R41: OZB eigen woningen | S41: =J41-B41 -> 103605.8 | T41: =K41-C41 -> 0
A42: OZB niet woningen | B42: =OZB!E6+OZB!E7 -> 2198038 | C42: 0 | D42: 0 | I42: OZB niet woningen | J42: =OZB!F6+OZB!F7 -> 2198038 | K42: 0 | L42: 0 | R42: OZB niet woningen | S42: =J42-B42 -> 0 | T42: =K42-C42 -> 0
A43: Afvalstoffenheffing | B43: =Afval!J43 -> 6356130.5 | C43: =Afval!G43 -> 6355383.2 | D43: =B43-C43 -> 747.22319 | I43: Afvalstoffenheffing | J43: =Afval_dashboard!N39 -> 5363805 | K43: =Afval_dashboard!Q39 -> 6486447 | L43: =J43-K43 -> -1122642 | R43: Afvalstoffenheffing | S43: =J43-B43 -> -992325.46 | T43: =K43-C43 -> 131063.76
A44: Rioolheffing | B44: =Riool!E12 -> 4253760 | C44: 4252236 | D44: =B44-C44 -> 1524 | I44: Rioolheffing | J44: =Riool!J12 -> 4258056 | K44: =4252236-(100%-O20)*Riool!$H$21-(100%-O21)*Riool!$H$20 -> 4252236 | L44: =J44-K44 -> 5820 | R44: Rioolheffing | S44: =J44-B44 -> 4296 | T44: =K44-C44 -> 0
A45: Totale gemeentelijke lasten | B45: =SUM(B41:B44) -> 17943009 | C45: =SUM(C41:C44) -> 10607619 | D45: =SUM(D41:D44) -> 2271.2232 | I45: Totale gemeentelijke lasten | J45: =SUM(J41:J44) -> 17058586 | K45: =SUM(K41:K44) -> 10738683 | L45: =SUM(L41:L44) -> -1116822 | R45: Totale gemeentelijke lasten | S45: =SUM(S41:S44) -> -884423.66 | T45: =SUM(T41:T44) -> 131063.76
A49: TOELICHTING DASHBOARD
A50: OZB | I50: Rioolheffing | R50: Afvalstoffenheffing
A51: Voor OZB zijn de knoppen J8 en J9 beschikbaar om het percentage | I51: Voor rioolheffing zijn de volgende knoppen beschikbaar: | N51: In de cellen O20 en O21 kan een percentage tussen | R51: Voor afvalstoffenheffing zijn de volgende knoppen beschikbaar
A52: OZB aan te passen | I52: In cel N26 en N26 kunnen de tarieven voor een en meerpersoonshuishoudens worden ingevoerd. | N52: 0% - 100% worden ingegeven voor het toekennen van | R52: In cel J20 kan een percentage tussen 0% - 100% worden ingegeven voor het toekennen van kosten voor straatreiniging.
I53: In cel J13 kan een percentage worden ingegeven waarmee de tarieven in N25 t/m N29 worden verhoogd | N53: kosten voor straatreiniging en kwijtschelding. | R53: Cel J21 is een dropdown waarmee kan worden aangegeven of de zwerfafval vergoeding wordt meergerekend of niet (Ja= wel en Nee-niet).
A54: NB: Percentage aanpassing OZB cel J8 | N54: Bij 0% wordt het bedrag niet meegenomen in de | R54: Het percentage van cel J22 wordt toegepast op de keuze die gemaakt wordt voor kwijtschelding in cel I23.
A55: Cel J8 bevat de optellingen van de verschillende %OZB. | N55: kosten en bij 100% wordt het volledige bedrag | R55: Bij geen keuze wordt het percentage van J21 toegepast op volledige kwijtschelding.
A56: Als cel J8 handmatig wordt aangepast is de formule verdwenen. | N56: meegenomen in de kosten. | R56: Cel I23 bevat een drop down menu voor de volgende opties voor kwijtschelding:
A57: U kunt de formule herstellen door de volgende formule zelf in | R57: - Volledige kwijtschelding
A58: te vullen: J8=K20+K21+K22+P20+P21 | R58: - Alleen vastrecht -> wordt automatisch berekend
A59: Of vul in cel J8 het percentage in van cel K28 | R59: - Bedrag variabele kosten -> vastrecht wordt berekend. Vul J26 met het bedrag
R60: van de variabele kosten dat wordt kwijtgescholden
R61: De aanpassingen worden doorgerekend in het vaste tarief!
A63: Extra scenario's Afvalstoffenheffing
A64: 1. Papierinzameling: Momenteel wordt het oud papier één keer per twee weken ingezameld. Wij zouden graag inzicht krijgen in het financiële effect indien deze frequentie wordt aangepast naar één keer per vier weken.
A65: 2. PBD (Plastic, Blik en Drinkpakken): Voor zeven inzamelpunten wordt het PBD momenteel één keer per week opgehaald. Wat is het financiële effect indien deze punten komen te vervallen en voortaan worden meegenomen in de reguliere planning van één keer per twee weken ophalen? Hierdoor wordt al het PBD 1 keer per 2 weken opgehaald.
A66: De besparing die er ogenschijnlijk is voor afval, zal hoogstwaarschijnlijk resulteren in hogere kosten voor de Buitendienst. Dit is dus een schijnoplossing.
A67: 3. Groenbak (GFT-container): Op dit moment is er een tarief verbonden aan het aanbieden van de GFT-container. Wij ontvangen graag een berekening van het financiële effect indien deze volledig kosteloos wordt aangeboden. Is het nadeel dan alleen het vervallen van de inkomsten of levert dit ook extra kosten op?
A68: 4. Containers voor luiers en incontinentiemateriaal: Wat zijn de financiële consequenties indien we besluiten deze containers te verwijderen en deze afvalstroom niet langer apart in te zamelen?
A69: 5. Bladcontainers: Tijdens bepaalde periodes worden bladcontainers geplaatst. PS wie plaats deze en wat kost dit? Wat zou het financiële effect zijn indien deze containers niet meer geplaatst worden maar dat dan juist groenafval tijdens deze periodes gratis via de groencontainers kan worden aangeboden?
A70: 6. Milieustraat: Tot slot ontvangen wij graag inzicht in de financiële gevolgen van het volledig kosteloos aanbieden van de milieustraat aan onze inwoners. Is het nadeel dan alleen het vervallen van de inkomsten of levert dit ook extra kosten op?

Sheet OZB
C2: OZB bijlage bij dashboard
B4: Belastingsoort | C4: Tarief 2025 verordening OZB | D4: WOZ 2025 | E4: OZB 2025 | F4: OZB 2025 na aanpassing
B5: OZB eigen woningen | C5: 0.000648 | D5: 7.9245077e+09 | E5: =D5*C5 -> 5135081 | F5: =C22 -> 5238686.8
B6: OZB gebruiker niet woningen | C6: 0.001524 | D6: 6.1787336e+08 | E6: =D6*C6 -> 941639 | F6: =K24 -> 941639
B7: OZB eigenaar niet woningen | C7: 0.001876 | D7: 6.6972228e+08 | E7: =D7*C7 -> 1256399 | F7: =K25 -> 1256399
B8: Totaal | D8: =SUM(D5:D7) -> 9.2121034e+09 | E8: =SUM(E5:E7) -> 7333119 | F8: =SUM(F5:F7) -> 7436724.8
B9: OZB opbrengst woning €390.000
F10: 7925000000 | G10: =F10*C5 -> 5135400
B12: OZB eigen woningen | J12: OZB niet woningen
B13: Gemiddelde WOZ 2025 | C13: 390000
B14: Gemiddelde WOZ 2025 in COELO | C14: 496126.54
B15: Tarief 2025 | C15: =C5 -> 0.000648 | J15: Tarief 2025 gebruiker niet woningen | K15: =C6 -> 0.001524
B16: OZB 2025 in COELO | C16: =C5*C14 -> 321.49 | D16: obv € 496.126,54 | J16: Tarief 2025 eigenaar niet woningen | K16: =C7 -> 0.001876
B17: OZB 2025 in COELO | C17: =C15*C13 -> 252.72 | D17: obv gemiddelde WOZ waarde € 390.000
B18: Tariefsaanpassing | C18: =Dashboard!J8 -> 0.020176079
B19: Tarief na aanpassing | C19: =C15*(1+C18) -> 0.0006610741 | J19: Tariefsaanpassing | K19: =Dashboard!J9 -> 0
B20: Voorgesteld OZB bedrag | C20: =C19*C14 -> 327.97641 | D20: obv € 496.126,54 | J20: Tarief na aanpassing gebruiker niet woning | K20: =K15*(1+K19) -> 0.001524
B21: Voorgesteld OZB bedrag | C21: =C19*C13 -> 257.8189 | D21: obv gemiddelde WOZ waarde € 390.000 | J21: Tarief na aanpassing eigenaar niet woning | K21: =K16*(1+K$19) -> 0.001876
B22: OZB eigen woning na aanpassing | C22: =C19*D5 -> 5238686.8
B23: 342 gemeenten
B24: Positie COELO lijst 2025 na aanpassing | C24: =_xlfn.RANK.EQ($C20,'Gegevens per gemeente 2025'!$L$5:$L$346,1) -> 20 | D24: obv € 496.126,54 | J24: OZB gebruiker niet woningeigen na aanpassing | K24: =K20*D6 -> 941639
B25: Positie COELO lijst 2025 | C25: =_xlfn.RANK.EQ($C16,COELO!$L$2:$L$343,1) -> 19 | J25: OZB eigenaar niet woningeigen na aanpassing | K25: =K21*D7 -> 1256399
B27: NB: In het dashboard wordt het bedrag per maatman weergegeven met WOZ waarde van € 390.000
B28: Voor de landelijke lijst wordt he percentage per maatman vermenigvuldigd met een WOZ waarde van € 496.126
B30: Vraag: Betaalt huurder OZB? Klopt het dat dat de eigenaar de OZB betaalt? | J30: Gemiddelde WOZ waarde als voorbeeld | K30: 500000
J31: OZB | K31: =((K30*K15)+(K16*K30))/2 -> 850
J32: OZB na aanpassing | K32: =((K30*K20)+(K30*K21))/2 -> 850
B33: Opmerkingen
B34: Gemiddelde WOZ waarde in COELO is 496.126,54
B35: Gemiddelde WOZ waarde gemeente Geldrop is 390.000
B37: In presentatie is uitgegaan van totale WOZ van 7.215.000.000
B38: Maar volgens het overzicht hiernaast is uitgegaan van WOZ 7.924.507.716

Sheet Riool
D2: Rioolheffing bijlage bij dashboard
B4: Categorie | C4: Tarief 2025 | D4: Aantal | E4: Inkomsten | G4: Categorie | H4: Tarief 2025 na aanpassing | I4: Aantal | J4: Inkomsten na aanpassing | K4: 2025 | L4: Categorie | M4: Tarief 2025 | N4: Aantal | O4: Inkomsten | P4: Tarief 2025 na aanpassing | Q4: Aantal | R4: Inkomsten na aanpassing | X4: De rioolheffing in Geldrop-Mierlo is gebaseerd op de geraamde kosten voor de rioolzorg. In het GRP wordt de hoogte en stijging van de rioolheffing voor de planperiode (5 jaar) geprognotiseerd. Elk jaar stelt de raad de hoogt van de heffing voor het komende begrotingsjaar vast.
E5: =D5*C5 -> 0 | G5: Cat1a: woningen (0-50 m3) | H5: =Dashboard!N13 -> 120 | I5: =Dashboard!O25 -> 6399 | J5: =H5*I5 -> 767880 | K5: 120 | L5: Cat1: woningen (1-50 m3) | M5: 120 | N5: 5000 | O5: =N5*M5 -> 600000 | P5: 126 | Q5: 6399 | R5: =P5*Q5 -> 806274 | X5: De hoogte van de heffing is tot in detail onderbouwd met de te verwachten kosten voor de rioolzorg. Er zit een groot spreadsheet achter wat zich hier niet laat tonen, want te groot.
B6: Cat1: woningen (0-200 m3) | C6: 201.6 | D6: 16399 | E6: =D6*C6 -> 3306038.4 | G6: Cat1b: woningen (50-200 m3) | H6: =Dashboard!L13 -> 240 | I6: =Dashboard!O26 -> 10000 | J6: =H6*I6 -> 2400000 | K6: 240 | L6: Cat1: woningen (50-200 m3) | M6: 240 | N6: =16399-N5 -> 11399 | O6: =N6*M6 -> 2735760 | P6: 250 | Q6: 10000 | R6: =P6*Q6 -> 2500000 | X6: In de bijlage van het GRP zit een tabel waarin de jaarlijkse rioolzorg-kosten zijn samengevat.
B7: Cat2: woningen (200-500 m3) | C7: 268.8 | D7: 1548 | E7: =D7*C7 -> 416102.4 | G7: Cat2: woningen (200-500 m3) | H7: =(Dashboard!N27-Riool!$J$22)*(1+Dashboard!$J$13) -> 307 | I7: 1548 | J7: =H7*I7 -> 475236 | K7: 307 | L7: Cat2: woningen (200-500 m3) | M7: 268.8 | N7: 1548 | O7: =N7*M7 -> 416102.4 | P7: =M7 -> 268.8 | Q7: 1548 | R7: =P7*Q7 -> 416102.4 | X7: Daar staan ook de doorbelastingen in.
B8: Cat3: woningen (> 500 m3) | C8: 268.8 | D8: 174 | E8: =D8*C8 -> 46771.2 | G8: Cat3: woningen (> 500 m3) | H8: =(Dashboard!N27-Riool!$J$22)*(1+Dashboard!$J$13) -> 307 | I8: 174 | J8: =H8*I8 -> 53418 | K8: 307 | L8: Cat3: woningen (> 500 m3) | M8: 268.8 | N8: 174 | O8: =N8*M8 -> 46771.2 | P8: =M8 -> 268.8 | Q8: 174 | R8: =P8*Q8 -> 46771.2 | X8: We hebben doorbelastingen Straatreiniging, Kwijtschelding. Daarnaast de interne kosten voor salaris en overhead.
B9: Cat4: niet-woningen (0-200 m3) | C9: 201.6 | D9: 797 | E9: =D9*C9 -> 160675.2 | G9: Cat4: niet-woningen (0-200 m3) | H9: =(Dashboard!N28-Riool!$J$22)*(1+Dashboard!$J$13) -> 240 | I9: 797 | J9: =H9*I9 -> 191280 | K9: 240 | L9: Cat4: niet-woningen (0-200 m3) | M9: 201.6 | N9: 797 | O9: =N9*M9 -> 160675.2 | P9: 211.7 | Q9: 797 | R9: =P9*Q9 -> 168724.9 | X9: De kwijtschelding is circa 136.000, en de straatreiniging een kleine 360.000 per jaar
B10: Cat5: niet-woningen (200-500 m3) | C10: 268.8 | D10: 108 | E10: =D10*C10 -> 29030.4 | G10: Cat5: niet-woningen (200-500 m3) | H10: =(Dashboard!N29-Riool!$J$22)*(1+Dashboard!$J$13) -> 307 | I10: 108 | J10: =H10*I10 -> 33156 | K10: 307 | L10: Cat1: niet-woningen (200-500 m3) | M10: 268.8 | N10: 108 | O10: =N10*M10 -> 29030.4 | P10: =M10 -> 268.8 | Q10: 108 | R10: =P10*Q10 -> 29030.4
B11: Cat6: niet-woningen (> 500 m3) | C11: 268.8 | D11: 1098 | E11: =D11*C11 -> 295142.4 | G11: Cat6: niet-woningen (> 500 m3) | H11: =(H10-Riool!$J$22)*(1+Dashboard!$J$13) -> 307 | I11: 1098 | J11: =H11*I11 -> 337086 | K11: 307 | L11: Cat6: niet-woningen (> 500 m3) | M11: 268.8 | N11: 1098 | O11: =N11*M11 -> 295142.4 | P11: =M11 -> 268.8 | Q11: 1098 | R11: =P11*Q11 -> 295142.4 | X11: In het tweede scenario wordt de tariefcategorie bekeken.
B12: Totaal | E12: =SUM(E5:E11) -> 4253760 | G12: Totaal | I12: =SUM(I5:I11) -> 20124 | J12: =SUM(J5:J11) -> 4258056 | L12: Totaal | O12: =SUM(O5:O11) -> 4283481.6 | R12: =SUM(R5:R11) -> 4262045.3 | X12: Uitgangspunten
X13: ·De laagste tariefcategorie wordt gesplitst in een groep tot 100 m3 watergebruik en een groep tot 200 m3 watergebruik.
X14: ·Verondersteld wordt dat alleen de eenpersoonshuishoudens in de (nieuwe) eerste categorie vallen.
B15: Doorbelasting naar riolering | X15: ·De totale inkomsten blijven gelijk.
B16: Kwijtschelding | C16: 136000 | E16: opmerkingen riool | AE16: 16000 | AF16: =AE16/2.2 -> 7272.7273 | AG16: =0.3*AE16 -> 4800
B17: Straatreiniging | C17: 352195 | X17: Volgens opgaaf BSOB zijn er 16.000 heffingsplichtige adressen. Daarvan is 30% een- of twee- persoonshuishouden.
B18: Straatreiniging salaris | C18: 9137 | X18: Resultaat
B19: Watertaken | C19: 264872 | G19: Kosten | X19: Het tarief van de categorie 1a halveert ten opzichte van de huidige situatie.
B20: Totaal | C20: =SUM(C16:C19) -> 762204 | G20: Kwijtschelding | H20: 136000 | I20: =Dashboard!O20 -> 1 | J20: =(H20*(100%-I20))/I12 -> 0 | X20: Het tarief van de tweede categorie 1b (tot 200m3) stijgt met ongeveer 25% ten opzichte van de huidige situatie.
G21: Straatreiniging | H21: =352195+9137 -> 361332 | I21: =Dashboard!O21 -> 1 | J21: =(H21*(100%-I21))/I12 -> 0
B22: Salariskosten riolering | C22: 337792 | J22: =SUM(J20:J21) -> 0 | W22: Volgens opgaaf BSOB zijn er 16.000 heffingsplichtige adressen. Daarvan is 30% een- of twee- persoonshuishouden.
B23: Automatiseringskosten riolering | C23: 18552 | W23: Resultaat
B24: Overhead riolering | C24: 296108 | D24: algemene kosten % | W24: Het tarief van de categorie 1a halveert ten opzichte van de huidige situatie.
B25: Totaal | C25: =SUM(C22:C24) -> 652452 | W25: Het tarief van de tweede categorie 1b (tot 200m3) stijgt met ongeveer 25% ten opzichte van de huidige situatie.
C26: =C25+C20 -> 1414656
W27: Mogelijkheid inbouwen bij riool dat we kiezen voor een verschil tussen een en meerpersoons huishoudens. verdeling van het huidige tarief zodat de totaalopbrengst gelijk blijft.
B28: OZB 2025 COELO | C28: 201.6 | W28: Waterverbruik vaststellen op tarief 0-75 m3 waterverbruik. En > 75m3 dit betekent
B29: Tariefsaanpassing | C29: =Dashboard!I13 -> Rioolheffing | W29: verdeling huidige tarief zodat totaal opbrengst gelijk blijft
B30: Tarief na aanpassing | C30: =H6 -> 240
B31: 342 gemeenten
B32: Positie COELO lijst na aanpassing | C32: =_xlfn.RANK.EQ($C30,'Gegevens per gemeente 2025'!$U$5:$U$346,1) -> 178
B33: Positie COELO lijst | C33: =_xlfn.RANK.EQ($C28,COELO!$U$2:$U$343,1) -> 84
C36: 6399
C37: 10000

Sheet Afval
B3: opmerkingen bij afval
F4: BEGROTING 2025 | M4: AANPASSING BEGROTING 2025
F5: Kosten | G5: EUR | I5: Baten | M5: Kosten | N5: EUR | P5: Baten
B6: 2025 | F6: Afvalinzameling (Cure) | G6: 2971879 | H6: =G6/$G$25 -> 0.61782726 | M6: Afvalinzameling (Cure) | N6: 2971879
B7: Vastrecht | C7: 222.3
B8: Variabel | C8: 185 | F8: Milieustraat (Cure) | G8: 1253362 | H8: =(G8-J8)/$G$25 -> 0.20339278 | I8: Tarieven milieustraat | J8: 275000 | K8: 0 | M8: Milieustraat (Cure) | N8: 1253362 | P8: Tarieven milieustraat | Q8: 275000
B9: Totaal | C9: =SUM(C7:C8) -> 407.3
B10: Tariefsaanpassing | C10: 0 | F10: Taakveld Afval | G10: 109300 | H10: =G10/$G$25 -> 0.0227225 | I10: Afvalstoffenheffing (vastrecht) incl. reinigingsrecht | J10: 4068268.8 | K10: =J10/J25 -> 0.68722991 | M10: Taakveld Afval | N10: 109300 | P10: Afvalstoffenheffing (vastrecht) incl. reinigingsrecht | Q10: =R10+0*4068268.77 -> 4068268.8 | R10: 4068268.8
B11: Vastrecht na aanpassing | C11: =C7*(1+C10) -> 222.3
B12: Variabel na aanpassing | C12: =C8*(1+C10) -> 185 | F12: Bijzet | G12: 94000 | H12: =G12/$G$25 -> 0.019541765 | I12: Afvalstoffenheffing (variabel) | J12: 1851538.7 | K12: =J12/J25 -> 0.31277009 | M12: Bijzet | N12: 94000 | P12: Afvalstoffenheffing (variabel) | Q12: 1851538.7
B13: Totaal na aanpassing | C13: =SUM(C11:C12) -> 407.3
B14: 342 gemeenten | F14: Straatreiniging | G14: 222774 | H14: =(G14-J14)/$G$25 -> 0.012775117 | I14: Zwerfafval-vergoedingen | J14: 161323 | K14: 0 | M14: Straatreiniging | N14: =222774*N31 -> 222774 | P14: Zwerfafval-vergoedingen | Q14: =161323*IF(N32="Ja",1,0) -> 161323
B15: Positie COELO lijst na aanpassing | C15: =_xlfn.RANK.EQ($C13,'Gegevens per gemeente 2025'!$P$5:$P$346,1) -> 274
B16: Positie COELO lijst | C16: =_xlfn.RANK.EQ($C9,COELO!$P$2:$P$343,1) -> 272 | F16: Kwijtschelding | G16: 185612 | H16: =G16/$G$25 -> 0.038587087 | M16: Kwijtschelding | N16: =IF(M36=M38,O37-((C7*C17)*N33),IF(M36=M37,O37-((C17*C9)*N33),IF(M36=M39,O37-(((C11*C17)+(C17*N39))*N33),N33*O37))) -> 82006.2
B17: Aantal gezinnen volgens 100% norm | C17: 446
B18: Aantal huisdhoudens | C18: 18329 | F18: Salariskosten | G18: 186003 | H18: =G18/$G$25 -> 0.038668372 | M18: Salariskosten | N18: =186003 -> 186003
F20: Overheadkosten | G20: 153204 | H20: =G20/$G$25 -> 0.031849751 | M20: Overheadkosten | N20: =153204 -> 153204
F22: Kapitaallasten | G22: 70399.23 | H22: =G22/$G$25 -> 0.014635375 | M22: Kapitaallasten | N22: 70399.23
F24: Totaal kosten | G24: =SUM(G6:G22) -> 5246533.2 | I24: Totaal baten | J24: =SUM(J8:J14) -> 6356130.5 | K24: =SUM(K8:K14) -> 1 | M24: Totaal kosten | N24: =SUM(N6:N22) -> 5142927.4 | P24: Totaal baten | Q24: =SUM(Q8:Q14) -> 6356130.5
F25: Kosten ter verrekening door Afvalstoffenheffing | G25: =G24-J8-J14 -> 4810210.2 | H25: =SUM(H6:H22) -> 1 | I25: Baten uit Afvalstoffenheffing | J25: =SUM(J10:J12) -> 5919807.5 | K25: =J25-J27 -> 4810957.5 | M25: Kosten ter verrekening door Afvalstoffenheffing | N25: =N24-Q8-Q14 -> 4706604.4 | P25: Baten uit Afvalstoffenheffing | Q25: =SUM(Q10:Q12) -> 5919807.5
F26: Check uit B2025 | G26: 4810210.2 | I26: Check verschil kosten - baten Afvalstoffenheffing | J26: =J25-G25 -> 1109597.2 | M26: Check uit B2025 | N26: 4810210.2 | P26: Check verschil kosten - baten Afvalstoffenheffing | Q26: =Q25-N25 -> 1213203
F27: Verschil | G27: =G25-G26 -> 0 | I27: BTW | J27: 1108850 | M27: Verschil | N27: =N25-N26 -> -103605.8 | P27: BTW | Q27: 1108850
I28: Resterend verschil | J28: =J26-J27 -> 747.22319 | P28: Resterend verschil | Q28: =Q26-Q27 -> 104353.02
B30: VARIABEL TARIEF NIET VERANDEREN! | F30: BEGROTING 2025 | M30: AANPASSING BEGROTING 2025 | P30: Tariefverlaging vastrecht | Q30: =IF(Q28>0,Q28/C18,0) -> 5.6933288
F31: Percentage Straatreiniging | G31: 1 | M31: Percentage Straatreiniging | N31: =Dashboard!J20 -> 1 | O31: 222774
F32: Zwerfafval vergoeding | G32: Ja | M32: Zwerfafval vergoeding | N32: =Dashboard!J21 -> Ja | O32: 161323
F33: Salariskosten | G33: 1 | M33: Percentage kwijtschelding | N33: =Dashboard!J22 -> 1
F34: Overhead kosten | G34: 1
F35: Kwijtschelding | M35: Kwijtschelding
F36: Percentage kwijtschelding | G36: 1 | M36: =Dashboard!I23 -> Vastrecht met variabele kosten
F37: Alleen vastrecht | G37: Nee | M37: Volledige kwijtschelding | O37: =185612 -> 185612
F38: Vast recht + €90 vaste kosten | G38: 0 | M38: Alleen vastrecht | N38: =(C7*C17)*N33 -> 99145.8
F39: Geen kwijtschelding | G39: 0 | H39: 90 | M39: =Dashboard!I26 -> Vastrecht met variabele kosten | N39: =Dashboard!J26 -> 10
N41: =N24+Q27-SUM(N47:N52) -> 4444133.1 | Q41: =Q24 -> 6356130.5
G43: =G24+J27 -> 6355383.2 | J43: =J24 -> 6356130.5
M46: Besparing | P46: Dashboard
F47: 1.Papierinzameling | G47: 2 weken | I47: =SUM('Afval aanvulling'!E14) -> 307359 | M47: 1.Papierinzameling | N47: =IF(P47=G47,0,Q47) -> 33000 | P47: =Dashboard!J28 -> 1x per vier weken | Q47: 33000
F48: 2.PBD (plastic, Blik en Drinkpakken) | G48: 1 week | I48: =SUM('Afval aanvulling'!E17:E22) -> 106972 | M48: 2.PBD (plastic, Blik en Drinkpakken) | N48: =IF(P48=G48,0,Q48) -> 125000 | P48: =Dashboard!J29 -> 1x per twee weken + elke week op hotspots | Q48: 125000
F49: 3.Groenbak (GFT container) | G49: Tarief | I49: ='Afval aanvulling'!E34-'Afval aanvulling'!E28 -> 504580 | M49: 3.Groenbak (GFT container) | N49: =IF(P49=G49,0,Q49) -> 399644.3 | P49: =Dashboard!J30 -> centrale ondergrondse containers | Q49: 399644.3
F50: 4.Container luier en incontinentie | G50: Inzamelen | I50: ='Afval aanvulling'!E44+'Afval aanvulling'!E49 -> 88997 | M50: 4.Container luier en incontinentie | N50: =IF(P50=P55,Q55,IF(P50=P56,Q56,IF(P50=P57,Q57,IF(P50=P58,Q58,IF(P50=P59,Q59,0))))) -> 0 | P50: =Dashboard!J31 -> tarief verlagen | Q50: =IF(S50=S55,T55,IF(S50=S56,T56,IF(S50=S57,T57,IF(S50=S58,T58,IF(S50=S59,T59,0))))) -> 0
F51: 5.Bladcontainers | G51: Wel plaatsen | I51: ='Afval aanvulling'!E28 -> 12032 | M51: 5.Bladcontainers | N51: =IF(P51=G51,0,Q51) -> nog niet bekend | P51: =Dashboard!J32 -> bladkorven | Q51: nog niet bekend
F52: 6.Milieustraat | G52: Betaald | I52: ='Afval aanvulling'!E86-'Afval aanvulling'!E91 -> 1338685 | M52: 6.Milieustraat | N52: =IF(P52=G52,0,Q52) -> 1250000 | P52: =Dashboard!J33 -> poorttarieven | Q52: 1250000
P54: Container luier en incontinentie
P55: Huidig Renewi | Q55: 0
N56: =222*446 -> 99012 | O56: =O31-O32 -> 61451 | P56: Cure 4 loc + geen luierzak | Q56: =90000-41821+15000 -> 63179
N57: =O37-N56 -> 86600 | P57: Cure 4 locaties | Q57: =90000-41821 -> 48179
P58: Luierzak afschaffen | Q58: 15000
P59: Inzam. afschaffen | Q59: =90000+15000 -> 105000
N60: =N16/Dashboard!B41 -> 0.015969797
N62: =O37 -> 185612 | O62: 185612 | P62: 185612 | Q62: =O31-N14 -> 0
N63: =C11*C17 -> 99145.8 | O63: =C9*C17 -> 181655.8
F64: Frequentie 1x per vier weken | N64: =0.5*N63 -> 49572.9
F65: à Besparing van €33.000 (d.d. september 2024) | N65: =N62-N64 -> 136039.1

Sheet Afval aanvulling
B3: indexatie | C3: BTW | D3: Omschrijving | E3: 2025
B5: Papier | D5: Papier
B6: Materiele kostenindex | C6: BTW ja exp | D6: Personeelskosten papier | E6: 296813
B7: Materiele kostenindex | C7: BTW ja exp | D7: Tractiekosten papier | E7: 148210
B8: Materiele kostenindex | C8: BTW ja exp | D8: Inzamelmiddelen papier | E8: 4336
B9: Materiele kostenindex | C9: BTW ja exp | D9: Overige directe kosten papier | E9: 0
B10: Materiele kostenindex | C10: BTW ja exp | D10: Diensten derden papier | E10: 0
B11: Materiele kostenindex | C11: BTW nee | D11: Papierinzameling - vergoeding | E11: 0
B12: Geen index | C12: BTW nee | D12: Opbrengst papier | E12: -138000
B13: Geen index | C13: BTW nee | D13: Opbrengst papier | E13: -4000
B14: Totaal | E14: =SUM(E6:E13) -> 307359
B16: PMD | D16: PMD
B17: Materiele kostenindex | C17: BTW ja exp | D17: Personeelskosten PMD | E17: 231260
B18: Materiele kostenindex | C18: BTW ja exp | D18: Tractiekosten PMD | E18: 111654
B19: Materiele kostenindex | C19: BTW ja exp | D19: Kosten inzameling PMD | E19: 125058
B20: Materiele kostenindex | C20: BTW ja exp | D20: Overige directe kosten PMD | E20: 0
B21: Materiele kostenindex | C21: BTW nee | D21: Diensten derden PMD | E21: 0
B22: Geen index | C22: BTW nee | D22: Inzamelvergoeding Nedvang | E22: -361000
B23: Totaal | E23: =SUM(E17:E22) -> 106972
B25: GFT | D25: GFT
B26: Materiele kostenindex | C26: BTW ja exp | D26: Personeelskosten GFT 25% vast | E26: 114422
B27: Materiele kostenindex | C27: BTW ja exp | D27: Tractiekosten GFT 25% vast | E27: 100158
B28: Materiele kostenindex | C28: BTW ja exp | D28: Inzamelmiddelen GFT 100% vast | E28: 12032
B29: Materiele kostenindex | C29: BTW ja exp | D29: Verwerking GFT 0% vast | E29: 216000
B30: Materiele kostenindex | C30: BTW nee | D30: Verbrandingsbelasting GFT 0% vast | E30: 6000
B31: Materiele kostenindex | C31: BTW ja exp | D31: Transport GFT 0% vast | E31: 35000
B32: Materiele kostenindex | C32: BTW ja exp | D32: Op- en Overslagkosten GFT (0% vast) | E32: 28000
B33: Materiele kostenindex | C33: BTW ja exp | D33: Diensten derden GFT (0% vast) | E33: 5000
B34: Totaal | E34: =SUM(E26:E33) -> 516612
B36: Overige kosten afval | D36: Overige kosten afval
B37: Materiele kostenindex | C37: BTW ja exp | D37: Voorlichtingskosten | E37: 10000
B38: Materiele kostenindex | C38: BTW ja exp | D38: Personeelskosten Grof HHA | E38: 2283
B39: Materiele kostenindex | C39: BTW ja exp | D39: Tractiekosten Grof HHA | E39: 0
B40: Materiele kostenindex | C40: BTW ja exp | D40: Kringloopbedrijvigheid | E40: 54000
B41: Materiele kostenindex | C41: BTW ja exp | D41: Containerbeheer | E41: 79646
B42: Materiele kostenindex | C42: BTW ja exp | D42: Klantenservice | E42: 39780
B43: Materiele kostenindex | C43: BTW ja exp | D43: Extra opdrachten | E43: 7871
A44: 4 | B44: Materiele kostenindex | C44: BTW ja exp | D44: Diensten derden luiers | E44: 88385
B45: Materiele kostenindex | C45: BTW ja exp | D45: Inzameling kerstbomen | E45: 5000
B46: Materiele kostenindex | C46: BTW ja exp | D46: Initiatieven zwerfafval | E46: 17500
B47: Materiele kostenindex | C47: BTW ja exp | D47: Vergoeding IVN | E47: 6800
B48: Materiele kostenindex | C48: BTW ja exp | D48: Ondersteuning particuliere initiatieven | E48: 500
A49: 4 | B49: Materiele kostenindex | C49: BTW nee | D49: Incontinentie vrijstelling | E49: 612
B50: Materiele kostenindex | C50: BTW ja exp | D50: Personeelskosten indirect | E50: 521788
B51: Materiele kostenindex | C51: BTW ja exp | D51: Kapitaallasten indirect | E51: 106846
B52: Materiele kostenindex | C52: BTW ja exp | D52: Huisvestingskosten indirect | E52: 131276
B53: Materiele kostenindex | C53: BTW ja exp | D53: Advieskosten indirect | E53: 30812
B54: Materiele kostenindex | C54: BTW ja exp | D54: Algemene kosten indirect | E54: 135370
B55: Materiele kostenindex | C55: BTW ja exp | D55: Projectkosten indirect | E55: 106759
B56: Materiele kostenindex | C56: BTW ja exp | D56: Onvoorzien | E56: 64773
B57: Materiele kostenindex | C57: BTW ja exp | D57: Vennootschapsbelasting | E57: 758
B58: Materiele kostenindex | C58: BTW ja exp | D58: Overige kosten afval | E58: 0
B59: Geen index | C59: BTW nee | D59: Ophalen grof huishoudelijk afval | E59: -2000
B60: Materiele kostenindex | C60: BTW nee | D60: Omzet buiten de begroting om | E60: -24724
B61: Geen index | C61: BTW nee | D61: Vergoeding Nedvang zwerfafval
B62: Totaal | E62: =SUM(E37:E61) -> 1384035
B65: Milieustraat | D65: Milieustraat
B66: Materiele kostenindex | C66: BTW ja exp | D66: Personeelskosten milieustraat | E66: 724953
B67: Materiele kostenindex | C67: BTW ja exp | D67: Tractiekosten milieustraat | E67: 91910
B68: Materiele kostenindex | C68: BTW ja exp | D68: Inzamelmiddelen milieustraat | E68: 34971
B69: Materiele kostenindex | C69: BTW ja exp | D69: Verwerking milieustraat | E69: 361000
B70: Materiele kostenindex | C70: BTW nee | D70: Verbrandingsbelasting milieustraat | E70: 56000
B71: Materiele kostenindex | C71: BTW ja exp | D71: Transport milieustraat | E71: 51000
B72: Materiele kostenindex | C72: BTW ja exp | D72: Op- en overslag milieustraat | E72: 11000
B73: Materiele kostenindex | C73: BTW ja exp | D73: Sortering milieustraat | E73: 4000
B74: Materiele kostenindex | C74: BTW ja exp | D74: Diensten Derden milieustraat | E74: -14800
B75: Materiele kostenindex | C75: BTW ja exp | D75: Huisvesting milieustraat | E75: 251008
B76: Materiele kostenindex | C76: BTW ja exp | D76: Verrekening demontagehal EHV/VLK | E76: -82971
B77: Materiele kostenindex | C77: BTW ja exp | D77: Overige directe kosten milieustraat | E77: 14380
... B85: Geen index | C85: BTW nee | D85: prullenbakkenregeling | E85: -38300
B86: Totaal | E86: =SUM(E64:E85) -> 1086612
B88: Gebruik milieustraat gemeente Heeze-Leende | D88: Gebruik milieustraat gemeente Heeze-Leende
B89: Materiele kostenindex | C89: BTW nee | D89: Bijdrage gemeente Heeze-Leende (over kosten Milieustraat) | E89: -225000
B90: Geen index | C90: BTW nee | D90: Bijdrage gemeente Heeze-Leende (over kapitaallasten Milieustraat) | E90: -27072.989
B91: Totaal | E91: =SUM(E89:E90) -> -252072.99

Sheet Afval_dashboard
B3: opmerkingen bij afval | F3: DASHBOARD AFVALSTOFFEN
F4: BEGROTING 2025 | U4: DASHBOARD
B5: 2025 | F5: Kosten | G5: EUR | I5: Baten | M5: Kosten | N5: EUR | P5: Baten | Q5: EUR | Y5: Huidig | Z5: Dashboard | AA5: Kosten | AC5: Inkomsten
B6: Vastrecht | C6: 222.3 | F6: Afvalinzameling (Cure) | G6: 2971879 | H6: =G6/$G$20 -> 0.64262426 | M6: Afvalinzameling (Cure) | N6: 3258686 | U6: =X6 -> 1. Oud papier en karton | V6: 1x per vier weken | X6: 1. Oud papier en karton | Y6: 1x per twee weken | Z6: =Y6 -> 1x per twee weken | AA6: 0 | AC6: 0
B7: Variabel | C7: 185 | F7: Milieustraat (Cure) | G7: 1253362 | H7: =(G7-J7)/$G$20 -> 0.21155611 | I7: Tarieven milieustraat | J7: 275000 | M7: Milieustraat (Cure) | N7: 1143567 | P7: Tarieven milieustraat | Q7: 275000 | U7: =X8 -> 2. PBD (Plastic, Blik en Drankenkartons) | V7: 1x per twee weken + elke week op hotspots | Z7: 1x per vier weken | AA7: -33000 | AC7: 0 | AE7: Besparing, minder kosten | AG7: Mail YB 06052025: Als frequentie naar 1x per 4 weken dan besparing van €33.000
B8: Totaal | C8: =SUM(C6:C7) -> 407.3 | U8: =X11 -> 3. Luiers en incontinentiemateriaal | V8: centrale ondergrondse containers | X8: 2. PBD (Plastic, Blik en Drankenkartons) | Y8: 1x per twee weken + elke week op hotspots | Z8: =Y8 -> 1x per twee weken + elke week op hotspots | AA8: 0 | AC8: 0 | AE8: -
B9: Tariefsaanpassing | C9: 0 | F9: Taakveld Afval | G9: 109300 | H9: =G9/$G$20 -> 0.023634485 | I9: Afvalstoffenheffing (vastrecht) incl. reinigingsrecht | J9: 4068268.8 | M9: Taakveld Afval | N9: 127500 | P9: Afvalstoffenheffing (vastrecht) incl. reinigingsrecht | Q9: 4166762 | U9: =X16 -> 4. GFT/E-container (Groente-, Fruit-, Tuin- en Etensrestenafval) | V9: tarief verlagen | Z9: 1x per twee weken | AA9: -75000 | AC9: 0 | AE9: Besparing, minder kosten | AG9: Mail YB 06052025: Als frequentie naar 1x per 2 weken dan besparing van € 125.000
B10: Vastrecht na aanpassing | C10: =C6*(1+C9) -> 222.3 | F10: Bijzet | G10: 94000 | H10: =G10/$G$20 -> 0.02032609 | I10: Afvalstoffenheffing (variabel) | J10: 1851538.7 | M10: Bijzet | N10: 82211 | P10: Afvalstoffenheffing (variabel) | Q10: 1904453 | U10: =X19 -> 5. Bladkorven | V10: bladkorven | Z10: Deelvoorziening met toegangscontrole | AG10: Mail YB 22072025: Kosten worden nog doorgerekend.
B11: Variabel na aanpassing | C11: =C7*(1+C9) -> 185 | U11: =X22 -> 6. Milieustraat | V11: poorttarieven | X11: 3. Luiers en incontinentiemateriaal | Y11: kinderdagverblijven | Z11: =Y11 -> kinderdagverblijven | AA11: 0 | AC11: 0 | AE11: -
B12: Totaal na aanpassing | C12: =SUM(C10:C11) -> 407.3 | F12: Straatreiniging | G12: 222774 | H12: =(G12-J12)/$G$20 -> 0.013287857 | I12: Zwerfafval-vergoedingen | J12: 161323 | M12: Straatreiniging | N12: =AA44 -> 263989 | P12: Zwerfafval-vergoedingen | Q12: 140232 | Z12: centrale ondergrondse containers + luierzakken afschaffen | AA12: =-(90000-42000+15000) -> -63000 | AC12: 0 | AE12: Besparing, minder kosten | AG12: Mail YB 13052025: Cure 4 locaties en luierzakken afschaffen betekent een besparing, vermindering van de kosten € 41.821+€ 15.000
M13: Kwijtschelding | N13: 160000 | Z13: centrale ondergrondse containers | AA13: =-(90000-42000) -> -48000 | AC13: 0 | AE13: Besparing, minder kosten | AG13: Mail YB 06052025: Inzameling op 4 locaties ondergronds Cure+milieustraat betekent een besparing, vermindering van de kosten € 41.821
B14: Positie COELO lijst na aanpassing | C14: =_xlfn.RANK.EQ($C12,'Gegevens per gemeente 2025'!$P$5:$P$346,1) -> 274 | Z14: luierzakken afschaffen | AA14: -15000 | AC14: 0 | AE14: Besparing, minder kosten | AG14: Mail YB 06052025: Afschaffen luierzakken betekent een besparing, vermindering van de kosten € 15.000
B15: Positie COELO lijst | C15: =_xlfn.RANK.EQ($C8,COELO!$P$2:$P$343,1) -> 272 | F15: Salariskosten | G15: 186003 | H15: =G15/$G$20 -> 0.040220359 | M15: Salariskosten | N15: 180653 | Z15: inzameling afschaffen | AA15: =-(85000+15000) -> -100000 | AC15: 0 | AE15: Besparing, minder kosten | AG15: Mail YB 13052025: Als de inzameling wordt afgeschaft dan betekent dit een besparing, vermindering van de kosten met € 90.000+€ 15.000
B16: Aantal gezinnen volgens 100% norm | C16: 446 | F16: Overheadkosten | G16: 153204 | H16: =G16/$G$20 -> 0.033128067 | M16: Overheadkosten | N16: 153627 | X16: 4. GFT/E-container (Groente-, Fruit-, Tuin- en Etensrestenafval) | Y16: huidig tarief per lediging | Z16: =Y16 -> huidig tarief per lediging | AA16: 0 | AC16: 0
B17: Aantal huisdhoudens | C17: 18329 | F17: Kapitaallasten | G17: 70399.23 | H17: =G17/$G$20 -> 0.015222777 | M17: Kapitaallasten | N17: 74572 | Z17: tarief afschaffen | AA17: 0 | AC17: 0 | AE17: Minder inkomsten | AG17: Mail YB 16052025: Als GFT kosteloos wordt dan betekent dit een vermidering van de inkomsten met € 399.644
Z18: tarief verlagen | AA18: 0 | AC18: 0 | AE18: Minder inkomsten | AG18: Mail YB 22072025: Kosten worden nog doorgerekend.
F19: Totaal kosten | G19: =SUM(G6:G17) -> 5060921.2 | I19: Totaal baten | J19: =SUM(J7:J12) -> 6356130.5 | M19: Totaal kosten | N19: =SUM(N6:N17) -> 5444805 | P19: Totaal baten | Q19: =SUM(Q7:Q12) -> 6486447 | X19: 5. Bladkorven | Y19: bladkorven | Z19: =Y19 -> bladkorven | AA19: 0 | AC19: 0 | AE19: -
F20: Kosten ter verrekening door Afvalstoffenheffing | G20: =G19-J7-J12 -> 4624598.2 | H20: =SUM(H6:H17) -> 1 | I20: Baten uit Afvalstoffenheffing | J20: =SUM(J9:J10) -> 5919807.5 | M20: Kosten tbv Afvalstoffenheffing | N20: =N19-Q7-Q12 -> 5029573 | P20: Baten uit Afvalstoffenheffing | Q20: =SUM(Q9:Q10) -> 6071215 | Z20: 10 weken gratis GFT/E | AA20: 42000 | AC20: -50000 | AE20: Meer kosten en minder inkomsten | AG20: Mail YB 10062025: 10 weken gratis is minder kosten € 72.000 en minder inkomsten € 115.000
F21: Check uit B2025 | G21: 4810210.2 | I21: Check verschil kosten - baten Afvalstoffenheffing | J21: =J20-G20 -> 1295209.2 | M21: Check uit B2025 | N21: 4810210.2 | P21: Check verschil kosten - baten Afvalstoffenheffing | Q21: =Q20-N20 -> 1041642 | Z21: GFT/E tarief afschaffen | AA21: 0 | AC21: 60000 | AE21: Meer inkomsten | AG21: Mail YB 10062025: zie groenbak
F22: Verschil | G22: =G20-G21 -> -185612 | I22: BTW | J22: 1108850 | M22: Verschil | N22: =N20-N21 -> 219362.76 | P22: BTW | Q22: =V37 -> 1112994 | X22: 6. Milieustraat | Y22: poorttarieven | Z22: =Y22 -> poorttarieven | AA22: 0 | AC22: 0
I23: Resterend verschil | J23: =J21-J22 -> 186359.22 | P23: Resterend verschil | Q23: =Q21-V37 -> -71352 | Z23: gratis toegang | AA23: 0 | AC23: =-Q7 -> -275000 | AE23: Minder inkomsten | AG23: YB: Als de milieustraat kosteloos wordt dan betekent dit een vermidering van de inkomsten met € 275.000
F24: BEGROTING 2025 | Z24: eerste [X] x gratis | AA24: 0 | AC24: -266500 | AE24: Minder inkomsten | AG24: Mail YB 22072025: vermindering van de inkomsten met € 266.500
F25: Percentage Straatreiniging | G25: 1 | M25: SCENARIO'S DASHBOARD | N25: Kosten | Q25: Baten | Z25: GRIP-wagen | AA25: 0 | AC25: 0 | AG25: Mail YB 22072025: Kosten worden nog doorgerekend.
F26: Zwerfafval vergoeding | G26: Ja | M26: Percentage Straatreiniging | N26: =-(1-V44)*AA44 -> 0 | Q26: =AC44 -> 0
F27: Salariskosten | G27: 1 | M27: Zwerfafval vergoeding | N27: =AA45 -> 0 | Q27: =AC45-AC45*IF(V45="Ja",1,0) -> 0
F28: Overhead kosten | G28: 1 | M28: Percentage kwijtschelding | N28: 0 | Q28: =AC46 -> 0
B29: VARIABEL TARIEF NIET VERANDEREN! | F29: Kwijtschelding
F30: Percentage kwijtschelding | G30: 1 | M30: SCENARIO'S AFVALSTOFFENHEFFING
F31: Alleen vastrecht | G31: Nee | M31: =U6 -> 1. Oud papier en karton | N31: {=_xlfn.IFS($V$6=$Z$6,AA$6,$V$6=$Z$7,AA$7)} -> -33000 | Q31: {=_xlfn.IFS($V$6=$Z$6,AC$6,$V$6=$Z$7,AC$7)} -> 0 | U31: TARIEF | V31: Aantal aansluitingen | X31: Tarief | Y31: Tarief 2025 | Z31: Verschil | AA31: Opbrengsten | AC31: Verdeling % | AE31: Verdeling 2025 %
F32: Vast recht + €90 vaste kosten | G32: 0 | M32: =U7 -> 2. PBD (Plastic, Blik en Drankenkartons) | N32: {=_xlfn.IFS($V$7=$Z$8,AA$8,$V$7=$Z$9,AA$9,$V$7=$Z$10,AA$10)} -> 0 | Q32: {=_xlfn.IFS($V$7=$Z$8,AC$8,$V$7=$Z$9,AC$9,$V$7=$Z$10,AC$10)} -> 0 | U32: Vast | V32: =V39 -> 18329 | X32: =AA32/V32 -> 226.20502 | Y32: 222 | Z32: =X32-Y32 -> 4.2050209 | AA32: =AA34*(AC32/100) -> 4146111.8 | AC32: 68.4 | AE32: 68
F33: Geen kwijtschelding | G33: 0 | M33: =U8 -> 3. Luiers en incontinentiemateriaal | N33: {=_xlfn.IFS($V$8=$Z$11,AA$11,$V$8=$Z$12,AA$12,$V$8=$Z$13,AA$13,$V$8=$Z$14,AA$14,$V$8=$Z$15,AA$15)} -> -48000 | Q33: {=_xlfn.IFS($V$8=$Z$11,AC$11,$V$8=$Z$12,AC$12,$V$8=$Z$13,AC$13,$V$8=$Z$14,AC$14,$V$8=$Z$15,AC$15)} -> 0 | U33: Variabel | V33: =V39 -> 18329 | X33: =AA33/V33 -> 104.50407 | Y33: 103 | Z33: =X33-Y33 -> 1.504074 | AA33: =AA34*(AC33/100) -> 1915455.2 | AC33: 31.6 | AE33: 32
H34: 90 | M34: =X16 -> 4. GFT/E-container (Groente-, Fruit-, Tuin- en Etensrestenafval) | N34: {=_xlfn.IFS($V$9=$Z$16,AA$16,$V$9=$Z$17,AA$17,$V$9=$Z$18,AA$18)} -> 0 | Q34: {=_xlfn.IFS($V$9=$Z$16,AC$16,$V$9=$Z$17,AC$17,$V$9=$Z$18,AC$18)} -> 0 | U34: Totaal | X34: =SUM(X32:X33) -> 330.70909 | Y34: =SUM(Y32:Y33) -> 325 | Z34: =SUM(Z32:Z33) -> 5.7090949 | AA34: =Q42 -> 6061567 | AC34: =SUM(AC32:AC33) -> 100 | AE34: Niet gelijk aan 100! Pas de verdeling aan!
F35: Extra scenario's | M35: =X19 -> 5. Bladkorven | N35: {=_xlfn.IFS($V$10=$Z$19,AA$19,$V$10=$Z$20,AA$20,$V$10=$Z$21,AA$21)} -> 0 | Q35: {=_xlfn.IFS($V$10=$Z$19,AC$19,$V$10=$Z$20,AC$20,$V$10=$Z$21,AC$21)} -> 0
F36: 1.Papierinzameling | G36: 2 weken | M36: =X22 -> 6. Milieustraat | N36: {=_xlfn.IFS($V$11=$Z$22,AA$22,$V$11=$Z$23,AA$23,$V$11=$Z$24,AA$24,$V$11=$Z$25,AA$25)} -> 0 | Q36: {=_xlfn.IFS($V$11=$Z$22,AC$22,$V$11=$Z$23,AC$23,$V$11=$Z$24,AC$24,$V$11=$Z$25,AC$25)} -> 0
F37: 2.PBD (plastic, Blik en Drinkpakken) | G37: 1 week | M37: =IF(OR(V9=Z17,V9=Z18),"Verschuiving van GFT-tarief naar restafvaltarief","") -> Verschuiving van GFT-tarief naar restafvaltarief | U37: BTW 2025 | V37: 1112994
F38: 3.Groenbak (GFT container) | G38: Tarief | U38: Aantal gezinnen volgens 100% norm | V38: 446
F39: 4.Container luier en incontinentie | G39: Inzamelen | M39: TOTAAL KOSTEN | N39: =N19+SUM(N26:N36) -> 5363805 | P39: TOTAAL BATEN | Q39: =Q19+SUM(Q26:Q36) -> 6486447 | U39: Aantal huishoudens | V39: 18329
F40: 5.Bladcontainers | G40: Wel plaatsen | M40: Kosten door Afvalstoffenheffing | N40: =N39-Q7-Q12-SUM(Q26:Q36) -> 4948573 | P40: Baten uit Afvalstoffenheffing | Q40: =SUM(Q9:Q10) -> 6071215
F41: 6.Milieustraat | G41: Betaald | M41: BTW | N41: =V37 -> 1112994 | P41: Resterend verschil | Q41: =N40+N41-Q40 -> -9648
P42: Baten uit Afvalstoffenheffing | Q42: =N40+N41-SUM(Q26:Q36) -> 6061567
F43: TOTAAL KOSTEN | G43: =SUM(G6:G17) -> 5060921.2 | I43: TOTAAL BATEN | J43: =J19 -> 6356130.5 | U43: SCENARIO'S DASHBOARD | AA43: Kosten | AC43: Inkomsten
U44: Percentage Straatreiniging | V44: =Dashboard!J20 -> 1 | AA44: 263989 | AC44: 0
S45: Verdeling % | U45: Zwerfafval vergoeding | V45: =Dashboard!J21 -> Ja | AA45: 0 | AC45: 161323
S46: 75 | U46: Percentage kwijtschelding | V46: =Dashboard!J22 -> 1 | AA46: =N13 -> 160000 | AC46: 0
S47: 25
S48: 100 | U48: Kwijtschelding
U49: Volledige kwijtschelding
U50: Volledige kwijtschelding
U51: Alleen vastrecht
U52: Vastrecht met variabele kosten | V52: =Dashboard!J26 -> 10
M54: TOELICHTING DASHBOARDAFVALSTOFFENHEFFING
M55: Het dashboard voor de afvalstoffenheffing bestaat uit 3 onderdelen. Deze worden hieronder toegelicht.
M56: Resultatenrekening in range M5 t/m Q45 | U56: Scenario analyse U6 t/m AC28 | AC56: Tarief
M57: In de range M5 t/m Q23 staat de resultaten- | U57: In U6 t/m U11 staan de onderdelen waarvoor | AC57: In U31 t/m AE34 staan de onderdelen waarvoor
M58: rekening voor de afvalstoffenheffing zonder | U58: een scenario-analyse kan worden uitgevoerd.
M59: scenario-analyse. | U59: De bijbehorende keuzes voor de analyse staan
M60: De range U44 t/m AC52 geeft de scenario's | U60: in de drop down menu's in range V6 t/m V11.
M61: van het hoofddashboard voor afvalstoffen. | U61: De keuzes van de drop down zijn terug te
M62: In M26 t/m Q28 worden deze scenario's | U62: vinden in de range X6 t/m AC26.
M63: verwerkt in de de resultatenrekening. | U63: Dit is de leidende range voor snenario analyse.
M64: In M31 t/m Q36 worden de scenario's van de | U64: De range U6 t/m V11 is afgeleid van de range
M65: afvalstoffenheffing doorgerekend. | U65: X6 t/m AC26.
M66: De resultatenrekening na de scenario- | U66: De keuze die gemaakt wordt in de scenario analyse
M67: analyse staat in M39 t/m Q42 | U67: wordt direct berekend in de resultatenrekening M31 t/m Q36.
M68: Q42 geeft het bedrag aan dat betaald moet
M69: worden uit het vaste en variabele tarief.

Sheet Vast-Variabel
B2: Aantal aansluitingen | C2: Tarief | D2: Tarief 2025 | E2: Verschil | F2: Opbrengsten | G2: Verdeling %
A3: Vast | B3: =Afval_dashboard!C17 -> 18329 | C3: =F3/B3 -> 248.03182 | D3: 220 | E3: =C3-D3 -> 28.031821 | F3: =F5*(G3/100) -> 4546175.2 | G3: 75 | M3: Vast | N3: =Afval_dashboard!C17 -> 18329 | O3: =R3/N3 -> 224.88218 | P3: 220 | Q3: =O3-P3 -> 4.8821845 | R3: =R5*(S3/100) -> 4121865.6 | S3: 68
A4: Variabel | B4: =Afval_dashboard!C17 -> 18329 | C4: =F4/B4 -> 82.677274 | D4: 103 | E4: =C4-D4 -> -20.322726 | F4: =F5*(G4/100) -> 1515391.8 | G4: 25 | M4: Variabel | N4: =Afval_dashboard!C17 -> 18329 | O4: =R4/N4 -> 105.82691 | P4: 103 | Q4: =O4-P4 -> 2.8269104 | R4: =R5*(S4/100) -> 1939701.4 | S4: =S5-S3 -> 32
F5: =Afval_dashboard!Q42 -> 6061567 | G5: 100 | R5: =Afval_dashboard!Q42 -> 6061567 | S5: 100
A7: 185 komt uit COELO. Deze gegevens kloppen niet. Daarom rekenen vanuit de begroting.

Sheet Afval omrekening
A1: GROEN | G1: Gemiddeld huishouden (2,2 leden) | J1: Nuenen | K1: Gemert-Bakel | M1: 240L | N1: 1-persoonshuishouden | Q1: 240L | R1: 4-persoonshuishouden
A2: Aantal containers | B2: Volume | C2: Totaal volume | D2: Equivalent in 240L-containers | E2: Aantal huishoudens | F2: 240L-equivalent per huishouden | G2: Aantal containers | N2: Aantal containers | R2: Aantal containers
A3: =14470+49 -> 14519 | B3: 240 | C3: =A3*B3 -> 3484560 | D3: =C3/240 -> 14519 | E3: 18329 | F3: =D3/E3 -> 0.79213269 | I3: 8.68 | J3: 3.75 | K3: 0
A4: =50690+48 -> 50738 | B4: 140 | C4: =A4*B4 -> 7103320 | D4: =C4/240 -> 29597.167 | E4: 18329 | F4: =D4/E4 -> 1.6147726
A5: 90 | B5: 80 | C5: =A5*B5 -> 7200 | D5: =C5/240 -> 30 | E5: 18329 | F5: =D5/E5 -> 0.0016367505
F6: =SUM(F3:F5) -> 2.408542 | G6: 3 | I6: =$G$6*I3 -> 26.04 | J6: =$G$6*J3 -> 11.25 | K6: =$G$6*K3 -> 0 | M6: 1.0947918 | N6: 1 | O6: =N6*I3 -> 8.68 | Q6: =M6*4 -> 4.3791673 | R6: 5 | S6: =R6*I3 -> 43.4
A9: REST
A10: Aantal containers | B10: Volume | C10: Totaal volume | D10: Equivalent in 240L-containers | E10: Aantal huishoudens | F10: 240L-equivalent per huishouden
A11: 33961 | B11: 240 | C11: =A11*B11 -> 8150640 | D11: =C11/240 -> 33961 | E11: 18329 | F11: =D11/E11 -> 1.8528561 | I11: 16.66 | J11: 26 | K11: 18.7
A12: 42873 | B12: 140 | C12: =A12*B12 -> 6002220 | D12: =C12/240 -> 25009.25 | E12: 18329 | F12: =D12/E12 -> 1.3644634
A13: 122 | B13: 80 | C13: =A13*B13 -> 9760 | D13: =C13/240 -> 40.666667 | E13: 18329 | F13: =D13/E13 -> 0.0022187062
A14: 48426 | B14: 40 | C14: =A14*B14 -> 1937040 | D14: =C14/240 -> 8071 | E14: 18329 | F14: =D14/E14 -> 0.44034044
A15: 48426 | B15: 25 | C15: =A15*B15 -> 1210650 | D15: =C15/240 -> 5044.375 | E15: 18329 | F15: =D15/E15 -> 0.27521278
F16: =SUM(F11:F15) -> 3.9350915 | G16: 4 | I16: =$F$16*I11 -> 65.558624 | J16: =$F$16*J11 -> 102.31238 | K16: =$F$16*K11 -> 73.586211 | M16: 1.9232181 | N16: 2 | O16: =N16*I11 -> 33.32 | Q16: =M16*4 -> 7.6928726 | R16: 8 | S16: =R16*I11 -> 133.28
A18: 2024 | H18: Variabel | I18: =SUM(I6+I16) -> 91.598624 | J18: =SUM(J6+J16) -> 113.56238 | K18: =SUM(K6+K16) -> 73.586211 | M18: Variabel | O18: =SUM(O6,O16) -> 42 | P18: =O21-O19 -> -5.6933288 | S18: =SUM(S6,S16) -> 176.68
A19: Aantal huishoudens | B19: 18239 | C19: 18329 | H19: Vast | I19: 222 | J19: 183 | K19: 190 | M19: Vast | O19: =I19 -> 222 | S19: =I19 -> 222
A20: Percentage hoogbouw | B20: 0.23 | I20: =SUM(I18:I19) -> 313.59862 | J20: =SUM(J18:J19) -> 296.56238 | K20: =SUM(K18:K19) -> 263.58621 | O20: =SUM(O18:O19) -> 264 | S20: =SUM(S18:S19) -> 398.68
A21: Afvalstoffenheffing vast recht | B21: 190 | C21: 222 | G21: Na aanpassing | I21: =I19-Afval!Q30 -> 216.30667 | N21: Na aanpassing | O21: =O19-Afval!$Q$30 -> 216.30667 | R21: Na aanpassing | S21: =S19-Afval!$Q$30 -> 216.30667
A22: Afvalstoffenheffing variabel - 240L groen | B22: 8.4 | C22: 8.68 | I22: =I21+I18 -> 307.9053 | O22: =O21+O18 -> 258.30667 | S22: =S21+S18 -> 392.98667
A23: Afvalstoffenheffing variabel - 240L grijs | B23: 16.13 | C23: 16.66
A24: 40L | C24: 3.55 | I24: =E11*I22 -> 5643596.2
A25: •Gedifferentieerd tarief (DifTar) | I25: =I19*E11 -> 4069038
A26: •Vastrecht per huishouden
A27: •Variabel tarief voor restafval en GFT
A30: Omrekening naar COELO om tarieven te kunnen vergelijken: | N30: Onderwerp | O30: Beginstand woningvoorraad | P30: Beginstand woningvoorraad | Q30: Beginstand woningvoorraad
A31: •Totaal aantal ledigingen in 2024 omgerekend naar gemiddeld aantal 240L-ledigingen voor GFT- en restafval | N31: Woningtype | O31: Totaal woningen | P31: Hoogbouw | Q31: Laagbouw
A32: •Vermenigvuldigd met tarieven per gemeente | N32: Perioden | O32: aantal | P32: aantal | Q32: aantal
A33: •Optellen bij vastrecht | N33: 2024 | O33: 18448 | P33: 4170 | Q33: 14278
A34: Er wordt gerekend met 3 GFT-ledigingen en 4 restafval-ledigingen | P34: 0.22604076 | Q34: 0.77395924
A35: Inclusief hoogbouw; gemiddeld 2,2 inwoners per huishouden | N35: % Hoogbouw | O35: 0.23
N36: Restafval k/inw | O36: 91.8
A37: •Variabele kosten Geldrop-Mierlo zijn vergelijkbaar met andere Diftar-gemeenten, maar de verhouding GFT-/restafval is uiteenlopend | N37: gft (k/inw) | O37: 70.9
A38: •Tariefstelling hoogbouw/laagbouw is niet gelijkwaardig | N38: % restafval | O38: 56
A43: Gemeenten vergelijken: | U43: 2024 | V43: Geldrop-Mierlo | W43: Nuenen | X43: Gemert-Bakel | Y43: Best | Z43: Veldhoven | AA43: Son & Breugel
A44: •Totaal aantal ledigingen in 2024 omgerekend naar gemiddeld aantal 240L-ledigingen voor GFT- en restafval | V44: 40.000 inwoners | W44: 23.000 inwoners | X44: 31.000 inwoners | Y44: 31.000 inwoners | Z44: 45.000 inwoners | AA44: 48.000 inwoners
A45: •Vermenigvuldigd met tarieven per gemeente | U45: Totaal | V45: 279 | W45: 297 | X45: 264 | Y45: 369 | Z45: 311 | AA45: 334
A46: •Optellen bij vastrecht | U46: Vastrecht | V46: 190 | W46: 183 | X46: 190 | Y46: 369 | Z46: 311 | AA46: 334
A47: àEr wordt gerekend met 3 GFT-ledigingen en 4 restafval-ledigingen | U47: Variabel | V47: 89 | W47: 114 | X47: 74 | Y47: 0 | Z47: 0 | AA47: 0
A48: Inclusief hoogbouw; gemiddeld 2,2 inwoners per huishouden | U48: Variabel Rest 240L | V48: 16.13 | W48: 26 | X48: 18.7 | Y48: - | Z48: - | AA48: -
U49: Variabel GFT 240L | V49: 8.4 | W49: 3.75 | X49: - | Y49: - | Z49: -
AA50: -
U51: Heffingssysteem | V51: DifTar | W51: DifTar | X51: DifTar | Y51: Vast bedrag | Z51: Vast bedrag | AA51: Vast bedrag
U52: Aantal personen | V52: - | W52: - | X52: - | Y52: - | Z52: 1 / meer | AA52: 1 / meer
U53: Huur / koop | V53: - | W53: - | X53: - | Y53: - | Z53: -
U54: Hoog- / laagbouw | V54: Variabel tarief hoogbouw rel. duur | W54: Variabel tarief laagbouw rel. duur | X54: Hoogbouw lager vastrechttarief à 123 | Y54: - | Z54: -
U55: Overig | V55: - | W55: - | X55: - | Y55: Kosten voor bovengemiddeld gebruik per jaar | Z55: Kosten voor extra minicontainer per jaar

Sheet Hoogbouw_Laagbouw
A2: Woningvoorraad; woningtype op 1 januari, regio
B5: Onderwerp | C5: Beginstand woningvoorraad | D5: Beginstand woningvoorraad | E5: Beginstand woningvoorraad
B6: Woningtype | C6: Totaal woningen | D6: Hoogbouw | E6: Laagbouw
A7: Regio's | B7: Perioden | C7: aantal | D7: aantal | E7: aantal
A8: Geldrop-Mierlo | B8: 2024 | C8: 18448 | D8: 4170 | E8: 14278
A9: Bron: CBS | D9: =D8/C8 -> 0.22604076 | E9: =E8/C8 -> 0.77395924
A11: aantal gezinnen dat in aanmerking komt voor kwijtschelding:
A12: Je kunt er voor nu van uit gaan dat dat 446 gezinnen zijn.
A13: @Bob Altena, dat is dus volgens de 100%-norm. Een van de zaken die ter sprake is geweest is dat ander ‘sociaal beleid’ (niet mijn expertise, dus de juiste naam weet ik niet) uitgaat van de 120%-norm. Wellicht is dat ook een knop op aan te draaien? Kun jij aan Miret aangeven hoeveel gezinnen er in aanmerking voor kwijtschelding zouden komen als die norm zou worden aangepast naar 120%?

Sheet Opbouw Afval
A1: o.b.v. begroting 2025
B2: KOSTEN | J2: BATEN
F3: EUR | G3: % kosten ter verrekening uit Afvalstoffenheffing | N3: EUR | O3: % baten uit Afvalstoffenheffing
B4: Afvalinzameling (Cure) | D4: Resultaat van kosten van inzameling, bedrijfsvoering Cure en opbrengsten van gescheiden reststromen. | F4: 2971879 | G4: =F4/$F$23 -> 0.61782726
Q5: 2025
B6: Milieustraat (Cure) | D6: Resultaat van kosten van inzameling en baten van gescheiden reststromen en bijdrage Heeze-Leende | F6: 1253362 | G6: =(F6-N6)/$F$23 -> 0.20339278 | J6: Tarieven milieustraat | L6: Tarief per categorie grofvuil per aantal bezoeken | N6: 275000 | O6: 0 | P6: Toegangstarieven Milieustraat incl H-L
B8: Taakveld Afval | D8: Kosten voor het taakveld Afval, uitgevoerd door Gemeente Geldrop-Mierlo | F8: 109300 | G8: =F8/$F$23 -> 0.0227225 | J8: Afvalstoffenheffing (vastrecht) incl. reinigingsrecht | L8: Vast bedrag per huishouden per jaar | N8: =4068268.77-L28 -> 4068268.8 | O8: =N8/N23 -> 0.68722991 | P8: Afvalstoffen heffing vast | Q8: 4044959 | R8: =SUM(Q8:Q9) -> 4068269
P9: Reinigingsrechten | Q9: 23310
B10: Bijzet | D10: Doorbelaste kosten van de buitendienst voor het opruimen van bijzet. | F10: 94000 | G10: =F10/$F$23 -> 0.019541765 | J10: Afvalstoffenheffing (variabel) | L10: Tarief per lediging voor restafval en GFT-afval | N10: 1851538.7 | O10: =N10/N23 -> 0.31277009 | P10: Afvalstoffen heffing variabel | Q10: 1851539
B12: Straatreiniging | D12: Doorbelaste kosten van de buitendienst voor straatreiniging inclusief zwerfafval | F12: 222774 | G12: =(F12-N12)/$F$23 -> 0.012775117 | I12: (25% van 6210019/75001 + 100% 6210019/38048. | J12: Zwerfafval-vergoedingen | L12: Vergoeding van Verpact namens de verpakkingsindustrie voor het ontstaan van zwerfafval | N12: 161323 | O12: 0 | P12: Nedvang | Q12: 123023 | R12: =SUM(Q12:Q13) -> 161323 | S12: UPV-zwerfafvalvergoeding van € 3,02 per inwoner x 40.736 = € 123.023 | W12: =40736*3.02 -> 123022.72
I13: =-F12*0.275 -> -61262.85 | P13: Prullenbakregeling | Q13: 38300 | S13: aantal inwoners*0,94 | W13: =40736*0.94 -> 38291.84
B14: Kwijtschelding | D14: Kwijtscheldingsregeling voor huishoudens onder de minimagrens en wegens medische noodzaak | F14: =185612-L28 -> 185612 | G14: =F14/$F$23 -> 0.038587087
B16: Salariskosten | D16: Kosten van directe inzet van personeel van Gemeente Geldrop-Mierlo op het taakveld afval | F16: 186003 | G16: =F16/$F$23 -> 0.038668372
B18: Overheadkosten | D18: Kosten van indirecte inzet van personeel van Gemeente Geldrop-Mierlo op het taakveld afval | F18: 153204 | G18: =F18/$F$23 -> 0.031849751
B20: Kapitaallasten | D20: Afschrijvings- en rentekosten incl. milieustraat | F20: 70399.23 | G20: =F20/$F$23 -> 0.014635375
D22: Totaal kosten | F22: =SUM(F4:F20) -> 5246533.2 | L22: Totaal baten | N22: =SUM(N6:N20) -> 6356130.5 | P22: 6356130.5
D23: Kosten ter verrekening door Afvalstoffenheffing | F23: 4810210.2 | G23: =SUM(G4:G20) -> 1 | L23: Baten uit Afvalstoffenheffing | N23: =SUM(N8:N10) -> 5919807.5 | O23: =SUM(O4:O21) -> 1 | P23: 5919807.5
D24: Check uit B2025 | F24: 4810210.2 | L24: Check verschil kosten - baten Afvalstoffenheffing | N24: =N23-F23 -> 1109597.2 | P24: 1109597.2 | Q24: =P23-P24 -> 4810210.2
D25: Verschil | F25: 0 | G25: correct | L25: BTW | N25: 1108850 | P25: 1108850
L26: Resterend verschil | N26: =N24-N25 -> 747.22319 | O26: acceptabel | P26: 747.22319
L28: 0 | N28: =N8/222 -> 18325.535
L29: 185612

Sheet COELO oud
A1: Provinciecode | B1: Gemeente code | C1: Gemeentenaam | D1: Tarief woningen | E1: Mutatie Tarief woningen | F1: Tarief eigenaar niet-woning | G1: Mutatie Tarief eigenaar niet-woning | H1: Tarief gebruiker niet-woning | I1: Mutatie Tarief gebruiker niet-woning | J1: Tarief niet-woning eigenaar+gebruiker | K1: Mutatie Tarief niet-woning eigenaar+gebruiker | L1: Gemiddeld betaalde ozb woningen
A2: 7 | B2: 0448 | C2: Texel | D2: 0.0323 | E2: 2.96 | F2: 0.0733 | G2: 6.45 | H2: 0.0578 | I2: 6.63 | J2: 0.1311 | K2: 6.53 | L2: 149.52
A3: 7 | B3: 0361 | C3: Alkmaar | D3: 0.0574 | E3: 6.18 | F3: 0.5087 | G3: 12.49 | H3: 0.0673 | I3: -3.49 | J3: 0.576 | K3: 10.36 | L3: 262.5
A4: 2 | B4: 0060 | C4: Ameland | D4: 0.0647 | E4: -1.51 | F4: 0.1511 | G4: -0.4 | H4: 0.1209 | I4: -0.41 | J4: 0.272 | K4: -0.4 | L4: 264.75
A5: 2 | B5: 0085 | C5: Ooststellingwerf | D5: 0.0748 | E5: 1.64 | F5: 0.0988 | G5: 5.73 | H5: 0.0843 | I5: 8.19 | J5: 0.1831 | K5: 6.85 | L5: 271.89
A6: 8 | B6: 0518 | C6: 's-Gravenhage | D6: 0.0523 | E6: 5.6 | F6: 0.3168 | G6: 6.51 | H6: 0.2576 | I6: 5.4 | J6: 0.5744 | K6: 6.01 | L6: 272.2
A7: 7 | B7: 0406 | C7: Huizen | D7: 0.0466 | E7: 4.37 | F7: 0.1876 | G7: 6.82 | H7: 0.1636 | I7: 6.65 | J7: 0.3512 | K7: 6.75 | L7: 274
A8: 9 | B8: 1714 | C8: Sluis | D8: 0.0803 | E8: 6.1 | F8: 0.2194 | G8: 2.35 | H8: 0.1789 | I8: 2.39 | J8: 0.3983 | K8: 2.37 | L8: 293.47
A9: 8 | B9: 0606 | C9: Schiedam | D9: 0.0763 | E9: 5.77 | F9: 0.356 | G9: 11.36 | H9: 0.249 | I9: 18.42 | J9: 0.605 | K9: 14.16 | L9: 295.86
A10: 9 | B10: 0703 | C10: Reimerswaal | D10: 0.085 | E10: 2.42 | F10: 0.2266 | G10: 2.58 | H10: 0.1837 | I10: 2.58 | J10: 0.4103 | K10: 2.58 | L10: 296.93
A11: 10 | B11: 0758 | C11: Breda | D11: 0.0564 | E11: 7.04 | F11: 0.2275 | G11: 7.89 | H11: 0.1821 | I11: 7.44 | J11: 0.4096 | K11: 7.69 | L11: 298.68
A12: 8 | B12: 0610 | C12: Sliedrecht | D12: 0.0736 | E12: 8.34 | F12: 0.2338 | G12: 10.57 | H12: 0.1716 | I12: -0.19 | J12: 0.4054 | K12: 5.75 | L12: 299.39
A13: 4 | B13: 1708 | C13: Steenwijkerland | D13: 0.0756 | E13: 2.63 | F13: 0.2197 | G13: 2.7 | H13: 0.1777 | I13: 2.71 | J13: 0.3974 | K13: 2.71 | L13: 302.26
... A50: 11 | B50: 1640 | C50: Leudal | D50: 0.0901 | E50: 6.39 | F50: 0.1731 | G50: 17.59 | H50: 0.1623 | I50: 10.26 | J50: 0.3354 | K50: 13.92 | L50: 362.14
A51: 8 | B51: 0597 | C51: Ridderkerk | D51: 0.0906 | E51: 1.64 | F51: 0.496 | G51: 6.49 | H51: 0 | I51: nvt | J51: 0.496 | K51: 6.49 | L51: 362.52
A52: 8 | B52: 0603 | C52: Rijswijk | D52: 0.077 | E52: 10.62 | F52: 0.6521 | G52: 16.29 | H52: 0 | I52: nvt | J52: 0.6521 | K52: 16.29 | L52: 363.28
A53: 7 | B53: 1980 | C53: Dijk en Waard | D53: 0.0783 | E53: 14.83 | F53: 0.387 | G53: 15.38 | H53: 0.2789 | I53: 14.58 | J53: 0.6659 | K53: 15.04 | L53: 364.21
A54: 9 | B54: 0717 | C54: Veere | D54: 0.0769 | E54: 5.75 | F54: 0.1767 | G54: 16.27 | H54: 0.1336 | I54: 12.85 | J54: 0.3103 | K54: 14.77 | L54: 364.38
A55: 5 | B55: 0197 | C55: Aalten | D55: 0.0952 | E55: 2.24 | F55: 0.2044 | G55: 2.39 | H55: 0.1527 | I55: 2.38 | J55: 0.3571 | K55: 2.38 | L55: 364.46
A56: 2 | B56: 1949 | C56: Waadhoeke | D56: 0.1168 | E56: 4.4 | F56: 0.246 | G56: 3.39 | H56: 0.1684 | I56: 0.57 | J56: 0.4144 | K56: 2.23 | L56: 364.64
A57: 2 | B57: 0080 | C57: Leeuwarden | D57: 0.10721 | E57: 2.55 | F57: 0.48401 | G57: 3.29 | H57: 0.38806 | I57: 3.52 | J57: 0.87207 | K57: 3.4 | L57: 367.09
A58: 10 | B58: 0777 | C58: Etten-Leur | D58: 0.0842 | E58: 7.87 | F58: 0.1808 | G58: 10.09 | H58: 0.1503 | I58: 8.68 | J58: 0.3311 | K58: 9.45 | L58: 368.37
A59: 9 | B59: 0654 | C59: Borsele | D59: 0.099 | E59: 0.31 | F59: 0.3062 | G59: 9.64 | H59: 0.2715 | I59: 10.38 | J59: 0.5777 | K59: 9.98 | L59: 370.03
A60: 5 | B60: 0273 | C60: Putten | D60: 0.061 | E60: 3.97 | F60: 0.201 | G60: 3.92 | H60: 0.1609 | I60: 4.25 | J60: 0.3619 | K60: 4.07 | L60: 370.87
A61: 9 | B61: 0715 | C61: Terneuzen | D61: 0.1242 | E61: 3.18 | F61: 0.3399 | G61: 2.54 | H61: 0.2728 | I61: 2.51 | J61: 0.6127 | K61: 2.52 | L61: 372.01
A62: 7 | B62: 1911 | C62: Hollands Kroon | D62: 0.0881 | E62: 1.48 | F62: 0.1901 | G62: 2.49 | H62: 0.1431 | I62: 2.81 | J62: 0.3332 | K62: 2.63 | L62: 374.37
A63: 4 | B63: 0175 | C63: Ommen | D63: 0.077 | E63: 3.74 | F63: 0.2138 | G63: 3.66 | H63: 0.152 | I63: 2.61 | J63: 0.3658 | K63: 3.22 | L63: 375.47
A64: 8 | B64: 0513 | C64: Gouda | D64: 0.0892 | E64: 3.28 | F64: 0.4004 | G64: 5.3 | H64: 0.3211 | I64: 5.87 | J64: 0.7215 | K64: 5.55 | L64: 377.48
... A74: 10 | B74: 1655 | C74: Halderberge | D74: 0.0867 | E74: 9.98 | F74: 0.2521 | G74: 9.59 | H74: 0.2253 | I74: 9.63 | J74: 0.4774 | K74: 9.61 | L74: 387.09
A75: 8 | B75: 1916 | C75: Leidschendam-Voorburg | D75: 0.07079 | E75: 7.53 | F75: 0.48075 | G75: 5.73 | H75: 0 | I75: nvt | J75: 0.48075 | K75: 5.73 | L75: 388.12
A76: 8 | B76: 1930 | C76: Nissewaard | D76: 0.107606 | E76: 5.77 | F76: 0.352789 | G76: 6.44 | H76: 0.281271 | I76: 8.52 | J76: 0.63406 | K76: 7.35 | L76: 388.31
A77: 10 | B77: 1724 | C77: Bergeijk | D77: 0.0738 | E77: 3.87 | F77: 0.1968 | G77: 4.48 | H77: 0.1574 | I77: 4.47 | J77: 0.3542 | K77: 4.48 | L77: 388.37
A78: 10 | B78: 0770 | C78: Eersel | D78: 0.0713 | E78: 12.88 | F78: 0.2066 | G78: 19.87 | H78: 0.1613 | I78: 17.38 | J78: 0.3679 | K78: 18.76 | L78: 389
A79: 10 | B79: 0867 | C79: Waalwijk | D79: 0.0875 | E79: 3.2 | F79: 0.2243 | G79: -5.85 | H79: 0.158 | I79: -5.38 | J79: 0.3823 | K79: -5.66 | L79: 390.07
A80: 3 | B80: 1690 | C80: De Wolden | D80: 0.0838 | E80: 0.48 | F80: 0.1955 | G80: -0.42 | H80: 0.1576 | I80: -2 | J80: 0.3531 | K80: -1.13 | L80: 390.14
A81: 7 | B81: 0402 | C81: Hilversum | D81: 0.0641 | E81: 6.21 | F81: 0.3034 | G81: 10.05 | H81: 0.2026 | I81: 10 | J81: 0.506 | K81: 10.03 | L81: 390.6
A82: 7 | B82: 0394 | C82: Haarlemmermeer | D82: 0.06843 | E82: 1.61 | F82: 0.29896 | G82: 2.94 | H82: 0.26131 | I82: 1.79 | J82: 0.56027 | K82: 2.4 | L82: 390.62
A83: 5 | B83: 1734 | C83: Overbetuwe | D83: 0.0802 | E83: 6.35 | F83: 0.166 | G83: 15.45 | H83: 0.1342 | I83: 15.37 | J83: 0.3002 | K83: 15.42 | L83: 390.68
A84: 3 | B84: 1680 | C84: Aa en Hunze | D84: 0.0927 | E84: 5.85 | F84: 0.2168 | G84: 0.76 | H84: 0.1021 | I84: 5.04 | J84: 0.3189 | K84: 2.09 | L84: 391.1
A85: 10 | B85: 1991 | C85: Maashorst | D85: 0.07714 | E85: 12.87 | F85: 0.27036 | G85: 12.38 | H85: 0.21545 | I85: 12.66 | J85: 0.48581 | K85: 12.51 | L85: 391.49
A86: 6 | B86: 0342 | C86: Soest | D86: 0.0667 | E86: -7.36 | F86: 0.2277 | G86: -3.82 | H86: 0.1799 | I86: -3.67 | J86: 0.4076 | K86: -3.76 | L86: 391.71
A87: 8 | B87: 1783 | C87: Westland | D87: 0.0741 | E87: 3.69 | F87: 0.2618 | G87: 8.33 | H87: 0.1972 | I87: 8.33 | J87: 0.459 | K87: 8.33 | L87: 391.93
... A103: 11 | B103: 0971 | C103: Stein | D103: 0.1151 | E103: 2.68 | F103: 0.3651 | G103: 7.09 | H103: 0.3182 | I103: 10.13 | J103: 0.6833 | K103: 8.49 | L103: 407.44
A104: 7 | B104: 0383 | C104: Castricum | D104: 0.07199 | E104: 7.79 | F104: 0.47225 | G104: 7.07 | H104: 0 | I104: nvt | J104: 0.47225 | K104: 7.07 | L104: 408.89
A105: 10 | B105: 1719 | C105: Drimmelen | D105: 0.0878 | E105: 4.57 | F105: 0.1821 | G105: 4.42 | H105: 0.1495 | I105: 5.43 | J105: 0.3316 | K105: 4.87 | L105: 409.69
A106: 11 | B106: 0907 | C106: Gennep | D106: 0.0931 | E106: 2.54 | F106: 0.1785 | G106: 1.91 | H106: 0.1228 | I106: -2.15 | J106: 0.3013 | K106: 0.21 | L106: 410.15
A107: 8 | B107: 0512 | C107: Gorinchem | D107: 0.08748 | E107: -1.94 | F107: 0.3898 | G107: 15.04 | H107: 0.2938 | I107: 7.59 | J107: 0.6836 | K107: 11.72 | L107: 410.67
A108: 8 | B108: 0627 | C108: Waddinxveen | D108: 0.0853 | E108: 3.78 | F108: 0.3209 | G108: 3.27 | H108: 0.2577 | I108: 2.97 | J108: 0.5786 | K108: 3.14 | L108: 411.39
A109: 6 | B109: 0313 | C109: Bunschoten | D109: 0.0809 | E109: 11.1 | F109: 0.2273 | G109: 13.41 | H109: 0.1818 | I109: 13.39 | J109: 0.4091 | K109: 13.4 | L109: 411.81
A110: 11 | B110: 0882 | C110: Landgraaf | D110: 0.13291 | E110: 2.61 | F110: 0.330233 | G110: 1.94 | H110: 0.274256 | I110: 1.92 | J110: 0.604489 | K110: 1.93 | L110: 412.3
A111: 1 | B111: 1979 | C111: Eemsdelta | D111: 0.1386 | E111: 4.31 | F111: 0.5555 | G111: 1.88 | H111: 0.4651 | I111: -0.28 | J111: 1.0206 | K111: 0.88 | L111: 412.81
A112: 3 | B112: 0114 | C112: Emmen | D112: 0.1298 | E112: 0.69 | F112: 0.332 | G112: 0.52 | H112: 0.261 | I112: -2.67 | J112: 0.593 | K112: -0.91 | L112: 414.92
A113: 5 | B113: 0297 | C113: Zaltbommel | D113: 0.0887 | E113: 3.07 | F113: 0.3009 | G113: 6 | H113: 0.2559 | I113: 5.97 | J113: 0.5568 | K113: 5.99 | L113: 416.06
A114: 4 | B114: 0177 | C114: Raalte | D114: 0.0884 | E114: 6.93 | F114: 0.2356 | G114: 5.38 | H114: 0.1842 | I114: 0.83 | J114: 0.4198 | K114: 3.33 | L114: 416.83
A115: 7 | B115: 0396 | C115: Heemskerk | D115: 0.0846 | E115: 16.47 | F115: 0.2902 | G115: 46.94 | H115: 0.2093 | I115: 44.9 | J115: 0.4995 | K115: 46.07 | L115: 417.61
A116: 10 | B116: 0753 | C116: Best | D116: 0.0803 | E116: 7.37 | F116: 0.2612 | G116: 20.19 | H116: 0.2038 | I116: 18.51 | J116: 0.465 | K116: 19.45 | L116: 417.8
... A162: 5 | B162: 1859 | C162: Berkelland | D162: 0.1015 | E162: 1.5 | F162: 0.228 | G162: 6.5 | H162: 0.1735 | I162: 4.83 | J162: 0.4015 | K162: 5.77 | L162: 449.06
A163: 8 | B163: 1621 | C163: Lansingerland | D163: 0.0801 | E163: 4.34 | F163: 0.6121 | G163: 15.76 | H163: 0 | I163: nvt | J163: 0.6121 | K163: 15.76 | L163: 449.36
A164: 4 | B164: 0189 | C164: Wierden | D164: 0.0962 | E164: 13.2 | F164: 0.243 | G164: 16.79 | H164: 0.1944 | I164: 16.77 | J164: 0.4374 | K164: 16.78 | L164: 449.46
A165: 4 | B165: 0164 | C165: Hengelo | D165: 0.1165 | E165: 4.01 | F165: 0.4771 | G165: 3.4 | H165: 0.3598 | I165: 2.81 | J165: 0.8369 | K165: 3.14 | L165: 449.75
A166: 2 | B166: 0093 | C166: Terschelling | D166: 0.088 | E166: 4.1 | F166: 0.417 | G166: 13.61 | H166: 0.328 | I166: 13.6 | J166: 0.745 | K166: 13.61 | L166: 449.8
A167: 7 | B167: 0392 | C167: Haarlem | D167: 0.0716 | E167: 2.86 | F167: 0.30474 | G167: 9.38 | H167: 0.24384 | I167: 9.74 | J167: 0.54858 | K167: 9.54 | L167: 450.21
A168: 6 | B168: 0355 | C168: Zeist | D168: 0.0613 | E168: 1.72 | F168: 0.2295 | G168: 0.98 | H168: 0.1741 | I168: -1.09 | J168: 0.4036 | K168: 0.08 | L168: 451.41
A169: 4 | B169: 0153 | C169: Enschede | D169: 0.1168 | E169: 9.68 | F169: 0.5153 | G169: 15.9 | H169: 0.4118 | I169: 15.72 | J169: 0.9271 | K169: 15.82 | L169: 452.13
A170: 7 | B170: 0388 | C170: Enkhuizen | D170: 0.1154 | E170: 20.84 | F170: 0.4729 | G170: 6.45 | H170: 0.4032 | I170: 9.51 | J170: 0.8761 | K170: 7.83 | L170: 452.22
A171: 11 | B171: 0983 | C171: Venlo | D171: 0.119 | E171: -1.63 | F171: 0.3664 | G171: 0.56 | H171: 0.2943 | I171: 0.56 | J171: 0.6607 | K171: 0.56 | L171: 452.55
A172: 8 | B172: 0622 | C172: Vlaardingen | D172: 0.1178 | E172: 1.34 | F172: 0.8659 | G172: 6.54 | H172: 0 | I172: nvt | J172: 0.8659 | K172: 6.54 | L172: 452.65
A173: 10 | B173: 0766 | C173: Dongen | D173: 0.1053 | E173: 3.61 | F173: 0.2954 | G173: 3.74 | H173: 0.1906 | I173: -4.82 | J173: 0.486 | K173: 0.21 | L173: 452.86
A174: 10 | B174: 0848 | C174: Son en Breugel | D174: 0.0786 | E174: 8.5 | F174: 0.2054 | G174: 15.25 | H174: 0.1677 | I174: 12.52 | J174: 0.3731 | K174: 14.01 | L174: 454.48
A175: 3 | B175: 1701 | C175: Westerveld | D175: 0.0958 | E175: 10.2 | F175: 0.2038 | G175: 7.9 | H175: 0.1331 | I175: 6.11 | J175: 0.3369 | K175: 7.18 | L175: 455.07
A176: 6 | B176: 0736 | C176: De Ronde Venen | D176: 0.0726 | E176: 23.49 | F176: 0.2835 | G176: 23.56 | H176: 0.2063 | I176: 3.92 | J176: 0.4898 | K176: 14.45 | L176: 455.49
A177: 8 | B177: 0523 | C177: Hardinxveld-Giessendam | D177: 0.1077 | E177: 4.02 | F177: 0.3444 | G177: 24.9 | H177: 0.2617 | I177: 26.43 | J177: 0.6061 | K177: 25.55 | L177: 457.19
A178: 9 | B178: 0664 | C178: Goes | D178: 0.1118 | E178: 3.09 | F178: 0.2863 | G178: -0.49 | H178: 0.2121 | I178: -0.48 | J178: 0.4984 | K178: -0.49 | L178: 458.02
A179: 10 | B179: 1667 | C179: Reusel- De Mierden | D179: 0.0919 | E179: 16.42 | F179: 0.281 | G179: 16.54 | H179: 0.1676 | I179: 17.08 | J179: 0.4486 | K179: 16.74 | L179: 458.29
A180: 1 | B180: 0037 | C180: Stadskanaal | D180: 0.1359 | E180: 6.55 | F180: 0.4332 | G180: -1.97 | H180: 0.3456 | I180: -1.9 | J180: 0.7788 | K180: -1.94 | L180: 459.23
A181: 5 | B181: 0226 | C181: Duiven | D181: 0.1087 | E181: 10.6 | F181: 0.2098 | G181: 11.53 | H181: 0.1606 | I181: 11.52 | J181: 0.3704 | K181: 11.53 | L181: 460.23
A182: 4 | B182: 0183 | C182: Tubbergen | D182: 0.094 | E182: 5.35 | F182: 0.239 | G182: 8.07 | H182: 0.1809 | I182: 6.23 | J182: 0.4199 | K182: 7.27 | L182: 460.33
A183: 7 | B183: 0451 | C183: Uithoorn | D183: 0.088 | E183: 5.66 | F183: 0.2661 | G183: 7.53 | H183: 0.1938 | I183: 7.54 | J183: 0.4599 | K183: 7.54 | L183: 460.54
A184: 10 | B184: 0797 | C184: Heusden | D184: 0.09 | E184: 7.31 | F184: 0.236 | G184: 5.1 | H184: 0.14 | I184: 5.86 | J184: 0.376 | K184: 5.38 | L184: 460.68
... A276: 7 | B276: 0358 | C276: Aalsmeer | D276: 0.09065 | E276: 4.3 | F276: 0.311 | G276: 26.94 | H276: 0.1871 | I276: -12.51 | J276: 0.4981 | K276: 8.56 | L276: 555.78
A277: 6 | B277: 0340 | C277: Rhenen | D277: 0.1016 | E277: 2.35 | F277: 0.5158 | G277: 7.77 | H277: 0 | I277: nvt | J277: 0.5158 | K277: 7.77 | L277: 556.68
A278: 10 | B278: 0785 | C278: Goirle | D278: 0.1107 | E278: 2.42 | F278: 0.3545 | G278: 0.89 | H278: 0.2857 | I278: 0.91 | J278: 0.6402 | K278: 0.9 | L278: 558.62
A279: 5 | B279: 0275 | C279: Rheden | D279: 0.1199 | E279: 21.04 | F279: 0.3211 | G279: 19.04 | H279: 0.2515 | I279: 19.1 | J279: 0.5726 | K279: 19.07 | L279: 561.32
A280: 7 | B280: 0420 | C280: Medemblik | D280: 0.1212 | E280: 2.03 | F280: 0.303 | G280: 3.18 | H280: 0.2363 | I280: 3.51 | J280: 0.5393 | K280: 3.32 | L280: 561.75
A281: 11 | B281: 0994 | C281: Valkenburg aan de Geul | D281: 0.1344 | E281: 3.67 | F281: 0.5537 | G281: 11.72 | H281: 0.4431 | I281: 11.73 | J281: 0.9968 | K281: 11.72 | L281: 563.3
A282: 7 | B282: 0399 | C282: Heiloo | D282: 0.0909 | E282: 27.98 | F282: 0.37013 | G282: 20.14 | H282: 0 | I282: nvt | J282: 0.37013 | K282: 20.14 | L282: 566.23
A283: 7 | B283: 0532 | C283: Stede Broec | D283: 0.1377 | E283: 3.08 | F283: 0.22 | G283: 6.72 | H283: 0.1863 | I283: 6.09 | J283: 0.4063 | K283: 6.43 | L283: 567.21
A284: 10 | B284: 0794 | C284: Helmond | D284: 0.1297 | E284: 11.12 | F284: 0.2802 | G284: 8.05 | H284: 0.2185 | I284: 4.47 | J284: 0.4987 | K284: 6.45 | L284: 567.94
A285: 5 | B285: 0293 | C285: Westervoort | D285: 0.1458 | E285: 3.55 | F285: 0.3214 | G285: 3.48 | H285: 0.2457 | I285: 3.47 | J285: 0.5671 | K285: 3.48 | L285: 570.48
A286: 5 | B286: 0285 | C286: Voorst | D286: 0.1065 | E286: 1.72 | F286: 0.273 | G286: 1.68 | H286: 0.2164 | I286: -0.36 | J286: 0.4894 | K286: 0.77 | L286: 573.04
A287: 7 | B287: 0880 | C287: Wormerland | D287: 0.1092 | E287: 18.01 | F287: 0.2138 | G287: 20.55 | H287: 0.2419 | I287: 22.19 | J287: 0.4557 | K287: 21.41 | L287: 573.05
A288: 6 | B288: 0352 | C288: Wijk bij Duurstede | D288: 0.1122 | E288: 4.38 | F288: 0.3972 | G288: 7.29 | H288: 0.2303 | I288: 27.43 | J288: 0.6275 | K288: 13.89 | L288: 577.3
A289: 4 | B289: 1773 | C289: Olst-Wijhe | D289: 0.1208 | E289: 2.89 | F289: 0.2899 | G289: 1.03 | H289: 0.2336 | I289: 1.45 | J289: 0.5235 | K289: 1.22 | L289: 580.06
A290: 6 | B290: 0335 | C290: Montfoort | D290: 0.1099 | E290: 3.67 | F290: 0.3923 | G290: 2.22 | H290: 0.3061 | I290: -4.79 | J290: 0.6984 | K290: -0.98 | L290: 581.71
A291: 5 | B291: 0252 | C291: Heumen | D291: 0.112 | E291: 3.94 | F291: 0.3757 | G291: 3.56 | H291: 0.2911 | I291: 4.14 | J291: 0.6668 | K291: 3.81 | L291: 583.78
A292: 7 | B292: 0437 | C292: Ouder-Amstel | D292: 0.0803 | E292: 9.81 | F292: 0.331 | G292: 23.64 | H292: 0.2693 | I292: 16.2 | J292: 0.6003 | K292: 20.19 | L292: 584.89
A293: 10 | B293: 0824 | C293: Oisterwijk | D293: 0.0992 | E293: 2.42 | F293: 0.2557 | G293: 30.15 | H293: 0.1899 | I293: 11.38 | J293: 0.4456 | K293: 21.43 | L293: 587.73
A294: 8 | B294: 0569 | C294: Nieuwkoop | D294: 0.1079 | E294: 4.05 | F294: 0.3932 | G294: 3.34 | H294: 0.3355 | I294: 9.29 | J294: 0.7287 | K294: 5.99 | L294: 588.99
... A316: 5 | B316: 0246 | C316: Heerde | D316: 0.1235 | E316: 7.77 | F316: 0.3292 | G316: 3.53 | H316: 0.229 | I316: -2.28 | J316: 0.5582 | K316: 1.06 | L316: 643.42
A317: 7 | B317: 0373 | C317: Bergen NH | D317: 0.09038 | E317: 7.72 | F317: 0.47768 | G317: 8.19 | H317: 0 | I317: nvt | J317: 0.47768 | K317: 8.19 | L317: 652.26
...

Sheet Gegevens per gemeente 2025
A1: Gegevens gemeenten 2025 | D1: Tarieven, bedragen en mutaties
A2: © COELO, Groningen | D2: OZB | N2: Afvalstoffenheffing | S2: Rioolheffing huishoudens | W2: Rioolheffing bedrijven | AP2: Woonlasten | AX2: Toeristenbelasting | AZ2: Hondenbelasting | BC2: Leges
A3: Provinciecode | B3: Gemeente code | C3: Gemeentenaam | D3: Tarief woningen | E3: Mutatie Tarief woningen | F3: Tarief eigenaar niet-woning | G3: Mutatie Tarief eigenaar niet-woning | H3: Tarief gebruiker niet-woning | I3: Mutatie Tarief gebruiker niet-woning | J3: Tarief niet-woning eigenaar+gebruiker | K3: Mutatie Tarief niet-woning eigenaar+gebruiker | L3: Gemiddeld betaalde ozb woningen | N3: Eénpersoonshuishouden | O3: Mutatie Eénpersoonshuishouden | P3: Meerpersoonshuishouden | Q3: Mutatie Meerpersoonshuishouden | S3: Eénpersoonshuishouden | T3: Mutatie Eénpersoonshuishouden | U3: Meerpersoonshuishouden | V3: Mutatie Meerpersoonshuishouden | W3: Waterverbruik 100 m3 | X3: Mutatie Waterverbruik 100 m3 | Y3: waterverbruik 200 m3 | Z3: Mutatie waterverbruik 200 m3 | AA3: Waterverbruik 300 m3 | AB3: Mutatie Waterverbruik 300 m3 | AC3: Waterverbruik 400 m3 | AD3: Mutatie Waterverbruik 400 m3 | AE3: Waterverbruik 500 m4 | AF3: Mutatie Waterverbruik 500 m4 | AG3: Waterverbruik 2100 m3 | AH3: Mutatie Waterverbruik 2100 m3 | AI3: Waterverbruik 2500 m3 | AJ3: Mutatie Waterverbruik 2500 m3 | AK3: Waterverbruik 6000 m3 | AL3: Mutatie Waterverbruik 6000 m3 | AM3: Waterverbruik 30.000 m3 | AN3: Mutatie Waterverbruik 30.000 m3 | AP3: Heffingskorting éénpersoonshuishouden | AQ3: Heffingskorting meerpersoonshuishouden | AR3: Woonlasten éénpersoonshuishouden | AS3: Mutatie Woonlasten éénpersoonshuishouden | AT3: Woonlasten meerpersoonshuishouden | AU3: Mutatie Woonlasten meerpersoonshuishouden | AW3: Toeristenbelasting overnachting camping | AX3: Toeristenbelasting hotelovernachting | AY3: Mutatie Toeristenbelasting hotelovernachting | AZ3: Hondenbelasting | BA3: Mutatie Hondenbelasting | BC3: Paspoort | BD3: Mutatie Paspoort | BE3: Identiteitskaart | BF3: Mutatie Identiteitskaart | BG3: Rijbewijs | BH3: Mutatie Rijbewijs | BI3: Uittreksel BRP | BJ3: Mutatie Uittreksel BRP
D4: % | E4: % | F4: % | G4: % | H4: % | I4: % | L4: euro | N4: euro | O4: % | P4: euro | Q4: % | S4: euro | T4: % | U4: euro | V4: % | W4: euro | X4: % | Y4: euro | Z4: % | AA4: euro | AB4: % | AC4: euro | AD4: % | AE4: euro | AF4: % | AG4: euro | AH4: % | AI4: euro | AJ4: % | AK4: euro | AL4: % | AM4: euro | AN4: % | AP4: euro | AR4: euro | AS4: % | AT4: euro | AU4: % | AX4: euro | AY4: % | AZ4: euro | BA4: % | BC4: euro | BD4: % | BE4: euro | BF4: % | BG4: euro | BH4: % | BI4: euro | BJ4: %
A5: 1 | B5: 1979 | C5: Eemsdelta | D5: 0.1386 | E5: 4.31 | F5: 0.5555 | G5: 1.88 | H5: 0.4651 | I5: -0.28 | J5: 1.0206 | K5: 0.88 | L5: 412.81 | N5: 269.05 | O5: 5.23 | P5: 332.36 | Q5: 4.79 | S5: 232.35 | T5: -9.22 | U5: 232.35 | V5: -9.22 | W5: 232.35 | X5: -9.22 | Y5: 232.35 | Z5: -9.22 | AA5: 232.35 | AB5: -9.22 | AC5: 232.35 | AD5: -9.22 | AE5: 232.35 | AF5: -9.22 | AG5: 232.35 | AH5: -9.22 | AI5: 232.35 | AJ5: -9.22 | AK5: 232.35 | AL5: -9.22 | AM5: 232.35 | AN5: -9.22 | AP5: 0 | AQ5: 0 | AR5: 914.21 | AS5: 0.75 | AT5: 977.52 | AU5: 0.89 | AW5: 1.7 | AX5: 1.7 | AY5: 3.03 | AZ5: 0 | BA5: 0 | BC5: 86.85 | BD5: 11.56 | BE5: 78.5 | BF5: 11.58 | BG5: 52.1 | BH5: 1.96 | BI5: 15.25 | BJ5: Tarief vorig jaar 0
A6: 1 | B6: 0014 | C6: Groningen | D6: 0.1552 | E6: 2.84 | F6: 0.563 | G6: 4.66 | H6: 0.4501 | I6: 4.58 | J6: 1.0131 | K6: 4.62 | L6: 656.85 | N6: 271.92 | O6: 3.42 | P6: 386.28 | Q6: 3.44 | S6: 172.62 | T6: 3.3 | U6: 172.62 | V6: 3.3 | W6: 172.62 | X6: 3.3 | Y6: 172.62 | Z6: 3.3 | AA6: 172.62 | AB6: 3.3 | AC6: 172.62 | AD6: 3.3 | AE6: 172.62 | AF6: 3.3 | AG6: 172.62 | AH6: 3.3 | AI6: 172.62 | AJ6: 3.3 | AK6: 172.62 | AL6: 3.3 | AM6: 172.62 | AN6: 3.3 | AP6: 0 | AQ6: 0 | AR6: 1101.39 | AS6: 3.06 | AT6: 1215.75 | AU6: 3.1 | AW6: 2.15 | AX6: 4 | AY6: 0 | AZ6: 0 | BA6: 0 | BC6: 86.85 | BD6: 3.58 | BE6: 78.5 | BF6: 3.56 | BG6: 52.1 | BH6: 1.96 | BI6: 21.36 | BJ6: 3.44
A7: 1 | B7: 1966 | C7: Het Hogeland | D7: 0.1417 | E7: 2.56 | F7: 0.4536 | G7: 6.52 | H7: 0.3654 | I7: 6.33 | J7: 0.819 | K7: 6.44 | L7: 465.79 | N7: 266.69 | O7: 4.7 | P7: 355.38 | Q7: 4.51 | S7: 233.06 | T7: 7.44 | U7: 233.06 | V7: 7.44 | W7: 233.06 | X7: 7.44 | Y7: 233.06 | Z7: 7.44 | AA7: 233.06 | AB7: 7.44 | AC7: 233.06 | AD7: 7.44 | AE7: 233.06 | AF7: 7.44 | AG7: 233.06 | AH7: 7.44 | AI7: 233.06 | AJ7: 7.44 | AK7: 233.06 | AL7: 7.44 | AM7: 233.06 | AN7: 7.44 | AP7: 0 | AQ7: 0 | AR7: 965.54 | AS7: 4.29 | AT7: 1054.23 | AU7: 4.26 | AW7: 1 | AX7: 1.5 | AY7: 0 | AZ7: 0 | BA7: 0 | BC7: 86.85 | BD7: 3.58 | BE7: 78.5 | BF7: 3.56 | BG7: 52.1 | BH7: 1.96 | BI7: 9.65 | BJ7: 2.66
A8: 1 | B8: 1952 | C8: Midden-Groningen | D8: 0.1741 | E8: 6.9 | F8: 0.4638 | G8: 5.38 | H8: 0.3636 | I8: 4.38 | J8: 0.8274 | K8: 4.94 | L8: 599.75 | N8: 263.61 | O8: 12.51 | P8: 302.78 | Q8: 11.07 | S8: 198 | T8: 4.21 | U8: 198 | V8: 4.21 | W8: 198 | X8: 4.21 | Y8: 198 | Z8: 4.21 | AA8: 198 | AB8: 4.21 | AC8: 198 | AD8: 4.21 | AE8: 198 | AF8: 4.21 | AG8: 1622.05 | AH8: 30.81 | AI8: 1893.25 | AJ8: 31.48 | AK8: 3927.25 | AL8: 33.58 | AM8: 12063.25 | AN8: 34.94 | AP8: 0 | AQ8: 0 | AR8: 1061.36 | AS8: 7.71 | AT8: 1100.53 | AU8: 7.51 | AW8: 1.3 | AX8: 1.6 | AY8: 0 | AZ8: 0 | BA8: 0 | BC8: 86.85 | BD8: 3.58 | BE8: 78.5 | BF8: 3.56 | BG8: 52.1 | BH8: 1.96 | BI8: 11 | BJ8: 2.33
A9: 1 | B9: 1895 | C9: Oldambt | D9: 0.1549 | E9: 0.1 | F9: 0.5549 | G9: -3.77 | H9: 0.436 | I9: -3.8 | J9: 0.9909 | K9: -3.79 | L9: 491.71 | N9: 222.97 | O9: 0.76 | P9: 253.49 | Q9: 1.01 | S9: 244.7 | T9: 2.09 | U9: 244.7 | V9: 2.09 | W9: 244.7 | X9: 2.09 | Y9: 244.7 | Z9: 2.09 | AA9: 244.7 | AB9: 2.09 | AC9: 244.7 | AD9: 2.09 | AE9: 244.7 | AF9: 2.09 | AG9: 635.1 | AH9: 4.51 | AI9: 635.1 | AJ9: 4.51 | AK9: 1318.3 | AL9: 5.32 | AM9: 6003.1 | AN9: 5.92 | AP9: 0 | AQ9: 0 | AR9: 959.38 | AS9: 0.76 | AT9: 989.9 | AU9: 0.82 | AW9: 1.5 | AX9: 1.5 | AY9: 0 | AZ9: 0 | BA9: 0 | BC9: 86.85 | BD9: 3.58 | BE9: 78.5 | BF9: 3.56 | BG9: 52.1 | BH9: 1.96 | BI9: 8.2 | BJ9: 2.5
A10: 1 | B10: 0765 | C10: Pekela | D10: 0.1947 | E10: 3.37 | F10: 0.6144 | G10: -0.93 | H10: 0.3101 | I10: -0.92 | J10: 0.9245 | K10: -0.93 | L10: 489.98 | N10: 277.8 | O10: 9.2 | P10: 398 | Q10: 9.22 | S10: 187.2 | T10: 2.52 | U10: 187.2 | V10: 2.52 | W10: 187.2 | X10: 2.52 | Y10: 187.2 | Z10: 2.52 | AA10: 187.2 | AB10: 2.52 | AC10: 187.2 | AD10: 2.52 | AE10: 187.2 | AF10: 2.52 | AG10: 187.2 | AH10: 2.52 | AI10: 187.2 | AJ10: 2.52 | AK10: 187.2 | AL10: 2.52 | AM10: 187.2 | AN10: 2.52 | AP10: 0 | AQ10: 0 | AR10: 954.98 | AS10: 4.83 | AT10: 1075.18 | AU10: 5.31 | AW10: 0 | AX10: 0 | AY10: 0 | AZ10: 0 | BA10: 0 | BC10: 86.85 | BD10: 3.52 | BE10: 78.5 | BF10: 3.56 | BG10: 52.1 | BH10: 1.96 | BI10: 17.1 | BJ10: 3.01
A11: 1 | B11: 0037 | C11: Stadskanaal | D11: 0.1359 | E11: 6.55 | F11: 0.4332 | G11: -1.97 | H11: 0.3456 | I11: -1.9 | J11: 0.7788 | K11: -1.94 | L11: 459.23 | N11: 219.99 | O11: 2.17 | P11: 279.97 | Q11: 3.46 | S11: 196 | T11: 4.26 | U11: 196 | V11: 4.26 | W11: 196 | X11: 4.26 | Y11: 196 | Z11: 4.26 | AA11: 196 | AB11: 4.26 | AC11: 196 | AD11: 4.26 | AE11: 196 | AF11: 4.26 | AG11: 196 | AH11: 4.26 | AI11: 196 | AJ11: 4.26 | AK11: 196 | AL11: 4.26 | AM11: 196 | AN11: 4.26 | AP11: 0 | AQ11: 0 | AR11: 875.22 | AS11: 4.9 | AT11: 935.2 | AU11: 5.12 | AW11: 1.5 | AX11: 1.5 | AY11: 0 | AZ11: 0 | BA11: 0 | BC11: 86.85 | BD11: 3.58 | BE11: 78.5 | BF11: 3.56 | BG11: 52.1 | BH11: 2.16 | BI11: 12.65 | BJ11: 3.69
A12: 1 | B12: 0047 | C12: Veendam | D12: 0.1844 | E12: 4.43 | F12: 0.4079 | G12: -15.48 | H12: 0.2785 | I12: -14.86 | J12: 0.6864 | K12: -15.23 | L12: 521.97 | N12: 329 | O12: 1.86 | P12: 405.4 | Q12: 1.86 | S12: 175.1 | T12: 1.51 | U12: 175.1 | V12: 1.51 | W12: 175.1 | X12: 1.51 | Y12: 175.1 | Z12: 1.51 | AA12: 175.1 | AB12: 1.51 | AC12: 273.3 | AD12: 3.37 | AE12: 273.3 | AF12: 3.37 | AG12: 764.3 | AH12: 5.58 | AI12: 960.7 | AJ12: 5.84 | AK12: 2040.9 | AL12: 6.37 | AM12: 7581.8 | AN12: 0.02 | AP12: 0 | AQ12: 0 | AR12: 1026.07 | AS12: 3.09 | AT12: 1102.47 | AU12: 3 | AW12: 0 | AX12: 0 | AY12: 0 | AZ12: 0 | BA12: 0 | BC12: 86.85 | BD12: 3.58 | BE12: 78.5 | BF12: 3.56 | BG12: 52.1 | BH12: 1.96 | BI12: 17.1 | BJ12: 3.01
A13: 1 | B13: 1969 | C13: Westerkwartier | D13: 0.1149 | E13: 3.28 | F13: 0.2666 | G13: 4.13 | H13: 0.2106 | I13: 4.81 | J13: 0.4772 | K13: 4.43 | L13: 438.27 | N13: 339.9 | O13: 16.76 | P13: 431.79 | Q13: 13.56 | S13: 248 | T13: 4.2 | U13: 248 | V13: 4.2 | W13: 248 | X13: 4.2 | Y13: 248 | Z13: 4.2 | AA13: 248 | AB13: 4.2 | AC13: 248 | AD13: 4.2 | AE13: 248 | AF13: 4.2 | AG13: 248 | AH13: 4.2 | AI13: 248 | AJ13: 4.2 | AK13: 248 | AL13: 4.2 | AM13: 248 | AN13: 4.2 | AP13: 0 | AQ13: 0 | AR13: 1026.17 | AS13: 7.62 | AT13: 1118.06 | AU13: 7.24 | AW13: 0 | AX13: 0 | AY13: 0 | AZ13: 0 | BA13: 0 | BC13: 86.85 | BD13: 3.58 | BE13: 78.5 | BF13: 3.56 | BG13: 52.1 | BH13: 1.96 | BI13: 7.7 | BJ13: 2.67
A14: 1 | B14: 1950 | C14: Westerwolde | D14: 0.1411 | E14: 2.82 | F14: 0.3104 | G14: 2.46 | H14: 0.1876 | I14: 2.46 | J14: 0.498 | K14: 2.46 | L14: 483.11 | N14: 357.94 | O14: 2.75 | P14: 376.88 | Q14: 2.77 | S14: 316 | T14: 2.93 | U14: 316 | V14: 2.93 | AP14: 0 | AQ14: 0 | AR14: 1157.05 | AS14: 2.83 | AT14: 1175.99 | AU14: 2.84 | AW14: 1.4 | AX14: 1.4 | AY14: 12 | AZ14: 0 | BA14: 0 | BC14: 86.85 | BD14: 3.58 | BE14: 78.5 | BF14: 3.56 | BG14: 52.1 | BH14: 1.96 | BI14: 9.1 | BJ14: 2.82
A15: 2 | B15: 0059 | C15: Achtkarspelen | D15: 0.1225 | E15: 2.73 | F15: 0.3121 | G15: 6.59 | H15: 0.2471 | I15: 7.17 | J15: 0.5592 | K15: 6.85 | L15: 431.05 | N15: 238.56 | O15: -2.74 | P15: 340.68 | Q15: -2.77 | S15: 235.44 | T15: 6.98 | U15: 235.44 | V15: 6.98 | W15: 235.44 | X15: 6.98 | Y15: 235.44 | Z15: 6.98 | AA15: 235.44 | AB15: 6.98 | AC15: 235.44 | AD15: 6.98 | AE15: 235.44 | AF15: 6.98 | AG15: 235.44 | AH15: 6.98 | AI15: 235.44 | AJ15: 6.98 | AK15: 235.44 | AL15: 6.98 | AM15: 235.44 | AN15: 6.98 | AP15: 0 | AQ15: 0 | AR15: 905.05 | AS15: 2.27 | AT15: 1007.17 | AU15: 1.73 | AW15: 1.5 | AX15: 1.5 | AY15: 0 | AZ15: 0 | BA15: 0 | BC15: 86.85 | BD15: 3.58 | BE15: 78.5 | BF15: 3.56 | BG15: 52.1 | BH15: 1.96 | BI15: 17.1 | BJ15: 3.01
A16: 2 | B16: 0060 | C16: Ameland | D16: 0.0647 | E16: -1.51 | F16: 0.1511 | G16: -0.4 | H16: 0.1209 | I16: -0.41 | J16: 0.272 | K16: -0.4 | L16: 264.75 | N16: 181.67 | O16: 2 | P16: 238.66 | Q16: 2 | S16: 149.55 | T16: 0 | U16: 176.92 | V16: 0 | W16: 165.6 | X16: 0 | Y16: 215.6 | Z16: 0 | AA16: 265.6 | AB16: 0 | AC16: 315.6 | AD16: 0 | AE16: 365.6 | AF16: 0 | AG16: 1165.6 | AH16: 0 | AI16: 1365.6 | AJ16: 0 | AK16: 3115.6 | AL16: 0 | AM16: 15115.6 | AN16: 20.92 | AP16: 0 | AQ16: 0 | AR16: 595.97 | AS16: -0.08 | AT16: 680.33 | AU16: 0.09 | AW16: 2.04 | AX16: 2.04 | AY16: 2 | AZ16: 0 | BA16: 0 | BC16: 86.85 | BD16: 3.58 | BE16: 78.5 | BF16: 3.56 | BG16: 52.1 | BH16: 1.96 | BI16: 11.25 | BJ16: 0
A17: 2 | B17: 1891 | C17: Dantumadiel | D17: 0.1395 | E17: 2.62 | F17: 0.3076 | G17: 9.35 | H17: 0.2393 | I17: 9.34 | J17: 0.5469 | K17: 9.35 | L17: 540.11 | N17: 209.22 | O17: 2.2 | P17: 261.38 | Q17: 2.2 | S17: 188.23 | T17: 0 | U17: 188.23 | V17: 0 | AP17: 0 | AQ17: 0 | AR17: 937.56 | AS17: 1.99 | AT17: 989.72 | AU17: 2 | AW17: 1 | AX17: 1 | AY17: 0 | AZ17: 0 | BA17: 0 | BC17: 63.85 | BD17: 2.16 | BE17: 56.7 | BF17: 2.16 | BG17: 38.8 | BH17: 2.11 | BI17: 12.2 | BJ17: 2.09
A18: 2 | B18: 1940 | C18: De Fryske Marren | D18: 0.085 | E18: 2.25 | F18: 0.2905 | G18: 9.83 | H18: 0.2184 | I18: 9.81 | J18: 0.5089 | K18: 9.82 | L18: 349.73 | N18: 248 | O18: 5.08 | P18: 315 | Q18: 5 | S18: 131 | T18: 4.8 | U18: 225 | V18: 5.14 | W18: 124 | X18: 4.2 | Y18: 220 | Z18: 4.27 | AA18: 316 | AB18: 4.29 | AC18: 412 | AD18: 4.3 | AE18: 508 | AF18: 4.31 | AG18: 2044 | AH18: 4.34 | AI18: 2428 | AJ18: 4.34 | AK18: 5788 | AL18: 4.34 | AM18: 24828 | AN18: 4.52 | AP18: 0 | AQ18: 0 | AR18: 728.73 | AS18: 3.66 | AT18: 889.73 | AU18: 3.94 | AW18: 2 | AX18: 2 | AY18: 66.67 | AZ18: 0 | BA18: 0 | BC18: 86.85 | BD18: 3.58 | BE18: 78.5 | BF18: 3.56 | BG18: 51.1 | BH18: 0 | BI18: 8.85 | BJ18: 4.12
A19: 2 | B19: 0072 | C19: Harlingen | D19: 0.1021 | E19: 9.51 | F19: 0.3718 | G19: 7.84 | H19: 0.2716 | I19: 4.91 | J19: 0.6434 | K19: 6.59 | L19: 329.53 | N19: 217.08 | O19: 0 | P19: 323.04 | Q19: 0 | S19: 201.6 | T19: 5.66 | U19: 201.6 | V19: 5.66 | AP19: 0 | AQ19: 0 | AR19: 748.21 | AS19: 5.56 | AT19: 854.17 | AU19: 4.84 | AW19: 1.95 | AX19: 1.95 | AY19: 25.81 | AZ19: 0 | BA19: 0 | BC19: 86.85 | BD19: 3.55 | BE19: 78.5 | BF19: 3.56 | BG19: 52.1 | BH19: 1.94 | BI19: 5.1 | BJ19: 3.03
A20: 2 | B20: 0074 | C20: Heerenveen | D20: 0.1091 | E20: 3.02 | F20: 0.3617 | G20: 3.33 | H20: 0.2868 | I20: 2.68 | J20: 0.6485 | K20: 3.04 | L20: 442.32 | N20: 234.17 | O20: 6.56 | P20: 301.34 | Q20: 5.92 | S20: 198 | T20: 4.21 | U20: 263 | V20: 3.95 | W20: 616 | X20: 3.7 | Y20: 616 | Z20: 3.7 | AA20: 845 | AB20: 3.81 | AC20: 1074 | AD20: 3.87 | AE20: 1303 | AF20: 3.91 | AG20: 4274 | AH20: 3.89 | AI20: 4938 | AJ20: 3.87 | AK20: 10748 | AL20: 3.81 | AM20: 34788 | AN20: 6.21 | AP20: 0 | AQ20: 0 | AR20: 874.49 | AS20: 4.22 | AT20: 1006.66 | AU20: 4.12 | AW20: 1.05 | AX20: 2.45 | AY20: 4.26 | AZ20: 0 | BA20: 0 | BC20: 86.85 | BD20: 3.58 | BE20: 78.5 | BF20: 3.56 | BG20: 52.1 | BH20: 1.96 | BI20: 9.2 | BJ20: 0
A21: 2 | B21: 0080 | C21: Leeuwarden | D21: 0.10721 | E21: 2.55 | F21: 0.48401 | G21: 3.29 | H21: 0.38806 | I21: 3.52 | J21: 0.87207 | K21: 3.4 | L21: 367.09 | N21: 220.76 | O21: 1.43 | P21: 353.55 | Q21: 4.32 | S21: 144.01 | T21: 5.36 | U21: 177.04 | V21: 4.78 | AP21: 0 | AQ21: 0 | AR21: 731.86 | AS21: 2.75 | AT21: 897.68 | AU21: 3.68 | AW21: 1.65 | AX21: 1.65 | AY21: 0 | AZ21: 83.76 | BA21: 2.27 | BC21: 86.8 | BD21: 3.58 | BE21: 78.5 | BF21: 3.56 | BG21: 52.1 | BH21: 1.96 | BI21: 17.1 | BJ21: 7.55
A22: 2 | B22: 1970 | C22: Noardeast-Fryslân | D22: 0.1248 | E22: 10.14 | F22: 0.2594 | G22: 0.99 | H22: 0.2249 | I22: 14.83 | J22: 0.4843 | K22: 6.98 | L22: 423.33 | N22: 170.46 | O22: 2 | P22: 242.18 | Q22: 2 | S22: 240.21 | T22: 0 | U22: 240.21 | V22: 0 | W22: 240.21 | X22: 0 | Y22: 261.42 | Z22: 8.83 | AA22: 261.42 | AB22: 8.83 | AC22: 303.84 | AD22: 16.23 | AE22: 325.05 | AF22: 15.01 | AG22: 515.94 | AH22: 4.29 | AI22: 579.57 | AJ22: 7.9 | AK22: 1067.4 | AL22: 2.03 | AM22: 4461 | AN22: 0.48 | AP22: 0 | AQ22: 0 | AR22: 834 | AS22: 5.34 | AT22: 905.72 | AU22: 5.07 | AW22: 1.5 | AX22: 1.5 | AY22: 0 | AZ22: 0 | BA22: 0 | BC22: 86.85 | BD22: 3.58 | BE22: 78.5 | BF22: 3.56 | BG22: 48.15 | BH22: 0 | BI22: 8.9 | BJ22: 2.3
A23: 2 | B23: 0085 | C23: Ooststellingwerf | D23: 0.0748 | E23: 1.64 | F23: 0.0988 | G23: 5.73 | H23: 0.0843 | I23: 8.19 | J23: 0.1831 | K23: 6.85 | L23: 271.89 | N23: 224.07 | O23: 2.58 | P23: 290.13 | Q23: 4.04 | S23: 175.65 | T23: 2.81 | U23: 304.55 | V23: 2.78 | W23: 255 | X23: 2.82 | Y23: 400 | Z23: 2.83 | AA23: 523 | AB23: 2.95 | AC23: 646 | AD23: 3.03 | AE23: 769 | AF23: 3.08 | AG23: 2486 | AH23: 3.11 | AI23: 2774 | AJ23: 3.08 | AK23: 5024 | AL23: 3.14 | AM23: 11624 | AN23: 2.05 | AP23: 0 | AQ23: 0 | AR23: 671.61 | AS23: 2.26 | AT23: 866.57 | AU23: 2.84 | AW23: 1.2 | AX23: 1.65 | AY23: 10 | AZ23: 0 | BA23: 0 | BC23: 86.85 | BD23: 3.58 | BE23: 78.5 | BF23: 3.56 | BG23: 52.1 | BH23: 1.96 | BI23: 11 | BJ23: 2.8
A24: 2 | B24: 0086 | C24: Opsterland | D24: 0.0798 | E24: 1.08 | F24: 0.1869 | G24: 2.61 | H24: 0.1516 | I24: 2.67 | J24: 0.3385 | K24: 2.64 | L24: 311.18 | N24: 209.44 | O24: 5.54 | P24: 250.87 | Q24: 4.59 | S24: 197 | T24: -6.64 | U24: 259 | V24: -6.5 | W24: 184 | X24: -6.6 | Y24: 270 | Z24: -6.57 | AA24: 270 | AB24: -6.57 | AC24: 270 | AD24: -6.57 | AE24: 270 | AF24: -6.57 | AG24: 1109 | AH24: -6.57 | AI24: 1109 | AJ24: -6.57 | AK24: 1948 | AL24: -6.53 | AM24: 8144 | AN24: -6.51 | AP24: 0 | AQ24: 0 | AR24: 717.62 | AS24: 0.05 | AT24: 821.05 | AU24: -0.44 | AW24: 2.89 | AX24: 3.69 | AY24: 7.63 | AZ24: 0 | BA24: 0 | BC24: 86.85 | BD24: 4.01 | BE24: 78.5 | BF24: 3.97 | BG24: 52 | BH24: 1.96 | BI24: 8.2 | BJ24: 2.5
A25: 2 | B25: 0088 | C25: Schiermonnikoog | D25: 0.0998 | E25: 7.03 | F25: 0.226 | G25: 4.37 | H25: 0.1819 | I25: 4.4 | J25: 0.4079 | K25: 4.39 | L25: 498.69 | N25: 263.5 | O25: 1.97 | P25: 343.5 | Q25: 1.99 | S25: 132.49 | T25: 1.94 | U25: 191.57 | V25: 1.92 | W25: 167.16 | X25: 1.93 | Y25: 275.16 | Z25: 1.91 | AA25: 473.16 | AB25: 1.92 | AC25: 581.16 | AD25: 1.91 | AE25: 689.16 | AF25: 1.91 | AG25: 2417.16 | AH25: 1.89 | AI25: 2849.16 | AJ25: 1.89 | AK25: 6629.6 | AL25: 1.9 | AM25: 32549.16 | AN25: 1.89 | AP25: 0 | AQ25: 0 | AR25: 894.68 | AS25: 4.72 | AT25: 1033.76 | AU25: 4.35 | AW25: 1.97 | AX25: 1.97 | AY25: 2.07 | AZ25: 0 | BA25: 0 | BC25: 86.85 | BD25: 3.58 | BE25: 78.5 | BF25: 3.56 | BG25: 51.1 | BH25: -0.02 | BI25: 5.1 | BJ25: 2
A26: 2 | B26: 0090 | C26: Smallingerland | D26: 0.107 | E26: 3.65 | F26: 0.3504 | G26: -6.21 | H26: 0.2806 | I26: -6.22 | J26: 0.631 | K26: -6.22 | L26: 381.65 | N26: 253.5 | O26: 1 | P26: 298 | Q26: 1.02 | S26: 321 | T26: 8.45 | U26: 321 | V26: 8.45 | W26: 321 | X26: 8.45 | Y26: 321 | Z26: 8.45 | AA26: 321 | AB26: 8.45 | AC26: 321 | AD26: 8.45 | AE26: 321 | AF26: 8.45 | AG26: 321 | AH26: 8.45 | AI26: 321 | AJ26: 8.45 | AK26: 321 | AL26: 8.45 | AM26: 321 | AN26: 8.45 | AP26: 0 | AQ26: 0 | AR26: 956.15 | AS26: 4.47 | AT26: 1000.65 | AU26: 4.32 | AW26: 1.5 | AX26: 1.5 | AY26: -6.25 | AZ26: 79 | BA26: 2.6 | BC26: 86 | BD26: 3.61 | BE26: 78 | BF26: 4 | BG26: 52 | BH26: 8 | BI26: 7.8 | BJ26: 4
A27: 2 | B27: 1900 | C27: Súdwest Fryslân | D27: 0.1068 | E27: 2.73 | F27: 0.3282 | G27: 3.86 | H27: 0.2626 | I27: 3.89 | J27: 0.5908 | K27: 3.88 | L27: 399.62 | N27: 244.44 | O27: 2 | P27: 292.68 | Q27: 2.01 | S27: 211.24 | T27: 3.84 | U27: 211.24 | V27: 3.84 | W27: 309.28 | X27: 3.54 | Y27: 309.28 | Z27: 3.54 | AA27: 309.28 | AB27: 3.54 | AC27: 309.28 | AD27: 3.54 | AE27: 309.28 | AF27: 3.54 | AG27: 309.28 | AH27: 3.54 | AI27: 309.28 | AJ27: 3.54 | AK27: 309.28 | AL27: 3.54 | AM27: 309.28 | AN27: 3.54 | AP27: 0 | AQ27: 0 | AR27: 855.3 | AS27: 2.79 | AT27: 903.54 | AU27: 2.75 | AW27: 2 | AX27: 2 | AY27: 60 | AZ27: 0 | BA27: 0 | BC27: 86.85 | BD27: 3.58 | BE27: 78.5 | BF27: 3.56 | BG27: 52.1 | BH27: 1.96 | BI27: 12.7 | BJ27: 4.1
A28: 2 | B28: 0093 | C28: Terschelling | D28: 0.088 | E28: 4.1 | F28: 0.417 | G28: 13.61 | H28: 0.328 | I28: 13.6 | J28: 0.745 | K28: 13.61 | L28: 449.8 | N28: 254.33 | O28: 5 | P28: 254.33 | Q28: 5 | S28: 196.65 | T28: 3.23 | U28: 196.65 | V28: 3.23 | W28: 196.65 | X28: 3.23 | Y28: 255.65 | Z28: 3.29 | AA28: 373.65 | AB28: 3.36 | AC28: 491.65 | AD28: 3.4 | AE28: 609.65 | AF28: 3.42 | AG28: 2497.65 | AH28: 3.49 | AI28: 2969.65 | AJ28: 3.49 | AK28: 7099.65 | AL28: 3.5 | AM28: 35419.65 | AN28: 3.51 | AP28: 0 | AQ28: 0 | AR28: 900.78 | AS28: 4.16 | AT28: 900.78 | AU28: 4.16 | AW28: 2.16 | AX28: 2.16 | AY28: 2.86 | AZ28: 0 | BA28: 0 | BC28: 86.85 | BD28: 3.55 | BE28: 78.5 | BF28: 3.56 | BG28: 45.36 | BH28: 5.07 | BI28: 4.72 | BJ28: 3.51
A29: 2 | B29: 0737 | C29: Tytsjerksteradiel | D29: 0.1424 | E29: 2.81 | F29: 0.2804 | G29: 1.26 | H29: 0.2411 | I29: 0.68 | J29: 0.5215 | K29: 0.99 | L29: 516.3 | N29: 211.8 | O29: 7.29 | P29: 302.4 | Q29: 7.23 | S29: 151.8 | T29: 4.55 | U29: 169.2 | V29: 4.83 | W29: 199.8 | X29: 4.72 | Y29: 199.8 | Z29: 4.72 | AA29: 199.8 | AB29: 4.72 | AC29: 199.8 | AD29: 4.72 | AE29: 199.8 | AF29: 4.72 | AG29: 199.8 | AH29: 4.72 | AI29: 199.8 | AJ29: 4.72 | AK29: 199.8 | AL29: 4.72 | AM29: 199.8 | AN29: 4.72 | AP29: 0 | AQ29: 0 | AR29: 879.9 | AS29: 4.16 | AT29: 987.9 | AU29: 4.48 | AW29: 1.5 | AX29: 1.5 | AY29: 0 | AZ29: 0 | BA29: 0 | BC29: 86.85 | BD29: 3.58 | BE29: 78.5 | BF29: 3.56 | BG29: 52.1 | BH29: 1.96 | BI29: 17.1 | BJ29: 3.01
A30: 2 | B30: 0096 | C30: Vlieland | D30: 0.06452 | E30: 5.56 | F30: 0.21075 | G30: 2.1 | H30: 0.20575 | I30: 5.1 | J30: 0.4165 | K30: 3.56 | L30: 352.67 | N30: 280 | O30: 5.26 | P30: 374 | Q30: 5.35 | S30: 127.34 | T30: 10 | U30: 191.01 | V30: 10 | W30: 127.34 | X30: 10 | Y30: 254.68 | Z30: 10 | AA30: 382.02 | AB30: 10 | AC30: 509.36 | AD30: 10 | AE30: 636.7 | AF30: 10 | AG30: 3820.2 | AH30: 10.5 | AI30: 3820.2 | AJ30: 10.5 | AK30: 7640.4 | AL30: 10.5 | AM30: 38202 | AN30: 10.5 | AP30: 0 | AQ30: 0 | AR30: 760.01 | AS30: 6.17 | AT30: 917.68 | AU30: 6.37 | AW30: 2.32 | AX30: 2.32 | AY30: 5.45 | AZ30: 91.31 | BA30: 5.31 | BC30: 86 | BD30: 3.61 | BE30: 78 | BF30: 4 | BG30: 52.1 | BH30: 1.96 | BI30: 0 | BJ30: 0
A31: 2 | B31: 1949 | C31: Waadhoeke | D31: 0.1168 | E31: 4.4 | F31: 0.246 | G31: 3.39 | H31: 0.1684 | I31: 0.57 | J31: 0.4144 | K31: 2.23 | L31: 364.64 | N31: 252.8 | O31: 0.96 | P31: 316 | Q31: 0.96 | S31: 278 | T31: 5.62 | U31: 347.5 | V31: 5.62 | W31: 486.5 | X31: 5.62 | Y31: 486.5 | Z31: 5.62 | AA31: 486.5 | AB31: 5.62 | AC31: 486.5 | AD31: 5.62 | AE31: 486.5 | AF31: 5.62 | AG31: 486.5 | AH31: 5.62 | AI31: 486.5 | AJ31: 5.62 | AK31: 486.5 | AL31: 5.62 | AM31: 486.5 | AN31: 5.62 | AP31: 0 | AQ31: 0 | AR31: 895.44 | AS31: 3.77 | AT31: 1028.14 | AU31: 3.72 | AW31: 1 | AX31: 1 | AY31: Nieuw ingevoerd | AZ31: 0 | BA31: 0 | BC31: 86.85 | BD31: 3.58 | BE31: 78.5 | BF31: 3.56 | BG31: 52.1 | BH31: 1.96 | BI31: 9.3 | BJ31: 0
A32: 2 | B32: 0098 | C32: Weststellingwerf | D32: 0.0897 | E32: 2.44 | F32: 0.2258 | G32: 5.83 | H32: 0.2201 | I32: 5.85 | J32: 0.4459 | K32: 5.84 | L32: 338.35 | N32: 203 | O32: 2.01 | P32: 305 | Q32: 2.01 | S32: 200.09 | T32: 4.73 | U32: 200.09 | V32: 4.73 | W32: 200.09 | X32: 4.73 | Y32: 200.09 | Z32: 4.73 | AA32: 200.09 | AB32: 4.73 | AC32: 200.09 | AD32: 4.73 | AE32: 200.09 | AF32: 4.73 | AG32: 200.09 | AH32: 4.73 | AI32: 200.09 | AJ32: 4.73 | AK32: 200.09 | AL32: 4.73 | AM32: 200.09 | AN32: 4.73 | AP32: 0 | AQ32: 0 | AR32: 741.44 | AS32: 2.93 | AT32: 843.44 | AU32: 2.81 | AW32: 2.31 | AX32: 5.9 | AY32: 7.63 | AZ32: 0 | BA32: 0 | BC32: 86.85 | BD32: 3.58 | BE32: 78.5 | BF32: 3.56 | BG32: 52.1 | BH32: 1.96 | BI32: 9.15 | BJ32: 2.81
A33: 3 | B33: 1680 | C33: Aa en Hunze | D33: 0.0927 | E33: 5.85 | F33: 0.2168 | G33: 0.76 | H33: 0.1021 | I33: 5.04 | J33: 0.3189 | K33: 2.09 | L33: 391.1 | N33: 198.75 | O33: 0 | P33: 265 | Q33: 0 | S33: 196 | T33: 18.79 | U33: 196 | V33: 18.79 | AP33: 0 | AQ33: 0 | AR33: 785.85 | AS33: 7.18 | AT33: 852.1 | AU33: 6.58 | AW33: 1.3 | AX33: 1.3 | AY33: 4 | AZ33: 0 | BA33: 0 | BC33: 86.85 | BD33: 3.58 | BE33: 78.5 | BF33: 3.56 | BG33: 52.1 | BH33: 1.96 | BI33: 9.2 | BJ33: 2.22
A34: 3 | B34: 0106 | C34: Assen | D34: 0.1405 | E34: 0.76 | F34: 0.4782 | G34: 5.42 | H34: 0.3871 | I34: 5.34 | J34: 0.8653 | K34: 5.38 | L34: 498.81 | N34: 209.17 | O34: 8.52 | P34: 282.4 | Q34: 5.78 | S34: 177.37 | T34: -1.12 | U34: 177.37 | V34: -1.12 | W34: 177.37 | X34: -1.12 | Y34: 177.37 | Z34: -1.12 | AA34: 177.37 | AB34: -1.12 | AC34: 177.37 | AD34: -1.12 | AE34: 177.37 | AF34: -1.12 | AG34: 1713.37 | AH34: -4.57 | AI34: 2097.37 | AJ34: -4.64 | AK34: 5457.37 | AL34: -4.83 | AM34: 28097.37 | AN34: -4.99 | AP34: 0 | AQ34: 0 | AR34: 885.35 | AS34: 2.1 | AT34: 958.58 | AU34: 1.83 | AW34: 1.55 | AX34: 1.55 | AY34: 3.33 | AZ34: 0 | BA34: 0 | BC34: 86.85 | BD34: 3.55 | BE34: 78.5 | BF34: 3.56 | BG34: 52.1 | BH34: 1.94 | BI34: 21.23 | BJ34: 3.21
A35: 3 | B35: 1681 | C35: Borger-Odoorn | D35: 0.1533 | E35: 2.06 | F35: 0.1533 | G35: -3.46 | H35: 0.1249 | I35: -3.82 | J35: 0.2782 | K35: -3.62 | L35: 555.69 | N35: 205.19 | O35: 6.52 | P35: 240.63 | Q35: 5.51 | S35: 254.65 | T35: -3.99 | U35: 254.65 | V35: -3.99 | AP35: 0 | AQ35: 0 | AR35: 1015.53 | AS35: 1.32 | AT35: 1050.97 | AU35: 1.27 | AW35: 1.3 | AX35: 1.75 | AY35: 0 | AZ35: 0 | BA35: 0 | BC35: 86.85 | BD35: 3.58 | BE35: 78.5 | BF35: 3.97 | BG35: 52.1 | BH35: 1.96 | BI35: 10.3 | BJ35: 3
A36: 3 | B36: 0109 | C36: Coevorden | D36: 0.1421 | E36: 7.55 | F36: 0.2342 | G36: 4.01 | H36: 0.1952 | I36: 4.03 | J36: 0.4294 | K36: 4.02 | L36: 517.23 | N36: 234.69 | O36: -12.83 | P36: 254.38 | Q36: -21.56 | S36: 232.63 | T36: 1.93 | U36: 232.63 | V36: 1.93 | AP36: 0 | AQ36: 0 | AR36: 984.55 | AS36: 0.63 | AT36: 1004.24 | AU36: -2.83 | AW36: 1.45 | AX36: 1.45 | AY36: 7.41 | AZ36: 0 | BA36: 0 | BC36: 86.85 | BD36: 3.58 | BE36: 78.5 | BF36: 3.56 | BG36: 52.1 | BH36: 1.96 | BI36: 12.75 | BJ36: 2
A37: 3 | B37: 1690 | C37: De Wolden | D37: 0.0838 | E37: 0.48 | F37: 0.1955 | G37: -0.42 | H37: 0.1576 | I37: -2 | J37: 0.3531 | K37: -1.13 | L37: 390.14 | N37: 182.1 | O37: 6.34 | P37: 256.57 | Q37: 6.1 | S37: 213.36 | T37: 0.68 | U37: 237.48 | V37: 0.61 | W37: 237.48 | X37: 0.61 | Y37: 237.48 | Z37: 0.61 | AA37: 356.22 | AB37: 0.61 | AC37: 474.96 | AD37: 0.61 | AE37: 591.96 | AF37: 0.66 | AG37: 2463.96 | AH37: 0.81 | AI37: 2931.96 | AJ37: 0.82 | AK37: 5891.96 | AL37: 0.84 | AM37: 8781.96 | AN37: 0.56 | AP37: 0 | AQ37: 0 | AR37: 785.6 | AS37: 1.84 | AT37: 884.19 | AU37: 2.09 | AW37: 1.3 | AX37: 1.3 | AY37: 7.44 | AZ37: 0 | BA37: 0 | BC37: 86.8 | BD37: 3.52 | BE37: 78.5 | BF37: 3.56 | BG37: 52.1 | BH37: 1.96 | BI37: 11.6 | BJ37: 3.11
A38: 3 | B38: 0114 | C38: Emmen | D38: 0.1298 | E38: 0.69 | F38: 0.332 | G38: 0.52 | H38: 0.261 | I38: -2.67 | J38: 0.593 | K38: -0.91 | L38: 414.92 | N38: 277.11 | O38: 9.48 | P38: 310.22 | Q38: 8.39 | S38: 242.94 | T38: 3.61 | U38: 242.94 | V38: 3.61 | AP38: 0 | AQ38: 0 | AR38: 934.97 | AS38: 3.93 | AT38: 968.08 | AU38: 3.79 | AW38: 1.7 | AX38: 1.7 | AY38: 3.03 | AZ38: 0 | BA38: 0 | BC38: 86.85 | BD38: 3.58 | BE38: 78.5 | BF38: 3.56 | BG38: 52.1 | BH38: 1.96 | BI38: 14.15 | BJ38: 2.17
A39: 3 | B39: 0118 | C39: Hoogeveen | D39: 0.1258 | E39: -8.41 | F39: 0.292 | G39: -9.8 | H39: 0.2147 | I39: -12.95 | J39: 0.5067 | K39: -11.16 | L39: 434.41 | N39: 204.12 | O39: 0 | P39: 286.8 | Q39: 0 | S39: 163.7 | T39: 2.89 | U39: 163.7 | V39: 2.89 | AP39: 0 | AQ39: 0 | AR39: 802.23 | AS39: -4.21 | AT39: 884.91 | AU39: -3.83 | AW39: 1.5 | AX39: 1.5 | AY39: 0 | AZ39: 0 | BA39: 0 | BC39: 86.85 | BD39: 3.58 | BE39: 78.5 | BF39: 3.97 | BG39: 52.1 | BH39: 1.96 | BI39: 11.6 | BJ39: 3.11
A40: 3 | B40: 0119 | C40: Meppel | D40: 0.113 | E40: 3.7 | F40: 0.435 | G40: 0.9 | H40: 0.308 | I40: -2.56 | J40: 0.743 | K40: -0.56 | L40: 435.05 | N40: 230 | O40: 5.5 | P40: 230 | Q40: 5.5 | S40: 186 | T40: 1.64 | U40: 186 | V40: 1.64 | W40: 186 | X40: 1.64 | Y40: 186 | Z40: 1.64 | AA40: 186 | AB40: 1.64 | AC40: 186 | AD40: 1.64 | AE40: 186 | AF40: 1.64 | AG40: 186 | AH40: 1.64 | AI40: 186 | AJ40: 1.64 | AK40: 186 | AL40: 1.64 | AM40: 186 | AN40: 1.64 | AP40: 0 | AQ40: 0 | AR40: 851.05 | AS40: 3.72 | AT40: 851.05 | AU40: 3.72 | AW40: 0 | AX40: 0 | AY40: 0 | AZ40: 0 | BA40: 0 | BC40: 86.85 | BD40: 3.58 | BE40: 78.5 | BF40: 3.56 | BG40: 52.1 | BH40: 1.96 | BI40: 12.45 | BJ40: 2.47
A41: 3 | B41: 1731 | C41: Midden-Drenthe | D41: 0.1042 | E41: 13.81 | F41: 0.2737 | G41: 9.91 | H41: 0.2191 | I41: 9.92 | J41: 0.4928 | K41: 9.92 | L41: 419.87 | N41: 193.55 | O41: 0 | P41: 238.55 | Q41: 0 | S41: 246.85 | T41: 3.5 | U41: 246.85 | V41: 3.5 | W41: 246.85 | X41: 3.5 | Y41: 246.85 | Z41: 3.5 | AA41: 246.85 | AB41: 3.5 | AC41: 246.85 | AD41: 3.5 | AE41: 246.85 | AF41: 3.5 | AG41: 854.85 | AH41: 2.93 | AI41: 1006.85 | AJ41: 2.9 | AK41: 2336.85 | AL41: 2.79 | AM41: 9856.85 | AN41: 3.18 | AP41: 0 | AQ41: 0 | AR41: 860.27 | AS41: 7.4 | AT41: 905.27 | AU41: 7.01 | AW41: 1.45 | AX41: 1.75 | AY41: 12.9 | AZ41: 0 | BA41: 0 | BC41: 86.85 | BD41: 3.58 | BE41: 78.5 | BF41: 3.56 | BG41: 52.1 | BH41: 1.96 | BI41: 9.25 | BJ41: 2.21
A42: 3 | B42: 1699 | C42: Noordenveld | D42: 0.09541 | E42: 7.05 | F42: 0.09541 | G42: 2.74 | H42: 0.16102 | I42: 8.7 | J42: 0.25643 | K42: 6.4 | L42: 422.88 | N42: 247.73 | O42: 3.13 | P42: 294.68 | Q42: 4.74 | S42: 325.53 | T42: 9.4 | U42: 325.53 | V42: 9.4 | AP42: 0 | AQ42: 0 | AR42: 996.14 | AS42: 6.79 | AT42: 1043.09 | AU42: 7.1 | AW42: 1.1 | AX42: 1.75 | AY42: 0 | AZ42: 0 | BA42: 0 | BC42: 86.85 | BD42: 3.58 | BE42: 78.5 | BF42: 3.56 | BG42: 52.1 | BH42: 1.96 | BI42: 8.3 | BJ42: 9.93
A43: 3 | B43: 1701 | C43: Westerveld | D43: 0.0958 | E43: 10.2 | F43: 0.2038 | G43: 7.9 | H43: 0.1331 | I43: 6.11 | J43: 0.3369 | K43: 7.18 | L43: 455.07 | N43: 220.15 | O43: 4.76 | P43: 250.29 | Q43: -18.28 | S43: 213.18 | T43: -2.29 | U43: 213.18 | V43: -2.29 | AP43: 0 | AQ43: 0 | AR43: 888.4 | AS43: 5.6 | AT43: 918.54 | AU43: -2.02 | AW43: 1 | AX43: 2 | AY43: 5.26 | AZ43: 0 | BA43: 0 | BC43: 86.85 | BD43: 3.58 | BE43: 78.5 | BF43: 3.56 | BG43: 52.1 | BH43: 1.96 | BI43: 8.65 | BJ43: 2.98
A44: 3 | B44: 1730 | C44: Tynaarlo | D44: 0.0817 | E44: 3.19 | F44: 0.1797 | G44: 5.73 | H44: 0.1129 | I44: 5.86 | J44: 0.2926 | K44: 5.78 | L44: 394.05 | N44: 208.86 | O44: 13.29 | P44: 237.73 | Q44: 11.22 | S44: 203.7 | T44: 7.83 | U44: 203.7 | V44: 7.83 | W44: 203.7 | X44: 7.83 | Y44: 203.7 | Z44: 7.83 | AA44: 203.7 | AB44: 7.83 | AC44: 394.77 | AD44: 7.83 | AE44: 394.77 | AF44: 7.83 | AG44: 1790.85 | AH44: 7.83 | AI44: 2256.21 | AJ44: 7.83 | AK44: 6328.11 | AL44: 7.83 | AM44: 28384.46 | AN44: 7.1 | AP44: 0 | AQ44: 0 | AR44: 806.61 | AS44: 6.81 | AT44: 835.48 | AU44: 6.5 | AW44: 1.15 | AX44: 1.5 | AY44: 0 | AZ44: 0 | BA44: 0 | BC44: 86.85 | BD44: 3.58 | BE44: 78.5 | BF44: 3.56 | BG44: 52.1 | BH44: 1.96 | BI44: 17.85 | BJ44: 5
A45: 4 | B45: 0141 | C45: Almelo | D45: 0.1178 | E45: 3.26 | F45: 0.4099 | G45: 12.86 | H45: 0.3163 | I45: 12.47 | J45: 0.7262 | K45: 12.69 | L45: 431.22 | N45: 268.79 | O45: 2 | P45: 293.02 | Q45: 2 | S45: 321.84 | T45: 3.51 | U45: 344.28 | V45: 3.54 | W45: 471.24 | X45: 3.53 | Y45: 471.24 | Z45: 3.53 | AA45: 521.72 | AB45: 3.07 | AC45: 573.24 | AD45: 2.89 | AE45: 624.24 | AF45: 2.64 | AG45: 1389.24 | AH45: 1.17 | AI45: 1644.24 | AJ45: 0.99 | AK45: 3429.24 | AL45: 0.47 | AM45: 15669.24 | AN45: 0.1 | AP45: 0 | AQ45: 0 | AR45: 1021.85 | AS45: 3.01 | AT45: 1068.52 | AU45: 3 | AW45: 1.05 | AX45: 1.7 | AY45: 3.03 | AZ45: 0 | BA45: 0 | BC45: 86.85 | BD45: 3.55 | BE45: 78.5 | BF45: 3.56 | BG45: 52.1 | BH45: 1.96 | BI45: 24.35 | BJ45: 2.31
A46: 4 | B46: 0147 | C46: Borne | D46: 0.1362 | E46: -0.68 | F46: 0.4383 | G46: 1.92 | H46: 0.3307 | I46: -1.79 | J46: 0.769 | K46: 0.29 | L46: 604.57 | N46: 200.95 | O46: 2.76 | P46: 236.89 | Q46: 3.41 | S46: 228.84 | T46: 5.13 | U46: 228.84 | V46: 5.13 | W46: 228.89 | X46: 5.15 | Y46: 228.89 | Z46: 5.15 | AA46: 228.89 | AB46: 5.15 | AC46: 228.89 | AD46: 5.15 | AE46: 228.89 | AF46: 5.15 | AG46: 1099.61 | AH46: 1.03 | AI46: 1099.61 | AJ46: 1.03 | AK46: 2623.37 | AL46: 0.43 | AM46: 13072.01 | AN46: 0.09 | AP46: 0 | AQ46: 0 | AR46: 1034.36 | AS46: 1.22 | AT46: 1070.3 | AU46: 1.41 | AW46: 1 | AX46: 1.6 | AY46: Nieuw ingevoerd | AZ46: 0 | BA46: 0 | BC46: 86.85 | BD46: 3.55 | BE46: 78.5 | BF46: 3.56 | BG46: 52.1 | BH46: 1.96 | BI46: 10.6 | BJ46: 1.92
A47: 4 | B47: 0148 | C47: Dalfsen | D47: 0.104 | E47: 12.1 | F47: 0.2329 | G47: 3.47 | H47: 0.2216 | I47: 2.94 | J47: 0.4545 | K47: 3.21 | L47: 526.69 | N47: 232.56 | O47: 2.2 | P47: 260.13 | Q47: 1.96 | S47: 148.95 | T47: 3.83 | U47: 148.95 | V47: 3.83 | W47: 149.15 | X47: 3.97 | Y47: 149.15 | Z47: 3.97 | AA47: 149.15 | AB47: 3.97 | AC47: 149.15 | AD47: 3.97 | AE47: 149.15 | AF47: 3.97 | AG47: 766.35 | AH47: 4.5 | AI47: 766.35 | AJ47: 4.5 | AK47: 2246.35 | AL47: 3.84 | AM47: 8226.35 | AN47: 3.82 | AP47: 0 | AQ47: 0 | AR47: 908.2 | AS47: 8.01 | AT47: 935.77 | AU47: 7.75 | AW47: 1 | AX47: 1.5 | AY47: 3.45 | AZ47: 0 | BA47: 0 | BC47: 86.85 | BD47: 3.58 | BE47: 78.5 | BF47: 3.56 | BG47: 52.1 | BH47: 1.96 | BI47: 8.2 | BJ47: 3.14
A48: 4 | B48: 1774 | C48: Dinkelland | D48: 0.0969 | E48: 2.1 | F48: 0.2913 | G48: 4.4 | H48: 0.2261 | I48: 1.61 | J48: 0.5174 | K48: 3.16 | L48: 464.35 | N48: 179.19 | O48: -4.53 | P48: 208.87 | Q48: -3.91 | S48: 298.3 | T48: 6.31 | U48: 298.3 | V48: 6.31 | W48: 298.3 | X48: 6.31 | Y48: 298.3 | Z48: 6.31 | AA48: 298.3 | AB48: 6.31 | AC48: 320.94 | AD48: 6.31 | AE48: 343.58 | AF48: 6.31 | AG48: 705.82 | AH48: 6.3 | AI48: 796.38 | AJ48: 6.3 | AK48: 1588.78 | AL48: 6.29 | AM48: 7022.38 | AN48: 6.29 | AP48: 0 | AQ48: 0 | AR48: 941.84 | AS48: 4.99 | AT48: 971.52 | AU48: 4.83 | AW48: 0.6 | AX48: 1.6 | AY48: 0 | AZ48: 0 | BA48: 0 | BC48: 86.5 | BD48: 3.59 | BE48: 78 | BF48: 4 | BG48: 52 | BH48: 8 | BI48: 6.5 | BJ48: 0
A49: 4 | B49: 0150 | C49: Deventer | D49: 0.1112 | E49: 7.09 | F49: 0.3888 | G49: 4.78 | H49: 0.2701 | I49: 4.13 | J49: 0.6589 | K49: 4.51 | L49: 490.6 | N49: 270.74 | O49: 10.1 | P49: 312.52 | Q49: 8.63 | S49: 197.76 | T49: 3.19 | U49: 197.76 | V49: 3.19 | W49: 197.76 | X49: 3.19 | Y49: 197.76 | Z49: 3.19 | AA49: 197.76 | AB49: 3.19 | AC49: 197.76 | AD49: 3.19 | AE49: 197.76 | AF49: 3.19 | AG49: 732 | AH49: 3.39 | AI49: 732 | AJ49: 3.39 | AK49: 1722 | AL49: 3.24 | AM49: 3822 | AN49: 3.16 | AP49: 0 | AQ49: 0 | AR49: 959.1 | AS49: 7.08 | AT49: 1000.88 | AU49: 6.77 | AW49: 0.55 | AX49: 1.9 | AY49: 3.83 | AZ49: 0 | BA49: 0 | BC49: 86.85 | BD49: 3.55 | BE49: 78.5 | BF49: 3.56 | BG49: 52.1 | BH49: 1.94 | BI49: 16.65 | BJ49: 4.39
A50: 4 | B50: 0153 | C50: Enschede | D50: 0.1168 | E50: 9.68 | F50: 0.5153 | G50: 15.9 | H50: 0.4118 | I50: 15.72 | J50: 0.9271 | K50: 15.82 | L50: 452.13 | N50: 288.1 | O50: 2.74 | P50: 316.52 | Q50: 2.84 | S50: 292.44 | T50: 0 | U50: 292.44 | V50: 0 | W50: 292.44 | X50: 0 | Y50: 292.44 | Z50: 0 | AA50: 292.44 | AB50: 0 | AC50: 292.44 | AD50: 0 | AE50: 292.44 | AF50: 0 | AG50: 772.44 | AH50: 0 | AI50: 892.44 | AJ50: 0 | AK50: 1942.44 | AL50: 0 | AM50: 8065.23 | AN50: 0 | AP50: 0 | AQ50: 0 | AR50: 1032.67 | AS50: 4.83 | AT50: 1061.09 | AU50: 4.8 | AW50: 1.1 | AX50: 2.95 | AY50: 1.72 | AZ50: 95.64 | BA50: 2.18 | BC50: 86.85 | BD50: 3.55 | BE50: 78.5 | BF50: 3.56 | BG50: 52.1 | BH50: 1.96 | BI50: 19.4 | BJ50: 2.11
A51: 4 | B51: 0158 | C51: Haaksbergen | D51: 0.1151 | E51: 3.7 | F51: 0.3339 | G51: 3.14 | H51: 0.2538 | I51: 2.05 | J51: 0.5877 | K51: 2.66 | L51: 501.69 | N51: 232.12 | O51: 1.22 | P51: 232.12 | Q51: 1.22 | S51: 390.72 | T51: 3.01 | U51: 390.72 | V51: 3.01 | W51: 390.72 | X51: 3.01 | Y51: 390.72 | Z51: 3.01 | AA51: 390.72 | AB51: 3.01 | AC51: 390.72 | AD51: 3.01 | AE51: 390.72 | AF51: 3.01 | AG51: 1276.8 | AH51: 3.01 | AI51: 1276.8 | AJ51: 3.01 | AK51: 2827.44 | AL51: 3.01 | AM51: 13460.4 | AN51: 3.01 | AP51: 0 | AQ51: 0 | AR51: 1124.53 | AS51: 2.94 | AT51: 1124.53 | AU51: 2.94 | AW51: 1.25 | AX51: 1.75 | AY51: 2.94 | AZ51: 0 | BA51: 0 | BC51: 86.85 | BD51: 3.55 | BE51: 78.5 | BF51: 3.56 | BG51: 52.1 | BH51: 1.96 | BI51: 8.5 | BJ51: 4.94
A52: 4 | B52: 0160 | C52: Hardenberg | D52: 0.0822 | E52: 3.4 | F52: 0.2922 | G52: 7.14 | H52: 0.2518 | I52: 7.13 | J52: 0.544 | K52: 7.13 | L52: 330.15 | N52: 217.14 | O52: 2.84 | P52: 258.28 | Q52: 2.38 | S52: 299 | T52: 3.46 | U52: 299 | V52: 3.46 | W52: 299 | X52: 3.46 | Y52: 299 | Z52: 3.46 | AA52: 299 | AB52: 3.46 | AC52: 299 | AD52: 3.46 | AE52: 649 | AF52: 3.51 | AG52: 1859 | AH52: 3.45 | AI52: 1859 | AJ52: 3.45 | AK52: 2507 | AL52: 3.42 | AM52: 7691 | AN52: 3.37 | AP52: 0 | AQ52: 0 | AR52: 846.29 | AS52: 3.28 | AT52: 887.43 | AU52: 3.12 | AW52: 1.05 | AX52: 1.05 | AY52: 0 | AZ52: 0 | BA52: 0 | BC52: 86.85 | BD52: 3.58 | BE52: 78.5 | BF52: 3.56 | BG52: 52.1 | BH52: 1.96 | BI52: 14.2 | BJ52: 3.65
A53: 4 | B53: 0163 | C53: Hellendoorn | D53: 0.1054 | E53: 2.86 | F53: 0.3107 | G53: 1.71 | H53: 0.2534 | I53: 1.7 | J53: 0.5641 | K53: 1.7 | L53: 468.42 | N53: 267.6 | O53: 0 | P53: 267.6 | Q53: 0 | S53: 270.48 | T53: 2.92 | U53: 270.48 | V53: 2.92 | W53: 270.48 | X53: 2.92 | Y53: 270.48 | Z53: 2.92 | AA53: 270.48 | AB53: 2.92 | AC53: 270.48 | AD53: 2.92 | AE53: 270.48 | AF53: 2.92 | AG53: 2158.08 | AH53: 2.9 | AI53: 2158.08 | AJ53: 2.9 | AK53: 5462.64 | AL53: 2.9 | AM53: 28122.48 | AN53: 2.9 | AP53: 0 | AQ53: 0 | AR53: 1006.5 | AS53: 2.1 | AT53: 1006.5 | AU53: 2.1 | AW53: 0.84 | AX53: 2.01 | AY53: 2.55 | AZ53: 0 | BA53: 0 | BC53: 86.85 | BD53: 3.58 | BE53: 78.5 | BF53: 3.56 | BG53: 52.1 | BH53: 1.96 | BI53: 14.2 | BJ53: 2.9
A54: 4 | B54: 0164 | C54: Hengelo | D54: 0.1165 | E54: 4.01 | F54: 0.4771 | G54: 3.4 | H54: 0.3598 | I54: 2.81 | J54: 0.8369 | K54: 3.14 | L54: 449.75 | N54: 233.47 | O54: 1.2 | P54: 269.67 | Q54: 1.03 | S54: 276.72 | T54: 3.27 | U54: 276.72 | V54: 3.27 | W54: 276.72 | X54: 3.27 | Y54: 276.72 | Z54: 3.27 | AA54: 276.72 | AB54: 3.27 | AC54: 276.72 | AD54: 3.27 | AE54: 276.72 | AF54: 3.27 | AG54: 2240.88 | AH54: 3.28 | AI54: 2240.88 | AJ54: 3.28 | AK54: 5678.16 | AL54: 3.28 | AM54: 29248.08 | AN54: 3.28 | AP54: 0 | AQ54: 0 | AR54: 959.94 | AS54: 3.1 | AT54: 996.14 | AU54: 2.98 | AW54: 0.9 | AX54: 1.3 | AY54: 8.33 | AZ54: 66.24 | BA54: -25 | BC54: 86.85 | BD54: 3.55 | BE54: 78.5 | BF54: 3.56 | BG54: 52.1 | BH54: 1.94 | BI54: 18.6 | BJ54: 0
A55: 4 | B55: 1735 | C55: Hof van Twente | D55: 0.11 | E55: 2.48 | F55: 0.2687 | G55: 5.44 | H55: 0.2326 | I55: 6.49 | J55: 0.5013 | K55: 5.92 | L55: 477.13 | N55: 239.53 | O55: 5.46 | P55: 268.32 | Q55: 3.72 | S55: 350.3 | T55: 5.58 | U55: 350.3 | V55: 5.58 | W55: 350.3 | X55: 5.58 | Y55: 350.3 | Z55: 5.58 | AA55: 350.3 | AB55: 5.58 | AC55: 350.3 | AD55: 5.58 | AE55: 350.3 | AF55: 5.58 | AG55: 878.3 | AH55: 6.1 | AI55: 1010.3 | AJ55: 6.15 | AK55: 2165.3 | AL55: 6.31 | AM55: 8685.3 | AN55: 4.94 | AP55: 0 | AQ55: 0 | AR55: 1066.96 | AS55: 4.14 | AT55: 1095.75 | AU55: 3.76 | AW55: 1.1 | AX55: 1.55 | AY55: 0 | AZ55: 0 | BA55: 0 | BC55: 86.85 | BD55: 3.58 | BE55: 78.5 | BF55: 3.56 | BG55: 52.1 | BH55: 1.96 | BI55: 8.85 | BJ55: 4.12
A56: 4 | B56: 0166 | C56: Kampen | D56: 0.101 | E56: 4.4 | F56: 0.2938 | G56: 9.67 | H56: 0.2076 | I56: 8.51 | J56: 0.5014 | K56: 9.19 | L56: 433.78 | N56: 242.7 | O56: 15.08 | P56: 271.08 | Q56: 13.41 | S56: 160.08 | T56: 25.85 | U56: 160.08 | V56: 25.85 | AP56: 0 | AQ56: 0 | AR56: 836.56 | AS56: 11.01 | AT56: 864.94 | AU56: 10.64 | AW56: 1.75 | AX56: 1.75 | AY56: 16.67 | AZ56: 75 | BA56: -21.48 | BC56: 86.85 | BD56: 4.2 | BE56: 78.5 | BF56: 3.56 | BG56: 52.1 | BH56: 1.96 | BI56: 9.95 | BJ56: 3.65
A57: 4 | B57: 0168 | C57: Losser | D57: 0.1171 | E57: 4.43 | F57: 0.291 | G57: 5.68 | H57: 0.2088 | I57: 5.05 | J57: 0.4998 | K57: 5.42 | L57: 501.75 | N57: 184.85 | O57: -25.72 | P57: 216.1 | Q57: -22.73 | S57: 365.88 | T57: 4.96 | U57: 365.88 | V57: 4.96 | W57: 365.88 | X57: 4.96 | Y57: 365.88 | Z57: 4.96 | AA57: 365.88 | AB57: 4.96 | AC57: 365.88 | AD57: 4.96 | AE57: 365.88 | AF57: 4.96 | AG57: 1829.4 | AH57: 4.96 | AI57: 1829.4 | AJ57: 4.96 | AK57: 4390.56 | AL57: 4.96 | AM57: 21152.4 | AN57: 9.08 | AP57: 0 | AQ57: 0 | AR57: 1052.48 | AS57: -2.36 | AT57: 1083.73 | AU57: -2.26 | AW57: 1.45 | AX57: 2.05 | AY57: 5.13 | AZ57: 0 | BA57: 0 | BC57: 86.85 | BD57: 3.55 | BE57: 78.5 | BF57: 3.56 | BG57: 52.1 | BH57: 1.96 | BI57: 19.4 | BJ57: 3.19
A58: 4 | B58: 0173 | C58: Oldenzaal | D58: 0.1122 | E58: 12.64 | F58: 0.3946 | G58: 14.48 | H58: 0.3038 | I58: 13.27 | J58: 0.6984 | K58: 13.95 | L58: 482.55 | N58: 252.92 | O58: 4.45 | P58: 287.09 | Q58: 4.89 | S58: 239.28 | T58: 4.4 | U58: 239.28 | V58: 4.4 | W58: 239.28 | X58: 4.4 | Y58: 239.28 | Z58: 4.4 | AA58: 239.28 | AB58: 4.4 | AC58: 239.28 | AD58: 4.4 | AE58: 239.28 | AF58: 4.4 | AG58: 239.28 | AH58: 4.4 | AI58: 239.28 | AJ58: 4.4 | AK58: 239.28 | AL58: 4.4 | AM58: 239.28 | AN58: 4.4 | AP58: 0 | AQ58: 0 | AR58: 974.75 | AS58: 8.34 | AT58: 1008.92 | AU58: 8.33 | AW58: 0.85 | AX58: 1.6 | AY58: 0 | AZ58: 0 | BA58: 0 | BC58: 86.85 | BD58: 3.55 | BE58: 78.5 | BF58: 3.56 | BG58: 52.1 | BH58: 1.94 | BI58: 14.7 | BJ58: 0
A59: 4 | B59: 1773 | C59: Olst-Wijhe | D59: 0.1208 | E59: 2.89 | F59: 0.2899 | G59: 1.03 | H59: 0.2336 | I59: 1.45 | J59: 0.5235 | K59: 1.22 | L59: 580.06 | N59: 244.96 | O59: 1.85 | P59: 267.68 | Q59: 1.69 | S59: 242.76 | T59: 2.02 | U59: 242.76 | V59: 2.02 | W59: 242.76 | X59: 2.02 | Y59: 242.76 | Z59: 2.02 | AA59: 242.76 | AB59: 2.02 | AC59: 242.76 | AD59: 2.02 | AE59: 242.76 | AF59: 2.02 | AG59: 485.28 | AH59: 1.99 | AI59: 485.28 | AJ59: 1.99 | AK59: 706.32 | AL59: 1.99 | AM59: 1110.96 | AN59: 1.99 | AP59: 0 | AQ59: 0 | AR59: 1067.78 | AS59: 2.45 | AT59: 1090.5 | AU59: 2.4 | AW59: 1.5 | AX59: 1.5 | AY59: 0 | AZ59: 0 | BA59: 0 | BC59: 86.85 | BD59: 3.55 | BE59: 78.5 | BF59: 3.56 | BG59: 52.1 | BH59: 1.96 | BI59: 12.5 | BJ59: 2.04
A60: 4 | B60: 0175 | C60: Ommen | D60: 0.077 | E60: 3.74 | F60: 0.2138 | G60: 3.66 | H60: 0.152 | I60: 2.61 | J60: 0.3658 | K60: 3.22 | L60: 375.47 | N60: 201.21 | O60: 0 | P60: 230.41 | Q60: 0 | S60: 237 | T60: 2.16 | U60: 237 | V60: 2.16 | W60: 237 | X60: 2.16 | Y60: 237 | Z60: 2.16 | AA60: 237 | AB60: 2.16 | AC60: 237 | AD60: 2.16 | AE60: 237 | AF60: 2.16 | AG60: 897 | AH60: 2.28 | AI60: 897 | AJ60: 2.28 | AK60: 1729 | AL60: 2.25 | AM60: 6738 | AN60: 9.61 | AP60: 0 | AQ60: 0 | AR60: 813.68 | AS60: 2.33 | AT60: 842.88 | AU60: 2.25 | AW60: 1.3 | AX60: 1.3 | AY60: 18.18 | AZ60: 0 | BA60: 0 | BC60: 86.85 | BD60: 3.55 | BE60: 78.5 | BF60: 3.56 | BG60: 51.1 | BH60: -0.02 | BI60: 13.8 | BJ60: 2.22
A61: 4 | B61: 0177 | C61: Raalte | D61: 0.0884 | E61: 6.93 | F61: 0.2356 | G61: 5.38 | H61: 0.1842 | I61: 0.83 | J61: 0.4198 | K61: 3.33 | L61: 416.83 | N61: 184.99 | O61: 4.12 | P61: 227.9 | Q61: 3.32 | S61: 277.56 | T61: 8.74 | U61: 277.56 | V61: 8.74 | W61: 277.56 | X61: 8.74 | Y61: 277.56 | Z61: 8.74 | AA61: 277.56 | AB61: 8.74 | AC61: 277.56 | AD61: 8.74 | AE61: 277.56 | AF61: 8.74 | AG61: 821.76 | AH61: 8.72 | AI61: 821.76 | AJ61: 8.72 | AK61: 1370.28 | AL61: 8.72 | AM61: 3012.84 | AN61: 8.72 | AP61: 0 | AQ61: 0 | AR61: 879.38 | AS61: 6.88 | AT61: 922.29 | AU61: 6.54 | AW61: 1.5 | AX61: 1.5 | AY61: 0 | AZ61: 0 | BA61: 0 | BC61: 86.85 | BD61: 3.55 | BE61: 78.5 | BF61: 3.56 | BG61: 52.1 | BH61: 1.96 | BI61: 14.35 | BJ61: 2.5
A62: 4 | B62: 1742 | C62: Rijssen-Holten | D62: 0.0808 | E62: 3.74 | F62: 0.2584 | G62: 3.18 | H62: 0.2067 | I62: 3.14 | J62: 0.4651 | K62: 3.16 | L62: 358.39 | N62: 169 | O62: -0.59 | P62: 217 | Q62: -0.91 | S62: 192 | T62: 7.26 | U62: 192 | V62: 7.26 | W62: 192 | X62: 7.26 | Y62: 192 | Z62: 7.26 | AA62: 192 | AB62: 7.26 | AC62: 192 | AD62: 7.26 | AE62: 192 | AF62: 7.26 | AG62: 1810.88 | AH62: 7.26 | AI62: 2215.6 | AJ62: 7.26 | AK62: 5577.2 | AL62: 7.26 | AM62: 16851.6 | AN62: 7.26 | AP62: 18 | AQ62: 18 | AR62: 701.39 | AS62: 9.45 | AT62: 749.39 | AU62: 11.11 | AW62: 0.95 | AX62: 0.95 | AY62: 0 | AZ62: 28 | BA62: 9.8 | BC62: 86.85 | BD62: 3.58 | BE62: 78.5 | BF62: 3.56 | BG62: 52.1 | BH62: 1.96 | BI62: 7.5 | BJ62: 0
A63: 4 | B63: 0180 | C63: Staphorst | D63: 0.106 | E63: 5.76 | F63: 0.2419 | G63: 6.11 | H63: 0.2029 | I63: 6.15 | J63: 0.4448 | K63: 6.13 | L63: 439.45 | N63: 240.63 | O63: 4.34 | P63: 264.26 | Q63: 3.93 | S63: 208 | T63: 0 | U63: 208 | V63: 0 | W63: 208 | X63: 0 | Y63: 208 | Z63: 0 | AA63: 208 | AB63: 0 | AC63: 208 | AD63: 0 | AE63: 208 | AF63: 0 | AG63: 517 | AH63: 0 | AI63: 585 | AJ63: 0 | AK63: 1180 | AL63: 0 | AM63: 5260 | AN63: 0 | AP63: 0 | AQ63: 0 | AR63: 888.08 | AS63: 3.97 | AT63: 911.71 | AU63: 3.87 | AW63: 1.25 | AX63: 1.25 | AY63: 25 | AZ63: 49.5 | BA63: 3.13 | BC63: 86.85 | BD63: 3.58 | BE63: 78.5 | BF63: 3.56 | BG63: 52.1 | BH63: 1.96 | BI63: 8.5 | BJ63: 13.33
A64: 4 | B64: 1708 | C64: Steenwijkerland | D64: 0.0756 | E64: 2.63 | F64: 0.2197 | G64: 2.7 | H64: 0.1777 | I64: 2.71 | J64: 0.3974 | K64: 2.71 | L64: 302.26 | N64: 252.56 | O64: 13.7 | P64: 282.88 | Q64: 12.06 | S64: 229.04 | T64: 10 | U64: 229.04 | V64: 10 | AP64: 0 | AQ64: 0 | AR64: 783.86 | AS64: 8.14 | AT64: 814.18 | AU64: 7.81 | AW64: 1.5 | AX64: 2.2 | AY64: 100 | AZ64: 0 | BA64: 0 | BC64: 86.85 | BD64: 3.55 | BE64: 78.5 | BF64: 3.56 | BG64: 52.1 | BH64: 1.94 | BI64: 6.85 | BJ64: 2.24
A65: 4 | B65: 0183 | C65: Tubbergen | D65: 0.094 | E65: 5.35 | F65: 0.239 | G65: 8.07 | H65: 0.1809 | I65: 6.23 | J65: 0.4199 | K65: 7.27 | L65: 460.33 | N65: 195.47 | O65: 3.17 | P65: 217.95 | Q65: 2.83 | S65: 313.39 | T65: 6.67 | U65: 313.39 | V65: 6.67 | W65: 313.39 | X65: 6.67 | Y65: 313.39 | Z65: 6.67 | AA65: 313.39 | AB65: 6.67 | AC65: 392.86 | AD65: 6.67 | AE65: 472.33 | AF65: 6.67 | AG65: 1664.38 | AH65: 6.67 | AI65: 1982.26 | AJ65: 6.67 | AK65: 4763.71 | AL65: 6.68 | AM65: 15967.53 | AN65: 6.66 | AP65: 0 | AQ65: 0 | AR65: 969.19 | AS65: 5.32 | AT65: 991.67 | AU65: 5.19 | AW65: 0.7 | AX65: 1.05 | AY65: 0 | AZ65: 0 | BA65: 0 | BC65: 86.5 | BD65: 3.59 | BE65: 78 | BF65: 4 | BG65: 52 | BH65: 8 | BI65: 6.5 | BJ65: 0
A66: 4 | B66: 1700 | C66: Twenterand | D66: 0.1231 | E66: 1.37 | F66: 0.2602 | G66: 10.57 | H66: 0.2731 | I66: 17.93 | J66: 0.5333 | K66: 14.22 | L66: 504.27 | N66: 160.55 | O66: 3.56 | P66: 200.26 | Q66: 2.83 | S66: 285.72 | T66: 2.5 | U66: 285.72 | V66: 2.5 | W66: 285.72 | X66: 2.5 | Y66: 285.72 | Z66: 2.5 | AA66: 285.72 | AB66: 2.5 | AC66: 285.72 | AD66: 2.5 | AE66: 285.72 | AF66: 2.5 | AG66: 1512.84 | AH66: 2.82 | AI66: 1810.92 | AJ66: 2.85 | AK66: 4057.92 | AL66: 2.84 | AM66: 12679.92 | AN66: 13.17 | AP66: 0 | AQ66: 0 | AR66: 950.54 | AS66: 2.07 | AT66: 990.25 | AU66: 1.99 | AW66: 1.2 | AX66: 1.2 | AY66: 4.35 | AZ66: 0 | BA66: 0 | BC66: 86.85 | BD66: 3.55 | BE66: 78.5 | BF66: 3.56 | BG66: 52.1 | BH66: 1.96 | BI66: 8.15 | BJ66: 1.88
A67: 4 | B67: 0189 | C67: Wierden | D67: 0.0962 | E67: 13.2 | F67: 0.243 | G67: 16.79 | H67: 0.1944 | I67: 16.77 | J67: 0.4374 | K67: 16.78 | L67: 449.46 | N67: 223.15 | O67: 4.49 | P67: 250.7 | Q67: 5.29 | S67: 337.2 | T67: 4.66 | U67: 337.2 | V67: 4.66 | W67: 337.2 | X67: 4.66 | Y67: 337.2 | Z67: 4.66 | AA67: 337.2 | AB67: 4.66 | AC67: 337.2 | AD67: 4.66 | AE67: 337.2 | AF67: 4.66 | AG67: 337.2 | AH67: 4.66 | AI67: 337.2 | AJ67: 4.66 | AK67: 337.2 | AL67: 4.66 | AM67: 337.2 | AN67: 4.66 | AP67: 0 | AQ67: 0 | AR67: 1009.81 | AS67: 8.26 | AT67: 1037.36 | AU67: 8.36 | AW67: 1.35 | AX67: 1.35 | AY67: 8 | AZ67: 0 | BA67: 0 | BC67: 86.85 | BD67: 3.58 | BE67: 78.5 | BF67: 3.56 | BG67: 52.1 | BH67: 1.96 | BI67: 9.65 | BJ67: 3.76
A68: 4 | B68: 1896 | C68: Zwartewaterland | D68: 0.0885 | E68: 3.71 | F68: 0.2626 | G68: 5.56 | H68: 0.1956 | I68: 5.57 | J68: 0.4582 | K68: 5.57 | L68: 336.2 | N68: 236.58 | O68: 5.81 | P68: 262.17 | Q68: 5.22 | S68: 275 | T68: 6.59 | U68: 335 | V68: 6.69 | W68: 335 | X68: 6.69 | Y68: 664 | Z68: 9.57 | AA68: 966 | AB68: 6.27 | AC68: 1288 | AD68: 6.27 | AE68: 1610 | AF68: 6.27 | AG68: 6762 | AH68: 6.27 | AI68: 8050 | AJ68: 6.27 | AK68: 19320 | AL68: 6.27 | AM68: 96600 | AN68: 6.27 | AP68: 0 | AQ68: 0 | AR68: 847.78 | AS68: 5.22 | AT68: 933.37 | AU68: 5.19 | AW68: 1.15 | AX68: 1.15 | AY68: 4.55 | AZ68: 74 | BA68: 2.78 | BC68: 86.85 | BD68: 3.58 | BE68: 78.5 | BF68: 3.56 | BG68: 52.1 | BH68: 1.96 | BI68: 9 | BJ68: 4.65
A69: 4 | B69: 0193 | C69: Zwolle | D69: 0.0986 | E69: 5.31 | F69: 0.5147 | G69: 6.99 | H69: 0.416 | I69: 7 | J69: 0.9307 | K69: 6.99 | L69: 461.39 | N69: 248.37 | O69: 5.36 | P69: 331.35 | Q69: 5.31 | S69: 127.73 | T69: 5.46 | U69: 127.73 | V69: 5.46 | W69: 127.73 | X69: 5.46 | Y69: 127.73 | Z69: 5.46 | AA69: 127.73 | AB69: 5.46 | AC69: 127.73 | AD69: 5.46 | AE69: 127.73 | AF69: 5.46 | AG69: 875.99 | AH69: 5.45 | AI69: 1047.03 | AJ69: 5.45 | AK69: 2543.63 | AL69: 6.12 | AM69: 10628.03 | AN69: 5.46 | AP69: 0 | AQ69: 0 | AR69: 837.49 | AS69: 5.35 | AT69: 920.47 | AU69: 5.33 | AW69: 1.2 | AX69: 3 | AY69: 20 | AZ69: 0 | BA69: 0 | BC69: 86.85 | BD69: 3.58 | BE69: 78.5 | BF69: 3.56 | BG69: 52.1 | BH69: 1.96 | BI69: 17.65 | BJ69: 5.37
A70: 5 | B70: 0197 | C70: Aalten | D70: 0.0952 | E70: 2.24 | F70: 0.2044 | G70: 2.39 | H70: 0.1527 | I70: 2.38 | J70: 0.3571 | K70: 2.38 | L70: 364.46 | N70: 152.16 | O70: 23.81 | P70: 175.32 | Q70: 21.09 | S70: 103.87 | T70: 5.52 | U70: 187.64 | V70: 5.52 | W70: 153 | X70: 5.52 | Y70: 306 | Z70: 5.52 | AA70: 459 | AB70: 5.52 | AC70: 612 | AD70: 5.52 | AE70: 765 | AF70: 5.52 | AG70: 3213 | AH70: 5.52 | AI70: 3825 | AJ70: 5.52 | AK70: 6827.25 | AL70: 5.47 | AM70: 8681.25 | AN70: 5.48 | AP70: 0 | AQ70: 0 | AR70: 620.49 | AS70: 7.38 | AT70: 727.42 | AU70: 7.11 | AW70: 1.55 | AX70: 1.55 | AY70: 14.81 | AZ70: 16.25 | BA70: -50 | BC70: 86.85 | BD70: 3.58 | BE70: 78.5 | BF70: 3.56 | BG70: 52.1 | BH70: 1.96 | BI70: 7.65 | BJ70: 2
A71: 5 | B71: 0200 | C71: Apeldoorn | D71: 0.1027 | E71: 2.5 | F71: 0.4935 | G71: 4.03 | H71: 0.3888 | I71: 4.05 | J71: 0.8823 | K71: 4.04 | L71: 479.13 | N71: 307.47 | O71: 7.71 | P71: 320.94 | Q71: 7.36 | S71: 203.87 | T71: -0.84 | U71: 203.87 | V71: -0.84 | AP71: 0 | AQ71: 0 | AR71: 990.47 | AS71: 3.33 | AT71: 1003.94 | AU71: 3.29 | AW71: 0.63 | AX71: 2.85 | AY71: 2.15 | AZ71: 39 | BA71: 4 | BC71: 86.85 | BD71: 3.58 | BE71: 78.5 | BF71: 3.56 | BG71: 52.1 | BH71: 1.96 | BI71: 18.3 | BJ71: 7.65
A72: 5 | B72: 0202 | C72: Arnhem | D72: 0.1115 | E72: 6.74 | F72: 0.7279 | G72: 6.19 | H72: 0.182 | I72: 6.24 | J72: 0.9099 | K72: 6.2 | L72: 511.7 | N72: 273.72 | O72: 8.36 | P72: 364.92 | Q72: 8.34 | S72: 223.5 | T72: 3.17 | U72: 223.5 | V72: 3.17 | AP72: 0 | AQ72: 0 | AR72: 1008.92 | AS72: 6.36 | AT72: 1100.12 | AU72: 6.51 | AW72: 2 | AX72: 3.5 | AY72: 40 | AZ72: 0 | BA72: 0 | BC72: 86.85 | BD72: 3.58 | BE72: 78.5 | BF72: 3.56 | BG72: 52.1 | BH72: 1.96 | BI72: 12.2 | BJ72: 3.39
A73: 5 | B73: 0203 | C73: Barneveld | D73: 0.075 | E73: 7.26 | F73: 0.2125 | G73: 18.1 | H73: 0.1676 | I73: 18.07 | J73: 0.3801 | K73: 18.09 | L73: 420.55 | N73: 213.8 | O73: 6.53 | P73: 356.3 | Q73: 6.52 | S73: 224.35 | T73: 7.01 | U73: 224.35 | V73: 7.01 | W73: 224.35 | X73: 7.01 | Y73: 224.35 | Z73: 7.01 | AA73: 224.35 | AB73: 7.01 | AC73: 249.35 | AD73: 6.26 | AE73: 299.35 | AF73: 5.16 | AG73: 1099.35 | AH73: 1.36 | AI73: 1299.35 | AJ73: 1.14 | AK73: 3049.35 | AL73: 0.48 | AM73: 12549.35 | AN73: 0.12 | AP73: 0 | AQ73: 0 | AR73: 858.7 | AS73: 7.01 | AT73: 1001.2 | AU73: 6.94 | AW73: 1.35 | AX73: 1.35 | AY73: 13.45 | AZ73: 58.5 | BA73: 4.93 | BC73: 86.85 | BD73: 3.58 | BE73: 78.5 | BF73: 3.56 | BG73: 52.1 | BH73: 1.96 | BI73: 17.1 | BJ73: 3.01
A74: 5 | B74: 1945 | C74: Berg en Dal | D74: 0.0768 | E74: 3.24 | F74: 0.2422 | G74: 4.63 | H74: 0.2003 | I74: 4.61 | J74: 0.4425 | K74: 4.62 | L74: 357.47 | N74: 225.67 | O74: 1.12 | P74: 321.09 | Q74: 1.1 | S74: 221 | T74: 3.76 | U74: 296 | V74: 3.86 | W74: 217 | X74: 1.88 | Y74: 368 | Z74: 3.66 | AA74: 572 | AB74: 3.81 | AC74: 572 | AD74: 3.81 | AE74: 572 | AF74: 3.81 | AG74: 1830 | AH74: 3.8 | AI74: 1830 | AJ74: 3.8 | AK74: 3639 | AL74: 3.79 | AM74: 16304 | AN74: 3.8 | AP74: 0 | AQ74: 0 | AR74: 804.14 | AS74: 2.77 | AT74: 974.56 | AU74: 2.71 | AW74: 1.03 | AX74: 1.63 | AY74: 0 | AZ74: 0 | BA74: 0 | BC74: 86.85 | BD74: 3.58 | BE74: 78.5 | BF74: 3.56 | BG74: 52.1 | BH74: 1.96 | BI74: 11.65 | BJ74: 4.02
A75: 5 | B75: 1859 | C75: Berkelland | D75: 0.1015 | E75: 1.5 | F75: 0.228 | G75: 6.5 | H75: 0.1735 | I75: 4.83 | J75: 0.4015 | K75: 5.77 | L75: 449.06 | N75: 159.84 | O75: 12.22 | P75: 219 | Q75: 12.24 | S75: 318.41 | T75: 3.67 | U75: 392.87 | V75: 3.55 | W75: 362.08 | X75: 3.59 | Y75: 498.08 | Z75: 3.44 | AA75: 634.08 | AB75: 3.35 | AC75: 770.08 | AD75: 3.29 | AE75: 906.08 | AF75: 3.25 | AG75: 3016.08 | AH75: 3.17 | AI75: 3536.08 | AJ75: 3.17 | AK75: 7151.08 | AL75: 2.93 | AM75: 23711.08 | AN75: 2.97 | AP75: 0 | AQ75: 0 | AR75: 927.31 | AS75: 3.96 | AT75: 1060.93 | AU75: 4.32 | AW75: 1.5 | AX75: 1.5 | AY75: 20 | AZ75: 0 | BA75: 0 | BC75: 86.85 | BD75: 3.55 | BE75: 78.5 | BF75: 3.56 | BG75: 52.1 | BH75: 1.94 | BI75: 8.1 | BJ75: 2.53
A76: 5 | B76: 0209 | C76: Beuningen | D76: 0.1276 | E76: 15.96 | F76: 0.6234 | G76: 17.31 | H76: 0.4767 | I76: 18.51 | J76: 1.1001 | K76: 17.83 | L76: 604.79 | N76: 235.06 | O76: 19.76 | P76: 245.33 | Q76: 18.78 | S76: 223 | T76: 0 | U76: 223 | V76: 0 | W76: 223 | X76: 0 | Y76: 223 | Z76: 0 | AA76: 223 | AB76: 0 | AC76: 223 | AD76: 0 | AE76: 223 | AF76: 0 | AG76: 223 | AH76: 0 | AI76: 223 | AJ76: 0 | AK76: 223 | AL76: 0 | AM76: 223 | AN76: 0 | AP76: 0 | AQ76: 0 | AR76: 1062.85 | AS76: 12.97 | AT76: 1073.12 | AU76: 12.83 | AW76: 2.06 | AX76: 2.06 | AY76: 3 | AZ76: 95.4 | BA76: 3.02 | BC76: 86.85 | BD76: 3.55 | BE76: 78.5 | BF76: 3.56 | BG76: 52.1 | BH76: 1.94 | BI76: 15.55 | BJ76: 2.98
A77: 5 | B77: 1876 | C77: Bronckhorst | D77: 0.097 | E77: 12.81 | F77: 0.2173 | G77: 6.15 | H77: 0.177 | I77: 12.66 | J77: 0.3943 | K77: 8.97 | L77: 489.34 | N77: 251.77 | O77: 1.96 | P77: 301.58 | Q77: 1.73 | S77: 270 | T77: -8.54 | U77: 270 | V77: -8.54 | W77: 270 | X77: -8.54 | Y77: 270 | Z77: -8.54 | AA77: 270 | AB77: -8.54 | AC77: 270 | AD77: -8.54 | AE77: 270 | AF77: -8.54 | AG77: 270 | AH77: -8.54 | AI77: 270 | AJ77: -8.54 | AK77: 270 | AL77: -8.54 | AM77: 270 | AN77: -8.54 | AP77: 0 | AQ77: 0 | AR77: 1011.11 | AS77: 3.61 | AT77: 1060.92 | AU77: 3.46 | AW77: 0.85 | AX77: 1.35 | AY77: 3.85 | AZ77: 0 | BA77: 0 | BC77: 86.85 | BD77: 3.55 | BE77: 78.5 | BF77: 3.56 | BG77: 52.1 | BH77: 1.94 | BI77: 14.7 | BJ77: 6.52
A78: 5 | B78: 0213 | C78: Brummen | D78: 0.1272 | E78: 0.51 | F78: 0.3264 | G78: 9.19 | H78: 0.326 | I78: -2.79 | J78: 0.6524 | K78: 2.86 | L78: 601.22 | N78: 180.81 | O78: 1.39 | P78: 240.62 | Q78: 4.31 | S78: 227 | T78: -5.45 | U78: 317 | V78: -19.53 | W78: 317 | X78: -4.03 | Y78: 562 | Z78: -8.07 | AA78: 892 | AB78: -0.04 | AC78: 1222 | AD78: 4.15 | AE78: 1552 | AF78: 6.72 | AG78: 6832 | AH78: 14.82 | AI78: 8152 | AJ78: 15.23 | AK78: 19702 | AL78: 16.52 | AM78: 88000 | AN78: 4.33 | AP78: 0 | AQ78: 0 | AR78: 1009.03 | AS78: -0.74 | AT78: 1158.84 | AU78: -5.23 | AW78: 1.54 | AX78: 2.57 | AY78: 2.8 | AZ78: 0 | BA78: 0 | BC78: 86.85 | BD78: 3.95 | BE78: 78.5 | BF78: 3.56 | BG78: 52.1 | BH78: 1.96 | BI78: 10.5 | BJ78: 2.94
A79: 5 | B79: 0214 | C79: Buren | D79: 0.125 | E79: 6.63 | F79: 0.2653 | G79: 4.87 | H79: 0.1986 | I79: 4.69 | J79: 0.4639 | K79: 4.79 | L79: 658.42 | N79: 373.21 | O79: 6.76 | P79: 395.44 | Q79: 6.36 | S79: 255 | T79: 2 | U79: 255 | V79: 2 | W79: 510 | X79: 2 | Y79: 510 | Z79: 2 | AA79: 510 | AB79: 2 | AC79: 510 | AD79: 2 | AE79: 510 | AF79: 2 | AG79: 510 | AH79: 2 | AI79: 510 | AJ79: 2 | AK79: 510 | AL79: 2 | AM79: 510 | AN79: 2 | AP79: 0 | AQ79: 0 | AR79: 1286.63 | AS79: 5.72 | AT79: 1308.86 | AU79: 5.62 | AW79: 1.26 | AX79: 1.3 | AY79: 0.78 | AZ79: 32 | BA79: -23.81 | BC79: 86.85 | BD79: 3.55 | BE79: 78.5 | BF79: 3.56 | BG79: 52.1 | BH79: 1.94 | BI79: 10.35 | BJ79: 1.97
A80: 5 | B80: 0216 | C80: Culemborg | D80: 0.101 | E80: 7.59 | F80: 0.3616 | G80: 7.58 | H80: 0.3832 | I80: 7.56 | J80: 0.7448 | K80: 7.57 | L80: 493.96 | N80: 373.7 | O80: 6.72 | P80: 398.14 | Q80: 6.28 | S80: 280 | T80: 6.06 | U80: 280 | V80: 6.06 | W80: 280 | X80: 6.06 | Y80: 280 | Z80: 6.06 | AA80: 280 | AB80: 6.06 | AC80: 280 | AD80: 6.06 | AE80: 280 | AF80: 6.06 | AG80: 280 | AH80: 6.06 | AI80: 280 | AJ80: 6.06 | AK80: 280 | AL80: 6.06 | AM80: 280 | AN80: 6.06 | AP80: 0 | AQ80: 0 | AR80: 1147.66 | AS80: 6.93 | AT80: 1172.1 | AU80: 6.77 | AW80: 1.6 | AX80: 1.6 | AY80: 100 | AZ80: 72.05 | BA80: 19.98 | BC80: 86.85 | BD80: 3.58 | BE80: 78.5 | BF80: 3.56 | BG80: 51.1 | BH80: 0 | BI80: 17.1 | BJ80: -1.72
A81: 5 | B81: 0221 | C81: Doesburg | D81: 0.1342 | E81: 16.77 | F81: 0.2114 | G81: 10.03 | H81: 0.1406 | I81: 8.71 | J81: 0.352 | K81: 9.5 | L81: 523.77 | N81: 282.75 | O81: 3.67 | P81: 316.05 | Q81: 3.27 | S81: 203.67 | T81: 17.65 | U81: 367.92 | V81: 17.65 | W81: 300 | X81: 17.65 | Y81: 600 | Z81: 17.65 | AA81: 900 | AB81: 17.65 | AC81: 1200 | AD81: 17.65 | AE81: 1500 | AF81: 17.65 | AG81: 6300 | AH81: 17.65 | AI81: 7500 | AJ81: 17.65 | AK81: 18000 | AL81: 17.65 | AM81: 90000 | AN81: 17.65 | AP81: 0 | AQ81: 0 | AR81: 1010.19 | AS81: 12.95 | AT81: 1207.74 | AU81: 13.16 | AW81: 1.85 | AX81: 2.9 | AY81: 3.57 | AZ81: 57.25 | BA81: 3.34 | BC81: 86.85 | BD81: 3.58 | BE81: 78.5 | BF81: 3.49 | BG81: 52.1 | BH81: 1.96 | BI81: 12.6 | BJ81: 3.28
A82: 5 | B82: 0222 | C82: Doetinchem | D82: 0.0947 | E82: 2.7 | F82: 0.3023 | G82: 5.57 | H82: 0.2687 | I82: 3.84 | J82: 0.571 | K82: 4.75 | L82: 378.78 | N82: 290.81 | O82: 1.68 | P82: 366.81 | Q82: 1.66 | S82: 245.76 | T82: 3.64 | U82: 245.76 | V82: 3.64 | W82: 245.76 | X82: 3.64 | Y82: 245.76 | Z82: 3.64 | AA82: 245.76 | AB82: 3.64 | AC82: 245.76 | AD82: 3.64 | AE82: 245.76 | AF82: 3.64 | AG82: 245.76 | AH82: 3.64 | AI82: 245.76 | AJ82: 3.64 | AK82: 245.76 | AL82: 3.64 | AM82: 245.76 | AN82: 3.64 | AP82: 0 | AQ82: 0 | AR82: 915.35 | AS82: 2.62 | AT82: 991.35 | AU82: 2.54 | AW82: 1 | AX82: 1.5 | AY82: 0 | AZ82: 0 | BA82: 0 | BC82: 86.85 | BD82: 3.58 | BE82: 78.5 | BF82: 3.56 | BG82: 52.1 | BH82: 1.96 | BI82: 12.6 | BJ82: 2.44
A83: 5 | B83: 0225 | C83: Druten | D83: 0.1089 | E83: 10.16 | F83: 0.2776 | G83: 8.1 | H83: 0.2154 | I83: 7.24 | J83: 0.493 | K83: 7.72 | L83: 495.53 | N83: 161.34 | O83: 8.04 | P83: 231.04 | Q83: 5.48 | S83: 272 | T83: 7.94 | U83: 272 | V83: 7.94 | W83: 272 | X83: 7.94 | Y83: 272 | Z83: 7.94 | AA83: 272 | AB83: 7.94 | AC83: 272 | AD83: 7.94 | AE83: 272 | AF83: 7.94 | AG83: 272 | AH83: 7.94 | AI83: 272 | AJ83: 7.94 | AK83: 272 | AL83: 7.94 | AM83: 272 | AN83: 7.94 | AP83: 0 | AQ83: 0 | AR83: 928.87 | AS83: 9.13 | AT83: 998.57 | AU83: 8.44 | AW83: 1 | AX83: 2 | AY83: Nieuw ingevoerd | AZ83: 95.16 | BA83: 2.19 | BC83: 86.85 | BD83: 3.58 | BE83: 78.5 | BF83: 3.56 | BG83: 52.1 | BH83: 1.96 | BI83: 10.2 | BJ83: 2.51
A84: 5 | B84: 0226 | C84: Duiven | D84: 0.1087 | E84: 10.6 | F84: 0.2098 | G84: 11.53 | H84: 0.1606 | I84: 11.52 | J84: 0.3704 | K84: 11.53 | L84: 460.23 | N84: 285.36 | O84: 14.37 | P84: 326.5 | Q84: 12.33 | S84: 131.71 | T84: 3.19 | U84: 237.92 | V84: 3.19 | W84: 194 | X84: 3.19 | Y84: 388 | Z84: 3.19 | AA84: 582 | AB84: 3.19 | AC84: 776 | AD84: 3.19 | AE84: 970 | AF84: 3.19 | AG84: 4074 | AH84: 3.19 | AI84: 4850 | AJ84: 3.19 | AK84: 11640 | AL84: 3.19 | AM84: 58200 | AN84: 3.19 | AP84: 0 | AQ84: 0 | AR84: 877.3 | AS84: 10.59 | AT84: 1024.65 | AU84: 9.32 | AW84: 2.15 | AX84: 2.15 | AY84: 7.5 | AZ84: 0 | BA84: 0 | BC84: 86.85 | BD84: 3.58 | BE84: 78.5 | BF84: 3.56 | BG84: 52.1 | BH84: 1.96 | BI84: 11.55 | BJ84: 3.59
A85: 5 | B85: 0228 | C85: Ede | D85: 0.0915 | E85: 15.83 | F85: 0.2704 | G85: 13.13 | H85: 0.2157 | I85: 13.13 | J85: 0.4861 | K85: 13.13 | L85: 471.97 | N85: 269.67 | O85: 8.6 | P85: 293.09 | Q85: 7.86 | S85: 170.88 | T85: 3.56 | U85: 170.88 | V85: 3.56 | AP85: 0 | AQ85: 0 | AR85: 912.52 | AS85: 11.18 | AT85: 935.94 | AU85: 10.87 | AW85: 1.55 | AX85: 2.06 | AY85: 21.18 | AZ85: 43.68 | BA85: 4.9 | BC85: 86.85 | BD85: 3.58 | BE85: 78.5 | BF85: 3.7 | BG85: 52.1 | BH85: 1.96 | BI85: 16.5 | BJ85: 35.8
A86: 5 | B86: 0230 | C86: Elburg | D86: 0.095 | E86: 8.5 | F86: 0.215 | G86: 12.98 | H86: 0.185 | I86: 14.37 | J86: 0.4 | K86: 13.62 | L86: 432.92 | N86: 206.09 | O86: 7.2 | P86: 309.7 | Q86: 7.2 | S86: 237.85 | T86: 5.17 | U86: 237.85 | V86: 5.17 | W86: 237.85 | X86: 5.17 | Y86: 237.85 | Z86: 5.17 | AA86: 420.25 | AB86: 5.17 | AC86: 420.25 | AD86: 5.17 | AE86: 602.65 | AF86: 5.17 | AG86: 2061.85 | AH86: 5.16 | AI86: 2426.65 | AJ86: 5.16 | AK86: 5527.45 | AL86: 5.16 | AM86: 27415.45 | AN86: 5.16 | AP86: 0 | AQ86: 0 | AR86: 876.86 | AS86: 7.27 | AT86: 980.47 | AU86: 7.27 | AW86: 1.6 | AX86: 1.6 | AY86: 0 | AZ86: 0 | BA86: 0 | BC86: 86.85 | BD86: 3.58 | BE86: 78.5 | BF86: 3.56 | BG86: 52.1 | BH86: 1.96 | BI86: 9.5 | BJ86: 5.56
A87: 5 | B87: 0232 | C87: Epe | D87: 0.0771 | E87: 3.04 | F87: 0.1813 | G87: 0.34 | H87: 0.1261 | I87: -1.59 | J87: 0.3074 | K87: -0.46 | L87: 426.66 | N87: 303.72 | O87: 17.31 | P87: 343.57 | Q87: 15.68 | S87: 163.24 | T87: 3.21 | U87: 225.52 | V87: 3.2 | W87: 163.24 | X87: 3.21 | Y87: 225.52 | Z87: 3.2 | AA87: 225.52 | AB87: 3.2 | AC87: 363.64 | AD87: 3.14 | AE87: 363.64 | AF87: 3.14 | AG87: 1130.08 | AH87: 3.11 | AI87: 2256.52 | AJ87: 3.11 | AK87: 4566.4 | AL87: 3.1 | AM87: 19321 | AN87: 3.1 | AP87: 0 | AQ87: 0 | AR87: 893.62 | AS87: 7.52 | AT87: 995.75 | AU87: 7.11 | AW87: 1 | AX87: 1.45 | AY87: 3.57 | AZ87: 0 | BA87: 0 | BC87: 86.85 | BD87: 3.58 | BE87: 78.5 | BF87: 3.56 | BG87: 52.1 | BH87: 1.96 | BI87: 10.95 | BJ87: 1.39
A88: 5 | B88: 0233 | C88: Ermelo | D88: 0.1355 | E88: 3.77 | F88: 0.3609 | G88: 3.76 | H88: 0.288 | I88: 3.74 | J88: 0.6489 | K88: 3.76 | L88: 739.83 | N88: 156.68 | O88: 0.55 | P88: 215.35 | Q88: 0.81 | S88: 195 | T88: 0 | U88: 220 | V88: 0 | W88: 195 | X88: 0 | Y88: 220 | Z88: 0 | AA88: 245 | AB88: 0 | AC88: 245 | AD88: 0 | AE88: 245 | AF88: 0 | AG88: 1495 | AH88: 0 | AI88: 1495 | AJ88: 0 | AK88: 2245 | AL88: 0 | AM88: 8995 | AN88: 0 | AP88: 0 | AQ88: 0 | AR88: 1091.51 | AS88: 2.61 | AT88: 1175.18 | AU88: 2.5 | AW88: 2 | AX88: 3.25 | AY88: 46.4 | AZ88: 0 | BA88: 0 | BC88: 86 | BD88: 2.56 | BE88: 78 | BF88: 2.9 | BG88: 52 | BH88: 1.96 | BI88: 8 | BJ88: 0
A89: 5 | B89: 0243 | C89: Harderwijk | D89: 0.0996 | E89: 13.9 | F89: 0.2875 | G89: 15.72 | H89: 0.2308 | I89: 15.72 | J89: 0.5183 | K89: 15.72 | L89: 487.92 | N89: 245.88 | O89: 8.85 | P89: 296.76 | Q89: 9.59 | S89: 177 | T89: 13.83 | U89: 177 | V89: 13.83 | W89: 270 | X89: 10.11 | Y89: 270 | Z89: 10.11 | AA89: 270 | AB89: 10.11 | AC89: 270 | AD89: 10.11 | AE89: 270 | AF89: 10.11 | AG89: 270 | AH89: 10.11 | AI89: 270 | AJ89: 10.11 | AK89: 270 | AL89: 10.11 | AM89: 270 | AN89: 10.11 | AP89: 0 | AQ89: 0 | AR89: 910.8 | AS89: 12.48 | AT89: 961.68 | AU89: 12.52 | AW89: 2.12 | AX89: 2.12 | AY89: 26.19 | AZ89: 67.49 | BA89: 2.29 | BC89: 86.85 | BD89: 3.58 | BE89: 78.5 | BF89: 3.56 | BG89: 52.1 | BH89: 1.96 | BI89: 9.1 | BJ89: 2.25
A90: 5 | B90: 0244 | C90: Hattem | D90: 0.139 | E90: 20.38 | F90: 0.4981 | G90: 22.39 | H90: 0.2733 | I90: 19.49 | J90: 0.7714 | K90: 21.35 | L90: 735.03 | N90: 252.12 | O90: 3.66 | P90: 278.64 | Q90: 3.38 | S90: 264.64 | T90: 6.88 | U90: 264.64 | V90: 6.88 | AP90: 0 | AQ90: 0 | AR90: 1251.79 | AS90: 13.66 | AT90: 1278.31 | AU90: 13.36 | AW90: 1.93 | AX90: 2.42 | AY90: 3.86 | AZ90: 0 | BA90: 0 | BC90: 86.85 | BD90: 3.58 | BE90: 78.5 | BF90: 3.56 | BG90: 52.1 | BH90: 1.96 | BI90: 7.9 | BJ90: 0
A91: 5 | B91: 0246 | C91: Heerde | D91: 0.1235 | E91: 7.77 | F91: 0.3292 | G91: 3.53 | H91: 0.229 | I91: -2.28 | J91: 0.5582 | K91: 1.06 | L91: 643.42 | N91: 235.79 | O91: 4.93 | P91: 269.38 | Q91: 4.55 | S91: 185.4 | T91: 2.79 | U91: 185.4 | V91: 2.79 | AP91: 0 | AQ91: 0 | AR91: 1064.61 | AS91: 6.24 | AT91: 1098.2 | AU91: 6.1 | AW91: 1.5 | AX91: 1.5 | AY91: 0 | AZ91: 0 | BA91: 0 | BC91: 86.85 | BD91: 3.58 | BE91: 78.5 | BF91: 3.56 | BG91: 52.1 | BH91: 1.96 | BI91: 11.1 | BJ91: 2.78
A92: 5 | B92: 0252 | C92: Heumen | D92: 0.112 | E92: 3.94 | F92: 0.3757 | G92: 3.56 | H92: 0.2911 | I92: 4.14 | J92: 0.6668 | K92: 3.81 | L92: 583.78 | N92: 168.78 | O92: 2.21 | P92: 247.77 | Q92: 5.09 | S92: 170.35 | T92: 2.1 | U92: 170.35 | V92: 2.1 | W92: 170.35 | X92: 2.1 | Y92: 170.35 | Z92: 2.1 | AA92: 170.35 | AB92: 2.1 | AC92: 170.35 | AD92: 2.1 | AE92: 170.35 | AF92: 2.1 | AG92: 170.35 | AH92: 2.1 | AI92: 170.35 | AJ92: 2.1 | AK92: 170.35 | AL92: 2.1 | AM92: 170.35 | AN92: 2.1 | AP92: 0 | AQ92: 0 | AR92: 922.91 | AS92: 3.28 | AT92: 1001.9 | AU92: 3.9 | AW92: 1.9 | AX92: 1.9 | AY92: Nieuw ingevoerd | AZ92: 99.55 | BA92: 2.31 | BC92: 86.65 | BD92: 3.34 | BE92: 78.5 | BF92: 3.56 | BG92: 52.1 | BH92: 1.96 | BI92: 15.75 | BJ92: 5.35
A93: 5 | B93: 1705 | C93: Lingewaard | D93: 0.1316 | E93: 6.53 | F93: 0.3263 | G93: 9.24 | H93: 0.2608 | I93: 9.24 | J93: 0.5871 | K93: 9.24 | L93: 608.22 | N93: 259.41 | O93: 11.03 | P93: 291.2 | Q93: 10.56 | S93: 223.2 | T93: 2.25 | U93: 223.2 | V93: 2.25 | W93: 223.2 | X93: 2.25 | Y93: 223.2 | Z93: 2.25 | AA93: 223.2 | AB93: 2.25 | AC93: 223.2 | AD93: 2.25 | AE93: 258.64 | AF93: 2.26 | AG93: 825.68 | AH93: 2.29 | AI93: 967.44 | AJ93: 2.3 | AK93: 2207.84 | AL93: 2.3 | AM93: 10713.44 | AN93: 2.31 | AP93: 0 | AQ93: 0 | AR93: 1090.83 | AS93: 6.65 | AT93: 1122.62 | AU93: 6.65 | AW93: 1.25 | AX93: 1.25 | AY93: 25 | AZ93: 63.36 | BA93: 2.13 | BC93: 86.85 | BD93: 3.58 | BE93: 78.5 | BF93: 3.56 | BG93: 52.1 | BH93: 1.96 | BI93: 12.3 | BJ93: 2.5
A94: 5 | B94: 0262 | C94: Lochem | D94: 0.0616 | E94: 4.1 | F94: 0.1409 | G94: 6.22 | H94: 0.1217 | I94: 6.51 | J94: 0.2626 | K94: 6.36 | L94: 336.67 | N94: 244.75 | O94: 7.48 | P94: 312.32 | Q94: 7.17 | S94: 332.66 | T94: 0 | U94: 332.66 | V94: 0 | W94: 332.66 | X94: 0 | Y94: 332.66 | Z94: 0 | AA94: 332.66 | AB94: 0 | AC94: 603.68 | AD94: 0 | AE94: 603.68 | AF94: 0 | AG94: 4401.62 | AH94: 0 | AI94: 5098.26 | AJ94: 0 | AK94: 9927.38 | AL94: 0 | AM94: 23862.4 | AN94: 0 | AP94: 0 | AQ94: 0 | AR94: 914.08 | AS94: 3.43 | AT94: 981.65 | AU94: 3.61 | AW94: 1.05 | AX94: 2.75 | AY94: 0 | AZ94: 0 | BA94: 0 | BC94: 86.85 | BD94: 3.58 | BE94: 78.5 | BF94: 3.56 | BG94: 52.1 | BH94: 1.96 | BI94: 8.6 | BJ94: 3.61
A95: 5 | B95: 0263 | C95: Maasdriel | D95: 0.0868 | E95: 8.53 | F95: 0.3273 | G95: 9.38 | H95: 0.2571 | I95: 9.37 | J95: 0.5844 | K95: 9.38 | L95: 447.98 | N95: 367.56 | O95: 6.86 | P95: 384.78 | Q95: 6.53 | S95: 260.4 | T95: 0.26 | U95: 278.47 | V95: 0.44 | W95: 271 | X95: 0.37 | Y95: 304 | Z95: 0.66 | AA95: 348 | AB95: 1.16 | AC95: 392 | AD95: 1.55 | AE95: 436 | AF95: 1.87 | AG95: 1195 | AH95: 4.46 | AI95: 1391 | AJ95: 4.74 | AK95: 3106 | AL95: 4.3 | AM95: 15826 | AN95: 5.66 | AP95: 0 | AQ95: 0 | AR95: 1075.94 | AS95: 5.85 | AT95: 1111.23 | AU95: 5.71 | AW95: 1.83 | AX95: 1.83 | AY95: 15.82 | AZ95: 44 | BA95: 2.33 | BC95: 86.85 | BD95: 3.55 | BE95: 78.5 | BF95: 3.56 | BG95: 52.1 | BH95: 1.94 | BI95: 17 | BJ95: 6.25
A96: 5 | B96: 1955 | C96: Montferland | D96: 0.1142 | E96: 4.64 | F96: 0.2548 | G96: 2.87 | H96: 0.2054 | I96: 2.87 | J96: 0.4602 | K96: 2.87 | L96: 429.61 | N96: 266.4 | O96: 6.82 | P96: 296.8 | Q96: 6.08 | S96: 189.41 | T96: 4.1 | U96: 342.17 | V96: 4.1 | W96: 279 | X96: 4.1 | Y96: 558 | Z96: 4.1 | AA96: 837 | AB96: 4.1 | AC96: 1116 | AD96: 4.1 | AE96: 1395 | AF96: 4.1 | AG96: 5859 | AH96: 4.1 | AI96: 6975 | AJ96: 4.1 | AK96: 16740 | AL96: 4.1 | AM96: 83700 | AN96: 4.1 | AP96: 0 | AQ96: 0 | AR96: 885.42 | AS96: 5.17 | AT96: 1068.58 | AU96: 4.86 | AW96: 1.25 | AX96: 1.25 | AY96: 0 | AZ96: 23.29 | BA96: -50 | BC96: 86.85 | BD96: 3.58 | BE96: 78.5 | BF96: 3.56 | BG96: 52.1 | BH96: 1.96 | BI96: 13.8 | BJ96: 2.22
A97: 5 | B97: 1740 | C97: Neder-Betuwe | D97: 0.1169 | E97: 6.99 | F97: 0.2444 | G97: 4.05 | H97: 0.1587 | I97: 8.57 | J97: 0.4031 | K97: 5.79 | L97: 530.51 | N97: 367.91 | O97: 5.99 | P97: 388.1 | Q97: 5.66 | S97: 208.56 | T97: -13.28 | U97: 208.56 | V97: -13.28 | W97: 212.41 | X97: -11.68 | Y97: 212.41 | Z97: -11.68 | AA97: 212.41 | AB97: -11.68 | AC97: 212.41 | AD97: -11.68 | AE97: 212.41 | AF97: -11.68 | AG97: 1755.22 | AH97: 629.82 | AI97: 2063.22 | AJ97: 757.89 | AK97: 4623.38 | AL97: 1822.4 | AM97: 17367.25 | AN97: 7121.31 | AP97: 0 | AQ97: 0 | AR97: 1106.98 | AS97: 2.17 | AT97: 1127.17 | AU97: 2.13 | AW97: 1.37 | AX97: 1.37 | AY97: 2.24 | AZ97: 81.16 | BA97: 2.2 | BC97: 86.85 | BD97: 3.55 | BE97: 78.5 | BF97: 3.56 | BG97: 52.1 | BH97: 1.94 | BI97: 8.22 | BJ97: 2.11
A98: 5 | B98: 0267 | C98: Nijkerk | D98: 0.0771 | E98: 7.29 | F98: 0.2389 | G98: 5.8 | H98: 0.1776 | I98: 5.81 | J98: 0.4165 | K98: 5.8 | L98: 423.5 | N98: 228.6 | O98: 14.73 | P98: 249.21 | Q98: 13.59 | S98: 138 | T98: 18.35 | U98: 138 | V98: 18.35 | W98: 138 | X98: 18.35 | Y98: 138 | Z98: 18.35 | AA98: 159.6 | AB98: 18.4 | AC98: 181.2 | AD98: 18.43 | AE98: 202.8 | AF98: 18.46 | AG98: 548.4 | AH98: 18.6 | AI98: 634.8 | AJ98: 18.61 | AK98: 1390.8 | AL98: 18.65 | AM98: 6574.8 | AN98: 18.67 | AP98: 0 | AQ98: 0 | AR98: 790.1 | AS98: 11.19 | AT98: 810.71 | AU98: 10.95 | AW98: 1.1 | AX98: 1.95 | AY98: 2.63 | AZ98: 49.4 | BA98: 2.92 | BC98: 86.85 | BD98: 3.55 | BE98: 78.5 | BF98: 3.56 | BG98: 52.1 | BH98: 1.94 | BI98: 15.5 | BJ98: 3.33
A99: 5 | B99: 0268 | C99: Nijmegen | D99: 0.1801 | E99: 5.72 | F99: 1.0178 | G99: 5.44 | H99: 0 | I99: nvt | J99: 1.0178 | K99: 5.44 | L99: 894.4 | N99: 17.16 | O99: 5.98 | P99: 34.33 | Q99: 5.98 | S99: 220.5 | T99: -1.65 | U99: 220.5 | V99: -1.65 | AP99: 0 | AQ99: 0 | AR99: 1132.06 | AS99: 4.21 | AT99: 1149.23 | AU99: 4.23 | AW99: 0.93 | AX99: 3.58 | AY99: 4.68 | AZ99: 0 | BA99: 0 | BC99: 86.85 | BD99: 3.58 | BE99: 78.5 | BF99: 3.56 | BG99: 52.1 | BH99: 1.94 | BI99: 17.1 | BJ99: 1.79
A100: 5 | B100: 0302 | C100: Nunspeet | D100: 0.0885 | E100: 5.32 | F100: 0.2171 | G100: 7.88 | H100: 0.1741 | I100: 7.85 | J100: 0.3912 | K100: 7.87 | L100: 471.18 | N100: 198 | O100: 10.07 | P100: 282 | Q100: 12.82 | S100: 144 | T100: 1.05 | U100: 144 | V100: 1.05 | W100: 334.5 | X100: 3.72 | Y100: 334.5 | Z100: 3.72 | AA100: 334.5 | AB100: 3.72 | AC100: 334.5 | AD100: 3.72 | AE100: 334.5 | AF100: 3.72 | AG100: 334.5 | AH100: 3.72 | AI100: 334.5 | AJ100: 3.72 | AK100: 334.5 | AL100: 3.72 | AM100: 334.5 | AN100: 3.72 | AP100: 0 | AQ100: 0 | AR100: 813.18 | AS100: 5.64 | AT100: 897.18 | AU100: 6.83 | AW100: 1.4 | AX100: 1.4 | AY100: 7.69 | AZ100: 0 | BA100: 0 | BC100: 86.5 | BD100: 3.16 | BE100: 78.5 | BF100: 3.56 | BG100: 52 | BH100: 1.76 | BI100: 8 | BJ100: 2.56
...

Sheet Gegevens per gemeente 2024
A1: Gegevens gemeenten 2024 | D1: Tarieven, bedragen en mutaties
A2: © COELO, Groningen | D2: OZB | N2: Afvalstoffenheffing | S2: Rioolheffing huishoudens | W2: Rioolheffing bedrijven | AP2: Woonlasten | AX2: Toeristenbelasting | AZ2: Hondenbelasting | BE2: Leges
A3: Provinciecode | B3: Gemeente code | C3: Gemeentenaam | D3: Tarief woningen | E3: Mutatie Tarief woningen | F3: Tarief eigenaar niet-woning | G3: Mutatie Tarief eigenaar niet-woning | H3: Tarief gebruiker niet-woning | I3: Mutatie Tarief gebruiker niet-woning | J3: Tarief niet-woning eigenaar+gebruiker | K3: Mutatie Tarief niet-woning eigenaar+gebruiker | L3: Gemiddeld betaalde ozb woningen | N3: Eénpersoonshuishouden | O3: Mutatie Eénpersoonshuishouden | P3: Meerpersoonshuishouden | Q3: Mutatie Meerpersoonshuishouden | S3: Eénpersoonshuishouden | T3: Mutatie Eénpersoonshuishouden | U3: Meerpersoonshuishouden | V3: Mutatie Meerpersoonshuishouden | W3: Waterverbruik 100 m3 | X3: Mutatie Waterverbruik 100 m3 | Y3: waterverbruik 200 m3 | Z3: Mutatie waterverbruik 200 m3 | AA3: Waterverbruik 300 m3 | AB3: Mutatie Waterverbruik 300 m3 | AC3: Waterverbruik 400 m3 | AD3: Mutatie Waterverbruik 400 m3 | AE3: Waterverbruik 500 m4 | AF3: Mutatie Waterverbruik 500 m4 | AG3: Waterverbruik 2100 m3 | AH3: Mutatie Waterverbruik 2100 m3 | AI3: Waterverbruik 2500 m3 | AJ3: Mutatie Waterverbruik 2500 m3 | AK3: Waterverbruik 6000 m3 | AL3: Mutatie Waterverbruik 6000 m3 | AM3: Waterverbruik 30.000 m3 | AN3: Mutatie Waterverbruik 30.000 m3 | AP3: Heffingskorting éénpersoonshuishouden | AQ3: Heffingskorting meerpersoonshuishouden | AR3: Woonlasten éénpersoonshuishouden | AS3: Mutatie Woonlasten éénpersoonshuishouden | AT3: Woonlasten meerpersoonshuishouden | AU3: Mutatie Woonlasten meerpersoonshuishouden | AW3: Toeristenbelasting overnachting camping | AX3: Toeristenbelasting hotelovernachting | AY3: Mutatie Toeristenbelasting hotelovernachting | AZ3: Hondenbelasting | BA3: Mutatie Hondenbelasting | BB3: Parkeerbelasting | BC3: Mutatie Parkeerbelasting | BE3: Paspoort | BF3: Mutatie Paspoort | BG3: Identiteitskaart | BH3: Mutatie Identiteitskaart | BI3: Rijbewijs | BJ3: Mutatie Rijbewijs | BK3: Uittreksel BRP | BL3: Mutatie Uittreksel BRP
D4: % | E4: % | F4: % | G4: % | H4: % | I4: % | L4: euro | N4: euro | O4: % | P4: euro | Q4: % | S4: euro | T4: % | U4: euro | V4: % | W4: euro | X4: % | Y4: euro | Z4: % | AA4: euro | AB4: % | AC4: euro | AD4: % | AE4: euro | AF4: % | AG4: euro | AH4: % | AI4: euro | AJ4: % | AK4: euro | AL4: % | AM4: euro | AN4: % | AP4: euro | AR4: euro | AS4: % | AT4: euro | AU4: % | AX4: euro | AY4: % | AZ4: euro | BA4: % | BC4: % | BE4: euro | BF4: % | BG4: euro | BH4: % | BI4: euro | BJ4: % | BK4: euro | BL4: %
A5: 1 | B5: 1979 | C5: Eemsdelta | D5: 0.1455 | E5: 2.99 | F5: 0.5518 | G5: 2.84 | H5: 0.472 | I5: 3.91 | J5: 1.0238 | K5: 3.33 | L5: 398.4 | N5: 246.26 | O5: 3.42 | P5: 298.31 | Q5: 3.69 | S5: 255.95 | T5: 3 | U5: 255.95 | V5: 3 | W5: 255.95 | X5: 3 | Y5: 255.95 | Z5: 3 | AA5: 255.95 | AB5: 3 | AC5: 255.95 | AD5: 3 | AE5: 255.95 | AF5: 3 | AG5: 255.95 | AH5: 3 | AI5: 255.95 | AJ5: 3 | AK5: 255.95 | AL5: 3 | AM5: 255.95 | AN5: 3 | AP5: 0 | AQ5: 0 | AR5: 900.61 | AS5: 3.11 | AT5: 952.66 | AU5: 3.21 | AW5: 1.65 | AX5: 1.65 | AY5: 3.12 | AZ5: 0 | BA5: 0 | BB5: 0 | BC5: 0 | BE5: 77.85 | BF5: 0 | BG5: 70.35 | BH5: 0 | BI5: 51.1 | BJ5: 14.45 | BK5: 0 | BL5: -100
A6: 1 | B6: 0014 | C6: Groningen | D6: 0.1577 | E6: 9.03 | F6: 0.5503 | G6: 3.32 | H6: 0.4403 | I6: 3.27 | J6: 0.9906 | K6: 3.3 | L6: 630.3 | N6: 262.92 | O6: -0.27 | P6: 373.44 | Q6: -0.29 | S6: 167.1 | T6: 7.64 | U6: 167.1 | V6: 7.64 | W6: 167.1 | X6: 7.64 | Y6: 167.1 | Z6: 7.64 | AA6: 167.1 | AB6: 7.64 | AC6: 167.1 | AD6: 7.64 | AE6: 167.1 | AF6: 7.64 | AG6: 167.1 | AH6: 7.64 | AI6: 167.1 | AJ6: 7.64 | AK6: 167.1 | AL6: 7.64 | AM6: 167.1 | AN6: 7.64 | AP6: 0 | AQ6: 0 | AR6: 1060.32 | AS6: 6.35 | AT6: 1170.84 | AU6: 5.68 | AW6: 2.15 | AX6: 4 | AY6: 0 | AZ6: 0 | BA6: 0 | BB6: 4.5 | BC6: 9.76 | BE6: 83.85 | BF6: 7.71 | BG6: 75.8 | BH6: 7.75 | BI6: 51.1 | BJ6: 14.45 | BK6: 20.65 | BL6: 8.4
A7: 1 | B7: 1966 | C7: Het Hogeland | D7: 0.1494 | E7: 3.5 | F7: 0.4756 | G7: 4 | H7: 0.3838 | I7: 3.72 | J7: 0.8594 | K7: 3.88 | L7: 456.01 | N7: 261.38 | O7: 12.2 | P7: 353.34 | Q7: 20.94 | S7: 216.93 | T7: 3.3 | U7: 216.93 | V7: 3.3 | W7: 433.86 | X7: 106.6 | Y7: 433.86 | Z7: 106.6 | AA7: 433.86 | AB7: 106.6 | AC7: 433.86 | AD7: 106.6 | AE7: 433.86 | AF7: 106.6 | AG7: 433.86 | AH7: 106.6 | AI7: 433.86 | AJ7: 106.6 | AK7: 433.86 | AL7: 106.6 | AM7: 433.86 | AN7: 106.6 | AP7: 0 | AQ7: 0 | AR7: 934.32 | AS7: 5.75 | AT7: 1026.28 | AU7: 8.86 | AW7: 1 | AX7: 1.5 | AY7: 0 | AZ7: 0 | BA7: 0 | BB7: 0 | BC7: 0 | BE7: 83.85 | BF7: 7.85 | BG7: 75.8 | BH7: 7.82 | BI7: 51.1 | BJ7: 14.45 | BK7: 9.4 | BL7: 3.3
A8: 1 | B8: 1952 | C8: Midden-Groningen | D8: 0.1721 | E8: 5.39 | F8: 0.4619 | G8: 11.9 | H8: 0.3656 | I8: 13.15 | J8: 0.8275 | K8: 12.45 | L8: 571.97 | N8: 234.56 | O8: 9.51 | P8: 273.11 | Q8: 8.7 | S8: 190 | T8: 0 | U8: 190 | V8: 0 | W8: 190 | X8: 0 | Y8: 190 | Z8: 0 | AA8: 190 | AB8: 0 | AC8: 190 | AD8: 0 | AE8: 190 | AF8: 0 | AG8: 1240 | AH8: 79.71 | AI8: 1440 | AJ8: 108.7 | AK8: 2940 | AL8: 147.06 | AM8: 8940 | AN8: 651.26 | AP8: 0 | AQ8: 0 | AR8: 996.53 | AS8: 5.24 | AT8: 1035.08 | AU8: 5.19 | AW8: 1.3 | AX8: 1.6 | AY8: 0 | AZ8: 0 | BA8: 0 | BB8: 0 | BC8: 0 | BE8: 83.85 | BF8: 7.71 | BG8: 75.8 | BH8: 7.75 | BI8: 51.1 | BJ8: 14.45 | BK8: 10.75 | BL8: 3.86
A9: 1 | B9: 1895 | C9: Oldambt | D9: 0.16 | E9: 1.11 | F9: 0.598 | G9: 4.98 | H9: 0.47 | I9: 5.04 | J9: 1.068 | K9: 5.01 | L9: 489.46 | N9: 222.75 | O9: 5.72 | P9: 253.91 | Q9: 5.62 | S9: 239.7 | T9: 0.84 | U9: 239.7 | V9: 0.84 | W9: 239.7 | X9: 0.84 | Y9: 239.7 | Z9: 0.84 | AA9: 239.7 | AB9: 0.84 | AC9: 239.7 | AD9: 0.84 | AE9: 239.7 | AF9: 0.84 | AG9: 607.7 | AH9: 3.54 | AI9: 607.7 | AJ9: 3.54 | AK9: 1251.7 | AL9: 4.48 | AM9: 5667.7 | AN9: 5.18 | AP9: 0 | AQ9: 0 | AR9: 951.91 | AS9: 2.08 | AT9: 983.07 | AU9: 2.17 | AW9: 1.5 | AX9: 1.5 | AY9: 0 | AZ9: 0 | BA9: 0 | BB9: 0 | BC9: 0 | BE9: 83.85 | BF9: 7.71 | BG9: 75.8 | BH9: 7.75 | BI9: 51.1 | BJ9: 14.45 | BK9: 8 | BL9: 2.56
A10: 1 | B10: 0765 | C10: Pekela | D10: 0.2017 | E10: 4.21 | F10: 0.8857 | G10: 47.13 | H10: 0.4421 | I10: 44.87 | J10: 1.3278 | K10: 46.37 | L10: 476.92 | N10: 254.4 | O10: 8.72 | P10: 364.4 | Q10: 8.68 | S10: 182.6 | T10: -1.14 | U10: 182.6 | V10: -1.14 | W10: 182.6 | X10: -1.14 | Y10: 182.6 | Z10: -1.14 | AA10: 182.6 | AB10: -1.14 | AC10: 182.6 | AD10: -1.14 | AE10: 182.6 | AF10: -1.14 | AG10: 182.6 | AH10: -1.14 | AI10: 182.6 | AJ10: -1.14 | AK10: 182.6 | AL10: -1.14 | AM10: 182.6 | AN10: -1.14 | AP10: 0 | AQ10: 0 | AR10: 913.92 | AS10: 4.29 | AT10: 1023.92 | AU10: 4.73 | AW10: 0 | AX10: 0 | AY10: 0 | AZ10: 0 | BA10: 0 | BB10: 0 | BC10: 0 | BE10: 83.9 | BF10: 7.77 | BG10: 75.8 | BH10: 7.75 | BI10: 51.1 | BJ10: 14.45 | BK10: 16.6 | BL10: 5.73
A11: 1 | B11: 0037 | C11: Stadskanaal | D11: 0.1377 | E11: 3.16 | F11: 0.4449 | G11: 2.45 | H11: 0.3547 | I11: 2.25 | J11: 0.7996 | K11: 2.36 | L11: 434.65 | N11: 217.08 | O11: 7.33 | P11: 274.16 | Q11: 9.88 | S11: 188 | T11: 9.3 | U11: 188 | V11: 9.3 | W11: 188 | X11: 9.3 | Y11: 188 | Z11: 9.3 | AA11: 188 | AB11: 9.3 | AC11: 188 | AD11: 9.3 | AE11: 188 | AF11: 9.3 | AG11: 188 | AH11: 9.3 | AI11: 188 | AJ11: 9.3 | AK11: 188 | AL11: 9.3 | AM11: 188 | AN11: 9.3 | AP11: 0 | AQ11: 0 | AR11: 839.73 | AS11: 5.55 | AT11: 896.81 | AU11: 6.4 | AW11: 1.5 | AX11: 1.5 | AY11: 0 | AZ11: 0 | BA11: 0 | BB11: 0 | BC11: 0 | BE11: 83.85 | BF11: 7.79 | BG11: 75.8 | BH11: 7.81 | BI11: 51 | BJ11: 14.22 | BK11: 12.2 | BL11: 6.09
A12: 1 | B12: 0047 | C12: Veendam | D12: 0.1865 | E12: 2.75 | F12: 0.4895 | G12: 13.61 | H12: 0.3318 | I12: 4.57 | J12: 0.8213 | K12: 9.77 | L12: 480.99 | N12: 323 | O12: 18.88 | P12: 398 | Q12: 19.3 | S12: 172.5 | T12: 9.59 | U12: 172.5 | V12: 9.59 | W12: 172.5 | X12: 9.59 | Y12: 172.5 | Z12: 9.59 | AA12: 172.5 | AB12: 9.66 | AC12: 264.4 | AD12: 7.52 | AE12: 264.4 | AF12: 7.52 | AG12: 723.9 | AH12: 5.17 | AI12: 907.7 | AJ12: 4.89 | AK12: 1918.6 | AL12: 4.33 | AM12: 7580.6 | AN12: 0.09 | AP12: 0 | AQ12: 0 | AR12: 976.49 | AS12: 8.84 | AT12: 1051.49 | AU12: 9.63 | AW12: 0 | AX12: 0 | AY12: 0 | AZ12: 0 | BA12: 0 | BB12: 0 | BC12: 0 | BE12: 83.85 | BF12: 7.71 | BG12: 75.8 | BH12: 7.75 | BI12: 51.1 | BJ12: 14.45 | BK12: 16.6 | BL12: 5.73
A13: 1 | B13: 1969 | C13: Westerkwartier | D13: 0.123 | E13: 3.6 | F13: 0.2659 | G13: 3.71 | H13: 0.2087 | I13: 7.1 | J13: 0.4746 | K13: 5.17 | L13: 424.7 | N13: 290.71 | O13: 1.04 | P13: 379.42 | Q13: 0.8 | S13: 238 | T13: 6.73 | U13: 238 | V13: 6.73 | W13: 238 | X13: 6.73 | Y13: 238 | Z13: 6.73 | AA13: 238 | AB13: 6.73 | AC13: 238 | AD13: 6.73 | AE13: 238 | AF13: 6.73 | AG13: 238 | AH13: 6.73 | AI13: 238 | AJ13: 6.73 | AK13: 238 | AL13: 6.73 | AM13: 238 | AN13: 6.73 | AP13: 0 | AQ13: 0 | AR13: 953.41 | AS13: 3.56 | AT13: 1042.12 | AU13: 3.25 | AW13: 0 | AX13: 0 | AY13: 0 | AZ13: 0 | BA13: 0 | BB13: 0 | BC13: 0 | BE13: 83.85 | BF13: 7.71 | BG13: 75.8 | BH13: 7.75 | BI13: 51.1 | BJ13: 14.45 | BK13: 7.5 | BL13: 0
A14: 1 | B14: 1950 | C14: Westerwolde | D14: 0.1411 | E14: 11.99 | F14: 0.3104 | G14: 7.09 | H14: 0.1876 | I14: 9.52 | J14: 0.498 | K14: 7.99 | L14: 471.9 | N14: 353.29 | O14: 8.84 | P14: 376.58 | Q14: 5.73 | S14: 307 | T14: 4.78 | U14: 307 | V14: 4.78 | AP14: 0 | AQ14: 0 | AR14: 1132.19 | AS14: 8.97 | AT14: 1155.48 | AU14: 7.93 | AW14: 1.25 | AX14: 1.25 | AY14: 0 | AZ14: 0 | BA14: 0 | BB14: 0 | BC14: 0 | BE14: 83.85 | BF14: 7.71 | BG14: 75.8 | BH14: 7.75 | BI14: 51.1 | BJ14: 14.45 | BK14: 8.85 | BL14: 4.73
A15: 2 | B15: 0059 | C15: Achtkarspelen | D15: 0.1299 | E15: 11.84 | F15: 0.3214 | G15: 1.43 | H15: 0.2531 | I15: 1.42 | J15: 0.5745 | K15: 1.42 | L15: 420.6 | N15: 245.28 | O15: -6.96 | P15: 350.4 | Q15: -6.95 | S15: 220.08 | T15: 13 | U15: 220.08 | V15: 13 | W15: 220.08 | X15: 13 | Y15: 220.08 | Z15: 13 | AA15: 220.08 | AB15: 13 | AC15: 220.08 | AD15: 13 | AE15: 220.08 | AF15: 13 | AG15: 220.08 | AH15: 13 | AI15: 220.08 | AJ15: 13 | AK15: 220.08 | AL15: 13 | AM15: 220.08 | AN15: 13 | AP15: 0 | AQ15: 0 | AR15: 885.96 | AS15: 6.17 | AT15: 991.08 | AU15: 4.61 | AW15: 1.5 | AX15: 1.5 | AY15: 0 | AZ15: 0 | BA15: 0 | BB15: 0 | BC15: 0 | BE15: 83.85 | BF15: 7.85 | BG15: 75.8 | BH15: 7.82 | BI15: 51.1 | BJ15: 14.45 | BK15: 16.6 | BL15: 5.73
A16: 2 | B16: 0060 | C16: Ameland | D16: 0.0672 | E16: 5.94 | F16: 0.1517 | G16: 4.5 | H16: 0.1214 | I16: 4.48 | J16: 0.2731 | K16: 4.49 | L16: 275.07 | N16: 178.11 | O16: 2 | P16: 233.99 | Q16: 2 | S16: 149.55 | T16: 0 | U16: 176.92 | V16: 0 | W16: 165.6 | X16: 0 | Y16: 215.6 | Z16: 0 | AA16: 265.6 | AB16: 0 | AC16: 315.6 | AD16: 0 | AE16: 365.6 | AF16: 0 | AG16: 1165.6 | AH16: 0 | AI16: 1365.6 | AJ16: 0 | AK16: 3115.6 | AL16: 0 | AM16: 12500 | AN16: 0 | AP16: 0 | AQ16: 0 | AR16: 602.73 | AS16: 3.24 | AT16: 685.98 | AU16: 3 | AW16: 2 | AX16: 2 | AY16: 11.11 | AZ16: 0 | BA16: 0 | BB16: 0 | BC16: 0 | BE16: 83.85 | BF16: 7.68 | BG16: 75.8 | BH16: 7.7 | BI16: 51.1 | BJ16: 14.45 | BK16: 11.25 | BL16: 0
A17: 2 | B17: 1891 | C17: Dantumadiel | D17: 0.1411 | E17: 0.8 | F17: 0.2978 | G17: 4.05 | H17: 0.2317 | I17: 4.05 | J17: 0.5295 | K17: 4.05 | L17: 530.26 | N17: 204.72 | O17: 0 | P17: 255.75 | Q17: 0 | S17: 188.23 | T17: 0 | U17: 188.23 | V17: 0 | AP17: 0 | AQ17: 0 | AR17: 923.21 | AS17: 0.46 | AT17: 974.24 | AU17: 0.43 | AW17: 1 | AX17: 1 | AY17: 0 | AZ17: 0 | BA17: 0 | BB17: 0 | BC17: 0 | BE17: 62.5 | BF17: 0 | BG17: 55.5 | BH17: 0 | BI17: 38 | BJ17: 10.14 | BK17: 11.95 | BL17: 0
A18: 2 | B18: 1940 | C18: De Fryske Marren | D18: 0.0877 | E18: 0.79 | F18: 0.2846 | G18: 8.71 | H18: 0.214 | I18: 8.7 | J18: 0.4986 | K18: 8.7 | L18: 343.26 | N18: 236 | O18: 5.83 | P18: 300 | Q18: 4.9 | S18: 125 | T18: 0 | U18: 214 | V18: 0 | W18: 119 | X18: 0 | Y18: 211 | Z18: 0 | AA18: 303 | AB18: 0 | AC18: 395 | AD18: 0 | AE18: 487 | AF18: 0 | AG18: 1959 | AH18: 0 | AI18: 2327 | AJ18: 0 | AK18: 5547 | AL18: 0 | AM18: 23754 | AN18: 0.08 | AP18: 0 | AQ18: 0 | AR18: 704.26 | AS18: 2.28 | AT18: 857.26 | AU18: 1.98 | AW18: 1.2 | AX18: 1.2 | AY18: 0 | AZ18: 0 | BA18: 0 | BB18: 0 | BC18: 0 | BE18: 83.85 | BF18: 7.71 | BG18: 75.8 | BH18: 7.75 | BI18: 51.1 | BJ18: 21.67 | BK18: 8.5 | BL18: 3.03
A19: 2 | B19: 0072 | C19: Harlingen | D19: 0.0977 | E19: 2.42 | F19: 0.3601 | G19: 18.06 | H19: 0.2704 | I19: 17.23 | J19: 0.6305 | K19: 17.71 | L19: 285.97 | N19: 217.08 | O19: 2.09 | P19: 323.04 | Q19: 2.09 | S19: 190.8 | T19: 11.03 | U19: 190.8 | V19: 11.03 | AP19: 0 | AQ19: 0 | AR19: 693.85 | AS19: 4.54 | AT19: 799.81 | AU19: 4.21 | AW19: 1.55 | AX19: 1.55 | AY19: 29.17 | AZ19: 0 | BA19: 0 | BB19: 1.1 | BC19: 0 | BE19: 83.87 | BF19: 7.73 | BG19: 75.8 | BH19: 7.75 | BI19: 51.11 | BJ19: 14.47 | BK19: 4.95 | BL19: 3.13
A20: 2 | B20: 0074 | C20: Heerenveen | D20: 0.1087 | E20: -0.58 | F20: 0.3587 | G20: -1.95 | H20: 0.2862 | I20: -2.07 | J20: 0.6449 | K20: -2 | L20: 429.51 | N20: 220.23 | O20: 4.26 | P20: 285.46 | Q20: 3.26 | S20: 190 | T20: 4.97 | U20: 253 | V20: 4.55 | W20: 594 | X20: 4.95 | Y20: 594 | Z20: 4.95 | AA20: 814 | AB20: 4.9 | AC20: 1034 | AD20: 4.87 | AE20: 1254 | AF20: 4.85 | AG20: 4114 | AH20: 4.71 | AI20: 4754 | AJ20: 4.69 | AK20: 10354 | AL20: 4.63 | AM20: 32754 | AN20: 2.31 | AP20: 0 | AQ20: 0 | AR20: 839.74 | AS20: 1.88 | AT20: 967.97 | AU20: 1.84 | AW20: 1 | AX20: 2.35 | AY20: 0 | AZ20: 0 | BA20: 0 | BB20: 1.8 | BC20: 0 | BE20: 83.85 | BF20: 7.71 | BG20: 75.8 | BH20: 7.75 | BI20: 51.1 | BJ20: 14.45 | BK20: 9.2 | BL20: 3.37
A21: 2 | B21: 0080 | C21: Leeuwarden | D21: 0.11048 | E21: 9.23 | F21: 0.49046 | G21: 5.85 | H21: 0.39236 | I21: 5.85 | J21: 0.88282 | K21: 5.85 | L21: 358.62 | N21: 210 | O21: 0.74 | P21: 323.62 | Q21: 0.72 | S21: 136.81 | T21: -5.91 | U21: 169.1 | V21: -5.7 | AP21: 0 | AQ21: 0 | AR21: 705.43 | AS21: 3.41 | AT21: 851.34 | AU21: 2.7 | AW21: 1.65 | AX21: 1.65 | AY21: 0 | AZ21: 81.9 | BA21: 7.3 | BB21: 3 | BC21: 0 | BE21: 83.8 | BF21: 7.62 | BG21: 75.8 | BH21: 7.7 | BI21: 51.1 | BJ21: 14.45 | BK21: 15.9 | BL21: 7.36
A22: 2 | B22: 1970 | C22: Noardeast-Fryslân | D22: 0.1179 | E22: 2.93 | F22: 0.2686 | G22: 9.72 | H22: 0.2048 | I22: 9.48 | J22: 0.4734 | K22: 9.62 | L22: 385.36 | N22: 167.12 | O22: -14.45 | P22: 237.44 | Q22: -14.45 | S22: 240.21 | T22: 0 | U22: 240.21 | V22: 0 | W22: 240.21 | X22: 0 | Y22: 261.42 | Z22: 0 | AA22: 261.42 | AB22: 0 | AC22: 303.84 | AD22: 0 | AE22: 325.05 | AF22: 0 | AG22: 515.94 | AH22: 0 | AI22: 579.57 | AJ22: 0 | AK22: 1067.4 | AL22: 0 | AM22: 4461 | AN22: 0 | AP22: 0 | AQ22: 0 | AR22: 792.69 | AS22: -2.13 | AT22: 863.01 | AU22: -3.27 | AW22: 1.5 | AX22: 1.5 | AY22: 0 | AZ22: 0 | BA22: 0 | BB22: 2.4 | BC22: 0 | BE22: 83.85 | BF22: 7.79 | BG22: 75.8 | BH22: 7.81 | BI22: 48.15 | BJ22: 7.84 | BK22: 8.7 | BL22: 2.96
A23: 2 | B23: 0085 | C23: Ooststellingwerf | D23: 0.0741 | E23: -5.12 | F23: 0.0951 | G23: 6.93 | H23: 0.0793 | I23: was vorig jaar 0 | J23: 0.1744 | K23: 96.09 | L23: 267.93 | N23: 218.68 | O23: 32.39 | P23: 279.36 | Q23: 23.69 | S23: 170.85 | T23: 3.08 | U23: 296.3 | V23: 3.1 | W23: 248 | X23: 138.92 | Y23: 389 | Z23: 274.76 | AA23: 508 | AB23: 12.44 | AC23: 627 | AD23: 10.43 | AE23: 746 | AF23: 9.1 | AG23: 2411 | AH23: 16.48 | AI23: 2691 | AJ23: 14.91 | AK23: 4871 | AL23: 9.17 | AM23: 11391 | AN23: 6.04 | AP23: 0 | AQ23: 0 | AR23: 657.46 | AS23: 7.19 | AT23: 843.59 | AU23: 6.02 | AW23: 1.1 | AX23: 1.5 | AY23: 0 | AZ23: 0 | BA23: 0 | BB23: 0 | BC23: 0 | BE23: 83.85 | BF23: 7.71 | BG23: 75.8 | BH23: 7.75 | BI23: 51.1 | BJ23: 14.45 | BK23: 7.5 | BL23: 0
A24: 2 | B24: 0086 | C24: Opsterland | D24: 0.0808 | E24: 3.31 | F24: 0.1817 | G24: -0.15 | H24: 0.1473 | I24: 0.04 | J24: 0.329 | K24: -0.07 | L24: 308.76 | N24: 198.83 | O24: -0.75 | P24: 240.67 | Q24: -0.62 | S24: 211 | T24: 0 | U24: 277 | V24: 0 | W24: 197 | X24: 0 | Y24: 289 | Z24: 0 | AA24: 289 | AB24: 0 | AC24: 289 | AD24: 0 | AE24: 289 | AF24: 0 | AG24: 1187 | AH24: 0 | AI24: 1187 | AJ24: 0 | AK24: 2084 | AL24: 0 | AM24: 8711 | AN24: 0 | AP24: 0 | AQ24: 0 | AR24: 718.59 | AS24: 1.18 | AT24: 826.43 | AU24: 1.02 | AW24: 2.64 | AX24: 3.43 | AY24: 3.83 | AZ24: 0 | BA24: 0 | BB24: 0 | BC24: 0 | BE24: 83.5 | BF24: 7.74 | BG24: 75.5 | BH24: 7.86 | BI24: 51 | BJ24: 22.89 | BK24: 8 | BL24: 0
A25: 2 | B25: 0088 | C25: Schiermonnikoog | D25: 0.0983 | E25: 22.01 | F25: 0.2227 | G25: 6.11 | H25: 0.1792 | I25: 6.08 | J25: 0.4019 | K25: 6.1 | L25: 454.07 | N25: 258.41 | O25: 1.99 | P25: 336.8 | Q25: 1.99 | S25: 129.97 | T25: 1.96 | U25: 187.96 | V25: 1.95 | W25: 164 | X25: 1.95 | Y25: 270 | Z25: 1.94 | AA25: 464.24 | AB25: 1.95 | AC25: 570.24 | AD25: 1.94 | AE25: 676.24 | AF25: 1.94 | AG25: 2372.24 | AH25: 1.93 | AI25: 2796.24 | AJ25: 1.93 | AK25: 6506.24 | AL25: 1.92 | AM25: 31946.24 | AN25: 1.92 | AP25: 0 | AQ25: 0 | AR25: 842.45 | AS25: 11.88 | AT25: 978.83 | AU25: 10.38 | AW25: 1.93 | AX25: 1.93 | AY25: 2.12 | AZ25: 0 | BA25: 0 | BB25: 0 | BC25: 0 | BE25: 83.85 | BF25: 12.17 | BG25: 75.8 | BH25: 12.21 | BI25: 51.11 | BJ25: 14.47 | BK25: 5 | BL25: 1.21
A26: 2 | B26: 0090 | C26: Smallingerland | D26: 0.1052 | E26: 4.94 | F26: 0.3822 | G26: 5.11 | H26: 0.3061 | I26: 8.25 | J26: 0.6883 | K26: 6.48 | L26: 368.49 | N26: 251 | O26: 6.81 | P26: 295 | Q26: 6.5 | S26: 296 | T26: 3.86 | U26: 296 | V26: 3.86 | W26: 296 | X26: 3.86 | Y26: 296 | Z26: 3.86 | AA26: 296 | AB26: 3.86 | AC26: 296 | AD26: 3.86 | AE26: 296 | AF26: 3.86 | AG26: 296 | AH26: 3.86 | AI26: 296 | AJ26: 3.86 | AK26: 296 | AL26: 3.86 | AM26: 296 | AN26: 3.86 | AP26: 0 | AQ26: 0 | AR26: 915.49 | AS26: 5.09 | AT26: 959.49 | AU26: 5.07 | AW26: 1.6 | AX26: 1.6 | AY26: 6.67 | AZ26: 77 | BA26: 4.05 | BB26: 2 | BC26: 5.26 | BE26: 83 | BF26: 7.79 | BG26: 75 | BH26: 7.14 | BI26: 48.15 | BJ26: 7.84 | BK26: 7.5 | BL26: 4.17
A27: 2 | B27: 1900 | C27: Súdwest Fryslân | D27: 0.1102 | E27: 6.87 | F27: 0.3238 | G27: 6.91 | H27: 0.259 | I27: 6.64 | J27: 0.5828 | K27: 6.79 | L27: 382.53 | N27: 239.64 | O27: 6.39 | P27: 286.92 | Q27: 6.41 | S27: 203.42 | T27: 6.59 | U27: 203.42 | V27: 6.59 | W27: 298.7 | X27: 6.95 | Y27: 298.7 | Z27: 6.95 | AA27: 298.7 | AB27: 6.95 | AC27: 298.7 | AD27: 6.95 | AE27: 298.7 | AF27: 6.95 | AG27: 298.7 | AH27: 6.95 | AI27: 298.7 | AJ27: 6.95 | AK27: 298.7 | AL27: 6.95 | AM27: 298.7 | AN27: 6.95 | AP27: 0 | AQ27: 0 | AR27: 825.59 | AS27: 6.66 | AT27: 872.87 | AU27: 6.65 | AW27: 1.25 | AX27: 1.25 | AY27: 0 | AZ27: 0 | BA27: 0 | BB27: 0.96 | BC27: 20 | BE27: 83.85 | BF27: 7.71 | BG27: 75.8 | BH27: 7.75 | BI27: 51.1 | BJ27: 14.45 | BK27: 12.2 | BL27: 7.02
A28: 2 | B28: 0093 | C28: Terschelling | D28: 0.088 | E28: 14.86 | F28: 0.375 | G28: 23.17 | H28: 0.295 | I28: 37.27 | J28: 0.67 | K28: 29 | L28: 440.05 | N28: 242.21 | O28: 12.33 | P28: 242.21 | Q28: 12.33 | S28: 190.5 | T28: 5.83 | U28: 190.5 | V28: 5.83 | W28: 381 | X28: 111.65 | Y28: 438 | Z28: 85.19 | AA28: 552 | AB28: 57.94 | AC28: 666 | AD28: 44 | AE28: 780 | AF28: 35.53 | AG28: 2604 | AH28: 9.25 | AI28: 3060 | AJ28: 7.92 | AK28: 7050 | AL28: 3.82 | AM28: 34410 | AN28: 1.47 | AP28: 0 | AQ28: 0 | AR28: 872.76 | AS28: 12.07 | AT28: 872.76 | AU28: 12.07 | AW28: 2.1 | AX28: 2.1 | AY28: 9.38 | AZ28: 0 | BA28: 0 | BB28: 0 | BC28: 0 | BE28: 83.87 | BF28: 7.82 | BG28: 75.8 | BH28: 7.81 | BI28: 43.17 | BJ28: 16.52 | BK28: 4.56 | BL28: 9.35
A29: 2 | B29: 0737 | C29: Tytsjerksteradiel | D29: 0.1499 | E29: 4.06 | F29: 0.3158 | G29: 0.69 | H29: 0.2731 | I29: 2.32 | J29: 0.5889 | K29: 1.44 | L29: 504.48 | N29: 197.4 | O29: 1.86 | P29: 282 | Q29: 1.73 | S29: 145.2 | T29: 2.54 | U29: 161.4 | V29: 2.28 | W29: 190.8 | X29: 2.58 | Y29: 190.8 | Z29: 2.58 | AA29: 190.8 | AB29: 2.58 | AC29: 190.8 | AD29: 2.58 | AE29: 190.8 | AF29: 2.58 | AG29: 190.8 | AH29: 2.58 | AI29: 190.8 | AJ29: 2.58 | AK29: 190.8 | AL29: 2.58 | AM29: 190.8 | AN29: 2.58 | AP29: 0 | AQ29: 0 | AR29: 847.08 | AS29: 3.28 | AT29: 947.88 | AU29: 3.05 | AW29: 1.5 | AX29: 1.5 | AY29: 0 | AZ29: 0 | BA29: 0 | BB29: 0 | BC29: 0 | BE29: 83.85 | BF29: 7.85 | BG29: 75.8 | BH29: 7.82 | BI29: 51.1 | BJ29: 14.45 | BK29: 16.6 | BL29: 5.73
A30: 2 | B30: 0096 | C30: Vlieland | D30: 0.06616 | E30: 4.16 | F30: 0.21419 | G30: 5.46 | H30: 0.20314 | I30: 4 | J30: 0.41733 | K30: 4.75 | L30: 353.46 | N30: 266 | O30: 4.31 | P30: 355 | Q30: 4.41 | S30: 115.76 | T30: 4.99 | U30: 173.64 | V30: 4.99 | W30: 115.76 | X30: 4.99 | Y30: 231.52 | Z30: 4.99 | AA30: 347.28 | AB30: 4.99 | AC30: 463.04 | AD30: 4.99 | AE30: 578.8 | AF30: 4.99 | AG30: 3457.26 | AH30: 4.84 | AI30: 3457.26 | AJ30: 4.84 | AK30: 6914.52 | AL30: 4.92 | AM30: 34572.6 | AN30: 4.98 | AP30: 0 | AQ30: 0 | AR30: 735.22 | AS30: 4.34 | AT30: 882.1 | AU30: 4.42 | AW30: 2.2 | AX30: 2.2 | AY30: 4.27 | AZ30: 86.71 | BA30: 4.42 | BB30: 0 | BC30: 0 | BE30: 83 | BF30: 7.79 | BG30: 75 | BH30: 7.14 | BI30: 51.1 | BJ30: 14.45 | BK30: 0 | BL30: 0
A31: 2 | B31: 1949 | C31: Waadhoeke | D31: 0.118 | E31: 9.93 | F31: 0.2424 | G31: 9.86 | H31: 0.1706 | I31: 11.85 | J31: 0.413 | K31: 10.68 | L31: 343.19 | N31: 250.4 | O31: -0.32 | P31: 313 | Q31: -0.32 | S31: 263.2 | T31: 10.03 | U31: 329 | V31: 10.03 | W31: 460.6 | X31: 10.03 | Y31: 460.6 | Z31: 10.03 | AA31: 460.6 | AB31: 10.03 | AC31: 460.6 | AD31: 10.03 | AE31: 460.6 | AF31: 10.03 | AG31: 460.6 | AH31: 10.03 | AI31: 460.6 | AJ31: 10.03 | AK31: 460.6 | AL31: 10.03 | AM31: 460.6 | AN31: 10.03 | AP31: 0 | AQ31: 0 | AR31: 856.79 | AS31: 6.75 | AT31: 985.19 | AU31: 6.48 | AW31: 0 | AX31: 0 | AY31: 0 | AZ31: 0 | BA31: 0 | BB31: 1.2 | BC31: 0 | BE31: 83.85 | BF31: 7.71 | BG31: 75.8 | BH31: 7.75 | BI31: 51.1 | BJ31: 14.45 | BK31: 9.3 | BL31: 0
A32: 2 | B32: 0098 | C32: Weststellingwerf | D32: 0.09 | E32: 3.54 | F32: 0.2204 | G32: 5.76 | H32: 0.2148 | I32: 5.97 | J32: 0.4352 | K32: 5.86 | L32: 328.79 | N32: 199 | O32: 3.11 | P32: 299 | Q32: 3.1 | S32: 191.06 | T32: 0 | U32: 191.06 | V32: 0 | W32: 382.12 | X32: 100 | Y32: 382.12 | Z32: 100 | AA32: 382.12 | AB32: 100 | AC32: 382.12 | AD32: 100 | AE32: 382.12 | AF32: 100 | AG32: 382.12 | AH32: 100 | AI32: 382.12 | AJ32: 100 | AK32: 382.12 | AL32: 100 | AM32: 382.12 | AN32: 100 | AP32: 0 | AQ32: 0 | AR32: 718.85 | AS32: 2.46 | AT32: 818.85 | AU32: 2.53 | AW32: 2.11 | AX32: 5.48 | AY32: 3.83 | AZ32: 0 | BA32: 0 | BB32: 0 | BC32: 0 | BE32: 83.85 | BF32: 7.68 | BG32: 75.8 | BH32: 7.7 | BI32: 51.1 | BJ32: 14.45 | BK32: 8.9 | BL32: 2.89
A33: 3 | B33: 1680 | C33: Aa en Hunze | D33: 0.0933 | E33: 2.41 | F33: 0.2271 | G33: 7.39 | H33: 0.1026 | I33: 4.75 | J33: 0.3297 | K33: 6.55 | L33: 369.84 | N33: 198.75 | O33: 6 | P33: 265 | Q33: 6 | S33: 165 | T33: 2.48 | U33: 165 | V33: 2.48 | AP33: 0 | AQ33: 0 | AR33: 733.59 | AS33: 3.37 | AT33: 799.84 | AU33: 3.59 | AW33: 1.25 | AX33: 1.25 | AY33: 0 | AZ33: 0 | BA33: 0 | BB33: 0 | BC33: 0 | BE33: 83.85 | BF33: 7.85 | BG33: 75.8 | BH33: 7.82 | BI33: 51.1 | BJ33: 14.45 | BK33: 9 | BL33: 4.05
A34: 3 | B34: 0106 | C34: Assen | D34: 0.1456 | E34: 10.02 | F34: 0.4645 | G34: 8.28 | H34: 0.3763 | I34: 8.5 | J34: 0.8408 | K34: 8.38 | L34: 492.75 | N34: 192.74 | O34: 1 | P34: 266.98 | Q34: 0.83 | S34: 179.37 | T34: 3.98 | U34: 179.37 | V34: 3.98 | W34: 179.37 | X34: 3.98 | Y34: 179.37 | Z34: 3.98 | AA34: 179.37 | AB34: 3.98 | AC34: 179.37 | AD34: 3.98 | AE34: 179.37 | AF34: 3.98 | AG34: 1795.37 | AH34: 8.12 | AI34: 2199.37 | AJ34: 8.21 | AK34: 5734.37 | AL34: 8.45 | AM34: 29574.37 | AN34: 8.7 | AP34: 0 | AQ34: 0 | AR34: 864.86 | AS34: 6.61 | AT34: 939.1 | AU34: 6.09 | AW34: 1.5 | AX34: 1.5 | AY34: 3.45 | AZ34: 0 | BA34: 0 | BB34: 2.5 | BC34: 4.17 | BE34: 83.87 | BF34: 7.71 | BG34: 75.8 | BH34: 7.7 | BI34: 51.11 | BJ34: 14.47 | BK34: 20.57 | BL34: 5.7
A35: 3 | B35: 1681 | C35: Borger-Odoorn | D35: 0.1592 | E35: 3.27 | F35: 0.1592 | G35: 2.37 | H35: 0.1302 | I35: 0.52 | J35: 0.2894 | K35: 1.53 | L35: 542.89 | N35: 197.63 | O35: 7.34 | P35: 238.07 | Q35: 6.02 | S35: 264.83 | T35: -0.45 | U35: 264.83 | V35: -0.45 | AP35: 0 | AQ35: 0 | AR35: 1005.35 | AS35: 3.02 | AT35: 1045.79 | AU35: 2.9 | AW35: 1.3 | AX35: 1.75 | AY35: 0 | AZ35: 0 | BA35: 0 | BB35: 0 | BC35: 0 | BE35: 83.85 | BF35: 7.71 | BG35: 75.5 | BH35: 7.32 | BI35: 51.1 | BJ35: 14.45 | BK35: 10 | BL35: 2.56
A36: 3 | B36: 0109 | C36: Coevorden | D36: 0.139 | E36: 3.56 | F36: 0.2292 | G36: 7.19 | H36: 0.191 | I36: 7.19 | J36: 0.4202 | K36: 7.19 | L36: 482.88 | N36: 269.22 | O36: 5.95 | P36: 324.29 | Q36: 5.95 | S36: 228.5 | T36: 3.03 | U36: 228.5 | V36: 3.03 | AP36: 0 | AQ36: 0 | AR36: 980.6 | AS36: 4.08 | AT36: 1035.67 | AU36: 4.18 | AW36: 1.35 | AX36: 1.35 | AY36: 0 | AZ36: 0 | BA36: 0 | BB36: 0 | BC36: 0 | BE36: 83.85 | BF36: 7.71 | BG36: 75.8 | BH36: 7.75 | BI36: 51.1 | BJ36: 14.45 | BK36: 9.85 | BL36: 3.68
A37: 3 | B37: 1690 | C37: De Wolden | D37: 0.0859 | E37: 2.38 | F37: 0.2034 | G37: 2.34 | H37: 0.1666 | I37: 3.63 | J37: 0.37 | K37: 2.91 | L37: 390.98 | N37: 171.07 | O37: 15.65 | P37: 241.46 | Q37: 15.22 | S37: 211.92 | T37: 0.63 | U37: 236.04 | V37: 0.67 | W37: 236.04 | X37: 0.67 | Y37: 236.04 | Z37: 0.67 | AA37: 354.06 | AB37: 0.67 | AC37: 472.08 | AD37: 0.67 | AE37: 588.08 | AF37: 0.53 | AG37: 2444.08 | AH37: 0.13 | AI37: 2908.08 | AJ37: 0.11 | AK37: 5843.08 | AL37: 0.48 | AM37: 8733.08 | AN37: 0.9 | AP37: 0 | AQ37: 0 | AR37: 773.97 | AS37: 4.53 | AT37: 868.48 | AU37: 5.15 | AW37: 1.21 | AX37: 1.21 | AY37: 0 | AZ37: 0 | BA37: 0 | BB37: 0 | BC37: 0 | BE37: 83.85 | BF37: 7.71 | BG37: 75.8 | BH37: 7.75 | BI37: 51.1 | BJ37: 14.45 | BK37: 11.25 | BL37: 3.21
A38: 3 | B38: 0114 | C38: Emmen | D38: 0.1369 | E38: 1 | F38: 0.3402 | G38: 3.1 | H38: 0.2762 | I38: 0.46 | J38: 0.6164 | K38: 1.9 | L38: 414.2 | N38: 252.23 | O38: 0 | P38: 284.45 | Q38: 0 | S38: 235.69 | T38: 9.32 | U38: 235.69 | V38: 9.32 | AP38: 0 | AQ38: 0 | AR38: 902.12 | AS38: 2.76 | AT38: 934.34 | AU38: 2.66 | AW38: 1.65 | AX38: 1.65 | AY38: 3.12 | AZ38: 0 | BA38: 0 | BB38: 2.26 | BC38: 0 | BE38: 83.85 | BF38: 7.71 | BG38: 75.8 | BH38: 7.75 | BI38: 51.1 | BJ38: 14.45 | BK38: 13.85 | BL38: 2.21
A39: 3 | B39: 0118 | C39: Hoogeveen | D39: 0.1446 | E39: 4.6 | F39: 0.3289 | G39: -3.67 | H39: 0.2506 | I39: -2.41 | J39: 0.5795 | K39: -3.13 | L39: 476.75 | N39: 204.12 | O39: 0 | P39: 286.8 | Q39: 0 | S39: 159.1 | T39: 3.08 | U39: 159.1 | V39: 3.08 | AP39: 0 | AQ39: 0 | AR39: 839.97 | AS39: 3.16 | AT39: 922.65 | AU39: 2.87 | AW39: 1.5 | AX39: 1.5 | AY39: 0 | AZ39: 0 | BA39: 0 | BB39: 1.9 | BC39: 2.7 | BE39: 83.85 | BF39: 7.71 | BG39: 75.5 | BH39: 7.32 | BI39: 51.1 | BJ39: 14.45 | BK39: 11.25 | BL39: 3.21
A40: 3 | B40: 0119 | C40: Meppel | D40: 0.114 | E40: 14.11 | F40: 0.446 | G40: 19.55 | H40: 0.327 | I40: 17.57 | J40: 0.773 | K40: 18.71 | L40: 420.77 | N40: 218 | O40: 2.83 | P40: 218 | Q40: 2.83 | S40: 183 | T40: 3.39 | U40: 183 | V40: 3.39 | W40: 183 | X40: 3.39 | Y40: 183 | Z40: 3.39 | AA40: 183 | AB40: 3.39 | AC40: 183 | AD40: 3.39 | AE40: 183 | AF40: 3.39 | AG40: 183 | AH40: 3.39 | AI40: 183 | AJ40: 3.39 | AK40: 183 | AL40: 3.39 | AM40: 183 | AN40: 3.39 | AP40: 0 | AQ40: 0 | AR40: 821.77 | AS40: 8.45 | AT40: 821.77 | AU40: 8.45 | AW40: 0 | AX40: 0 | AY40: 0 | AZ40: 0 | BA40: 0 | BB40: 2.05 | BC40: 5.13 | BE40: 83.85 | BF40: 7.71 | BG40: 75.8 | BH40: 7.75 | BI40: 51.1 | BJ40: 14.45 | BK40: 12.15 | BL40: 3.4
A41: 3 | B41: 1731 | C41: Midden-Drenthe | D41: 0.0976 | E41: 8.57 | F41: 0.256 | G41: 8.08 | H41: 0.2049 | I41: 8.05 | J41: 0.4609 | K41: 8.06 | L41: 366.69 | N41: 193.55 | O41: 5.45 | P41: 238.55 | Q41: 4.38 | S41: 238.5 | T41: 0 | U41: 238.5 | V41: 0 | W41: 238.5 | X41: 0 | Y41: 238.5 | Z41: 0 | AA41: 238.5 | AB41: 0 | AC41: 238.5 | AD41: 0 | AE41: 238.5 | AF41: 0 | AG41: 830.5 | AH41: 0 | AI41: 978.5 | AJ41: 0 | AK41: 2273.5 | AL41: 0 | AM41: 9553.5 | AN41: 0 | AP41: 0 | AQ41: 0 | AR41: 798.74 | AS41: 5.12 | AT41: 843.74 | AU41: 4.84 | AW41: 1.55 | AX41: 1.55 | AY41: 19.23 | AZ41: 0 | BA41: 0 | BB41: 0 | BC41: 0 | BE41: 83.85 | BF41: 7.71 | BG41: 75.8 | BH41: 7.75 | BI41: 51.1 | BJ41: 14.45 | BK41: 9.05 | BL41: 1.69
A42: 3 | B42: 1699 | C42: Noordenveld | D42: 0.09519 | E42: 4.4 | F42: 0.09519 | G42: 6.7 | H42: 0.15184 | I42: 14.21 | J42: 0.24703 | K42: 11.19 | L42: 396.75 | N42: 240.2 | O42: 11.1 | P42: 281.35 | Q42: 9.33 | S42: 297.56 | T42: 7.5 | U42: 297.56 | V42: 7.5 | AP42: 0 | AQ42: 0 | AR42: 934.51 | AS42: 7.04 | AT42: 975.66 | AU42: 6.72 | AW42: 1.1 | AX42: 1.75 | AY42: 0 | AZ42: 0 | BA42: 0 | BB42: 0 | BC42: 0 | BE42: 83.85 | BF42: 7.71 | BG42: 75.8 | BH42: 7.75 | BI42: 51.1 | BJ42: 14.45 | BK42: 7.55 | BL42: 2.72
A43: 3 | B43: 1701 | C43: Westerveld | D43: 0.0945 | E43: -0.45 | F43: 0.1947 | G43: 2.2 | H43: 0.1293 | I43: 2.58 | J43: 0.324 | K43: 2.35 | L43: 421.3 | N43: 207.94 | O43: 1.93 | P43: 301.88 | Q43: -2.62 | S43: 219.55 | T43: -1.88 | U43: 219.55 | V43: -1.88 | AP43: 0 | AQ43: 0 | AR43: 848.79 | AS43: -0.25 | AT43: 942.73 | AU43: -1.49 | AW43: 1.35 | AX43: 1.9 | AY43: 5.56 | AZ43: 0 | BA43: 0 | BB43: 0 | BC43: 0 | BE43: 83.85 | BF43: 7.85 | BG43: 75.8 | BH43: 7.82 | BI43: 51.1 | BJ43: 14.45 | BK43: 8.4 | BL43: 3.07
A44: 3 | B44: 1730 | C44: Tynaarlo | D44: 0.0832 | E44: 3.27 | F44: 0.1745 | G44: 2.18 | H44: 0.1095 | I44: 2.21 | J44: 0.284 | K44: 2.19 | L44: 381.24 | N44: 188.38 | O44: 25.27 | P44: 221.76 | Q44: 20.68 | S44: 188.9 | T44: 7.41 | U44: 188.9 | V44: 7.41 | W44: 188.9 | X44: 7.41 | Y44: 188.9 | Z44: 7.41 | AA44: 188.9 | AB44: 7.41 | AC44: 366.09 | AD44: 7.41 | AE44: 366.09 | AF44: 7.41 | AG44: 1660.77 | AH44: 7.41 | AI44: 2092.33 | AJ44: 7.41 | AK44: 5868.48 | AL44: 7.41 | AM44: 26502.42 | AN44: 7.41 | AP44: 0 | AQ44: 0 | AR44: 758.52 | AS44: 9.07 | AT44: 791.9 | AU44: 8.66 | AW44: 1.15 | AX44: 1.5 | AY44: 0 | AZ44: 0 | BA44: 0 | BB44: 0 | BC44: 0 | BE44: 83.85 | BF44: 7.71 | BG44: 75.8 | BH44: 7.75 | BI44: 51.1 | BJ44: 14.45 | BK44: 17 | BL44: -18.27
A45: 4 | B45: 0141 | C45: Almelo | D45: 0.1183 | E45: 4.27 | F45: 0.3966 | G45: -3.09 | H45: 0.3071 | I45: -3.86 | J45: 0.7037 | K45: -3.42 | L45: 421.53 | N45: 263.52 | O45: 2 | P45: 287.28 | Q45: 2 | S45: 310.92 | T45: 3.66 | U45: 332.52 | V45: 3.65 | W45: 455.16 | X45: 3.67 | Y45: 455.16 | Z45: 3.67 | AA45: 506.16 | AB45: 3.65 | AC45: 557.16 | AD45: 3.64 | AE45: 608.16 | AF45: 3.63 | AG45: 1373.16 | AH45: 3.58 | AI45: 1628.16 | AJ45: 3.57 | AK45: 3413.16 | AL45: 3.55 | AM45: 15653.16 | AN45: 3.54 | AP45: 0 | AQ45: 0 | AR45: 995.97 | AS45: 3.47 | AT45: 1041.33 | AU45: 3.44 | AW45: 1 | AX45: 1.65 | AY45: 6.45 | AZ45: 0 | BA45: 0 | BB45: 2.28 | BC45: 0 | BE45: 83.87 | BF45: 7.71 | BG45: 75.8 | BH45: 7.7 | BI45: 48.15 | BJ45: 7.84 | BK45: 23.8 | BL45: 14.98
A46: 4 | B46: 0147 | C46: Borne | D46: 0.1374 | E46: 11.25 | F46: 0.4507 | G46: 8.91 | H46: 0.3529 | I46: 7.01 | J46: 0.8036 | K46: 8.07 | L46: 611.92 | N46: 191 | O46: 1.84 | P46: 219.99 | Q46: 3.24 | S46: 217.68 | T46: 16.36 | U46: 217.68 | V46: 16.36 | W46: 217.68 | X46: 16.36 | Y46: 217.68 | Z46: 16.36 | AA46: 217.68 | AB46: 16.36 | AC46: 217.68 | AD46: 16.36 | AE46: 217.68 | AF46: 16.36 | AG46: 1088.4 | AH46: 17.14 | AI46: 1088.4 | AJ46: 17.14 | AK46: 2612.16 | AL46: 17.25 | AM46: 13060.8 | AN46: 17.32 | AP46: 0 | AQ46: 0 | AR46: 1020.6 | AS46: 10.38 | AT46: 1049.59 | AU46: 10.46 | AW46: 0 | AX46: 0 | AY46: 0 | AZ46: 0 | BA46: 0 | BB46: 0 | BC46: 0 | BE46: 83.87 | BF46: 7.71 | BG46: 75.8 | BH46: 7.7 | BI46: 51.1 | BJ46: 14.45 | BK46: 10.4 | BL46: 13.04
A47: 4 | B47: 0148 | C47: Dalfsen | D47: 0.0985 | E47: 10.83 | F47: 0.2312 | G47: 2.81 | H47: 0.2211 | I47: 1.39 | J47: 0.4523 | K47: 2.11 | L47: 472.25 | N47: 229.08 | O47: 2.44 | P47: 258.16 | Q47: 2.34 | S47: 143.45 | T47: 3.42 | U47: 143.45 | V47: 3.42 | W47: 143.45 | X47: 3.42 | Y47: 143.45 | Z47: 3.42 | AA47: 143.45 | AB47: 3.42 | AC47: 143.45 | AD47: 3.42 | AE47: 143.45 | AF47: 3.42 | AG47: 733.35 | AH47: 3.15 | AI47: 733.35 | AJ47: 3.15 | AK47: 2163.35 | AL47: 2.97 | AM47: 7923.35 | AN47: 3.29 | AP47: 0 | AQ47: 0 | AR47: 844.78 | AS47: 7.15 | AT47: 873.86 | AU47: 6.95 | AW47: 0.95 | AX47: 1.45 | AY47: 3.57 | AZ47: 0 | BA47: 0 | BB47: 0 | BC47: 0 | BE47: 83.85 | BF47: 7.71 | BG47: 75.8 | BH47: 7.75 | BI47: 51.1 | BJ47: 14.45 | BK47: 7.95 | BL47: 2.58
A48: 4 | B48: 1774 | C48: Dinkelland | D48: 0.0993 | E48: 1.37 | F48: 0.2804 | G48: 6.43 | H48: 0.2236 | I48: 7.32 | J48: 0.504 | K48: 6.82 | L48: 463.09 | N48: 185.63 | O48: 37.88 | P48: 213.26 | Q48: 31.43 | S48: 280.6 | T48: 5.65 | U48: 280.6 | V48: 5.65 | W48: 280.6 | X48: 5.65 | Y48: 280.6 | Z48: 5.65 | AA48: 280.6 | AB48: 5.65 | AC48: 301.9 | AD48: 5.23 | AE48: 323.2 | AF48: 4.87 | AG48: 664 | AH48: -81.93 | AI48: 749.2 | AJ48: -82.06 | AK48: 1494.7 | AL48: -64.22 | AM48: 6606.7 | AN48: 58.17 | AP48: 26 | AQ48: 26 | AR48: 903.32 | AS48: 5.4 | AT48: 930.95 | AU48: 5.23 | AW48: 0.6 | AX48: 1.6 | AY48: 0 | AZ48: 0 | BA48: 0 | BB48: 0 | BC48: 0 | BE48: 83.5 | BF48: 7.74 | BG48: 75 | BH48: 11.11 | BI48: 48.15 | BJ48: 13.29 | BK48: 6.5 | BL48: 8.33
A49: 4 | B49: 0150 | C49: Deventer | D49: 0.1083 | E49: 4.22 | F49: 0.3917 | G49: 3.72 | H49: 0.2738 | I49: -2.34 | J49: 0.6655 | K49: 1.14 | L49: 460.32 | N49: 246.01 | O49: 2.5 | P49: 287.9 | Q49: 2.13 | S49: 191.64 | T49: 5.97 | U49: 191.64 | V49: 5.97 | W49: 191.64 | X49: 5.97 | Y49: 191.64 | Z49: 5.97 | AA49: 191.64 | AB49: 5.97 | AC49: 191.64 | AD49: 5.97 | AE49: 191.64 | AF49: 5.97 | AG49: 708 | AH49: 5.83 | AI49: 708 | AJ49: 5.83 | AK49: 1668 | AL49: 5.9 | AM49: 3705 | AN49: 5.92 | AP49: 0 | AQ49: 0 | AR49: 897.97 | AS49: 4.11 | AT49: 939.86 | AU49: 3.92 | AW49: 0.54 | AX49: 1.83 | AY49: 7.65 | AZ49: 0 | BA49: 0 | BB49: 3.33 | BC49: 11 | BE49: 83.87 | BF49: 7.71 | BG49: 75.8 | BH49: 7.82 | BI49: 51.11 | BJ49: 22.86 | BK49: 15.95 | BL49: 7.77
A50: 4 | B50: 0153 | C50: Enschede | D50: 0.1082 | E50: 4.2 | F50: 0.4793 | G50: 1.8 | H50: 0.3836 | I50: 1.21 | J50: 0.8629 | K50: 1.54 | L50: 414.17 | N50: 279.79 | O50: 10.58 | P50: 306.5 | Q50: 9.57 | S50: 292.44 | T50: 3.88 | U50: 292.44 | V50: 3.88 | W50: 292.44 | X50: 3.88 | Y50: 292.44 | Z50: 3.88 | AA50: 292.44 | AB50: 3.88 | AC50: 292.44 | AD50: 3.88 | AE50: 292.44 | AF50: 3.88 | AG50: 772.44 | AH50: 3.61 | AI50: 892.44 | AJ50: 3.59 | AK50: 1942.44 | AL50: 3.51 | AM50: 8065.23 | AN50: 9.86 | AP50: 0 | AQ50: 0 | AR50: 986.4 | AS50: 5.84 | AT50: 1013.11 | AU50: 5.67 | AW50: 1.1 | AX50: 2.9 | AY50: 3.57 | AZ50: 93.6 | BA50: 3.86 | BB50: 3.75 | BC50: 13.64 | BE50: 83.87 | BF50: 7.71 | BG50: 75.8 | BH50: 7.7 | BI50: 51.1 | BJ50: 14.45 | BK50: 19 | BL50: 4.97
A51: 4 | B51: 0158 | C51: Haaksbergen | D51: 0.1141 | E51: 6.89 | F51: 0.3396 | G51: 5.93 | H51: 0.2609 | I51: 5.86 | J51: 0.6005 | K51: 5.9 | L51: 486.77 | N51: 229.32 | O51: 2.03 | P51: 229.32 | Q51: 2.03 | S51: 379.32 | T51: 8.92 | U51: 379.32 | V51: 8.92 | W51: 379.32 | X51: 8.92 | Y51: 379.32 | Z51: 8.92 | AA51: 379.32 | AB51: 8.92 | AC51: 379.32 | AD51: 8.92 | AE51: 379.32 | AF51: 8.92 | AG51: 1239.48 | AH51: 8.93 | AI51: 1239.48 | AJ51: 8.93 | AK51: 2744.76 | AL51: 8.93 | AM51: 13066.68 | AN51: 8.94 | AP51: 0 | AQ51: 0 | AR51: 1095.41 | AS51: 6.52 | AT51: 1095.41 | AU51: 6.52 | AW51: 1.2 | AX51: 1.7 | AY51: 3.03 | AZ51: 0 | BA51: 0 | BB51: 0 | BC51: 0 | BE51: 83.87 | BF51: 7.71 | BG51: 75.8 | BH51: 7.7 | BI51: 51.1 | BJ51: 14.45 | BK51: 8.1 | BL51: 3.85
A52: 4 | B52: 0160 | C52: Hardenberg | D52: 0.0856 | E52: 2.29 | F52: 0.2894 | G52: 4.79 | H52: 0.2494 | I52: 4.91 | J52: 0.5388 | K52: 4.84 | L52: 321.92 | N52: 211.48 | O52: 1.44 | P52: 252.95 | Q52: 1.2 | S52: 289 | T52: 4.33 | U52: 289 | V52: 4.33 | W52: 289 | X52: 4.33 | Y52: 289 | Z52: 4.33 | AA52: 289 | AB52: 4.33 | AC52: 289 | AD52: 4.33 | AE52: 289 | AF52: 4.33 | AG52: 1797 | AH52: 4.17 | AI52: 1797 | AJ52: 4.17 | AK52: 2424 | AL52: 4.12 | AM52: 7440 | AN52: 4.03 | AP52: 0 | AQ52: 0 | AR52: 822.4 | AS52: 2.77 | AT52: 863.87 | AU52: 2.64 | AW52: 1.05 | AX52: 1.05 | AY52: 0 | AZ52: 0 | BA52: 0 | BB52: 1.15 | BC52: 0 | BE52: 83.85 | BF52: 7.71 | BG52: 75.8 | BH52: 7.75 | BI52: 51.1 | BJ52: 14.45 | BK52: 13.7 | BL52: 4.58
A53: 4 | B53: 0163 | C53: Hellendoorn | D53: 0.1028 | E53: 4 | F53: 0.306 | G53: 4 | H53: 0.2496 | I53: 4.01 | J53: 0.5556 | K53: 4.01 | L53: 458.14 | N53: 267.6 | O53: 7.47 | P53: 267.6 | Q53: 7.47 | S53: 262.8 | T53: 7.51 | U53: 262.8 | V53: 7.51 | W53: 262.8 | X53: 7.51 | Y53: 262.8 | Z53: 7.51 | AA53: 262.8 | AB53: 7.51 | AC53: 262.8 | AD53: 7.51 | AE53: 262.8 | AF53: 7.51 | AG53: 2097.24 | AH53: 7.5 | AI53: 2097.24 | AJ53: 7.5 | AK53: 5308.56 | AL53: 7.5 | AM53: 27329.04 | AN53: 7.51 | AP53: 0 | AQ53: 0 | AR53: 988.54 | AS53: 5.85 | AT53: 988.54 | AU53: 5.85 | AW53: 0.82 | AX53: 1.96 | AY53: 2.62 | AZ53: 0 | BA53: 0 | BB53: 0 | BC53: 0 | BE53: 83.85 | BF53: 7.71 | BG53: 75.8 | BH53: 7.75 | BI53: 51.1 | BJ53: 14.45 | BK53: 13.8 | BL53: 7.39
A54: 4 | B54: 0164 | C54: Hengelo | D54: 0.1147 | E54: 9.91 | F54: 0.4905 | G54: 8.44 | H54: 0.372 | I54: 6.57 | J54: 0.8625 | K54: 7.63 | L54: 436.04 | N54: 231.13 | O54: 1 | P54: 267.75 | Q54: 0.86 | S54: 267.96 | T54: 3.91 | U54: 267.96 | V54: 3.91 | W54: 267.96 | X54: 3.91 | Y54: 267.96 | Z54: 3.91 | AA54: 267.96 | AB54: 3.91 | AC54: 267.96 | AD54: 3.91 | AE54: 267.96 | AF54: 3.91 | AG54: 2169.72 | AH54: 3.91 | AI54: 2169.72 | AJ54: 3.91 | AK54: 5497.8 | AL54: 3.91 | AM54: 28318.92 | AN54: 3.91 | AP54: 0 | AQ54: 0 | AR54: 935.13 | AS54: 5.85 | AT54: 971.75 | AU54: 5.62 | AW54: 0.85 | AX54: 1.2 | AY54: 4.35 | AZ54: 88.32 | BA54: 0 | BB54: 2.1 | BC54: 10.53 | BE54: 83.87 | BF54: 7.71 | BG54: 75.8 | BH54: 7.7 | BI54: 51.11 | BJ54: 14.47 | BK54: 18.6 | BL54: 5.08
A55: 4 | B55: 1735 | C55: Hof van Twente | D55: 0.113 | E55: 5.97 | F55: 0.2674 | G55: 6.08 | H55: 0.2292 | I55: 4.84 | J55: 0.4966 | K55: 5.5 | L55: 464.2 | N55: 227.54 | O55: 6.02 | P55: 259.49 | Q55: 4.43 | S55: 331.8 | T55: 8.86 | U55: 331.8 | V55: 8.86 | W55: 331.8 | X55: 8.86 | Y55: 331.8 | Z55: 8.86 | AA55: 331.8 | AB55: 8.86 | AC55: 331.8 | AD55: 8.86 | AE55: 331.8 | AF55: 8.86 | AG55: 827.8 | AH55: 7.67 | AI55: 951.8 | AJ55: 7.57 | AK55: 2036.8 | AL55: 7.21 | AM55: 8276.8 | AN55: 6.66 | AP55: 0 | AQ55: 0 | AR55: 1023.54 | AS55: 6.9 | AT55: 1055.49 | AU55: 6.47 | AW55: 1.1 | AX55: 1.55 | AY55: 0 | AZ55: 0 | BA55: 0 | BB55: 0 | BC55: 0 | BE55: 83.85 | BF55: 7.71 | BG55: 75.8 | BH55: 7.75 | BI55: 51.1 | BJ55: 14.45 | BK55: 8.5 | BL55: 6.92
A56: 4 | B56: 0166 | C56: Kampen | D56: 0.1044 | E56: 8.23 | F56: 0.2781 | G56: 0.86 | H56: 0.1986 | I56: 3.63 | J56: 0.4767 | K56: 1.99 | L56: 415.25 | N56: 212.66 | O56: 0 | P56: 242.56 | Q56: 0 | S56: 127.2 | T56: 0 | U56: 127.2 | V56: 0 | AP56: 0 | AQ56: 0 | AR56: 755.11 | AS56: 4.36 | AT56: 785.01 | AU56: 4.19 | AW56: 1.5 | AX56: 1.5 | AY56: 0 | AZ56: 95.52 | BA56: 9.94 | BB56: 2.3 | BC56: 9.52 | BE56: 83.35 | BF56: 7.06 | BG56: 75.8 | BH56: 7.75 | BI56: 51.1 | BJ56: 14.45 | BK56: 9.6 | BL56: 9.71
A57: 4 | B57: 0168 | C57: Losser | D57: 0.1155 | E57: 7.45 | F57: 0.2905 | G57: 9.27 | H57: 0.2097 | I57: 7.7 | J57: 0.5002 | K57: 8.61 | L57: 485.73 | N57: 249.09 | O57: -0.49 | P57: 280.14 | Q57: 0.1 | S57: 348.6 | T57: 10.88 | U57: 348.6 | V57: 10.88 | W57: 348.6 | X57: 10.88 | Y57: 348.6 | Z57: 10.88 | AA57: 348.6 | AB57: 10.88 | AC57: 348.6 | AD57: 10.88 | AE57: 348.6 | AF57: 10.88 | AG57: 1743 | AH57: 10.88 | AI57: 1743 | AJ57: 10.88 | AK57: 4183.2 | AL57: 10.88 | AM57: 19391.74 | AN57: 2.8 | AP57: 0 | AQ57: 0 | AR57: 1083.42 | AS57: 6.55 | AT57: 1114.47 | AU57: 6.51 | AW57: 1.4 | AX57: 1.95 | AY57: 21.88 | AZ57: 0 | BA57: 0 | BB57: 0 | BC57: 0 | BE57: 83.87 | BF57: 7.71 | BG57: 75.8 | BH57: 7.7 | BI57: 51.1 | BJ57: 14.45 | BK57: 18.8 | BL57: 3.87
A58: 4 | B58: 0173 | C58: Oldenzaal | D58: 0.102 | E58: 9.55 | F58: 0.3633 | G58: 5.93 | H58: 0.2827 | I58: 5.38 | J58: 0.646 | K58: 5.69 | L58: 432.07 | N58: 246.98 | O58: -2.73 | P58: 283.36 | Q58: -1.57 | S58: 229.2 | T58: 12.75 | U58: 229.2 | V58: 12.75 | W58: 229.2 | X58: 12.75 | Y58: 229.2 | Z58: 12.75 | AA58: 229.2 | AB58: 12.75 | AC58: 229.2 | AD58: 12.75 | AE58: 229.2 | AF58: 12.75 | AG58: 229.2 | AH58: 12.75 | AI58: 229.2 | AJ58: 12.75 | AK58: 229.2 | AL58: 12.75 | AM58: 229.2 | AN58: 12.75 | AP58: 0 | AQ58: 0 | AR58: 908.25 | AS58: 6.65 | AT58: 944.63 | AU58: 6.67 | AW58: 0.85 | AX58: 1.6 | AY58: 0 | AZ58: 0 | BA58: 0 | BB58: 1.3 | BC58: 0 | BE58: 83.87 | BF58: 7.71 | BG58: 75.8 | BH58: 7.7 | BI58: 51.11 | BJ58: 14.47 | BK58: 14.7 | BL58: 8.89
A59: 4 | B59: 1773 | C59: Olst-Wijhe | D59: 0.125 | E59: 3.47 | F59: 0.2986 | G59: 2.03 | H59: 0.2396 | I59: 4.28 | J59: 0.5382 | K59: 3.02 | L59: 569.08 | N59: 240.71 | O59: 4.75 | P59: 263.63 | Q59: 4.32 | S59: 237.96 | T59: 3.66 | U59: 237.96 | V59: 3.66 | W59: 237.96 | X59: 3.66 | Y59: 237.96 | Z59: 3.66 | AA59: 237.96 | AB59: 3.66 | AC59: 237.96 | AD59: 3.66 | AE59: 237.96 | AF59: 3.66 | AG59: 475.8 | AH59: 3.66 | AI59: 475.8 | AJ59: 3.66 | AK59: 692.52 | AL59: 3.66 | AM59: 1089.24 | AN59: 3.68 | AP59: 0 | AQ59: 0 | AR59: 1047.75 | AS59: 3.81 | AT59: 1070.67 | AU59: 3.72 | AW59: 1.5 | AX59: 1.5 | AY59: 50 | AZ59: 0 | BA59: 0 | BB59: 0 | BC59: 0 | BE59: 83.87 | BF59: 7.71 | BG59: 75.8 | BH59: 7.7 | BI59: 51.1 | BJ59: 14.45 | BK59: 12.25 | BL59: 3.81
A60: 4 | B60: 0175 | C60: Ommen | D60: 0.078 | E60: 5.52 | F60: 0.209 | G60: 2.93 | H60: 0.1501 | I60: 2.97 | J60: 0.3591 | K60: 2.95 | L60: 364 | N60: 203.54 | O60: 5.17 | P60: 235.08 | Q60: 4.44 | S60: 232 | T60: 2.65 | U60: 232 | V60: 2.65 | W60: 232 | X60: 2.65 | Y60: 232 | Z60: 2.65 | AA60: 232 | AB60: 2.65 | AC60: 232 | AD60: 2.65 | AE60: 232 | AF60: 2.65 | AG60: 877 | AH60: 2.81 | AI60: 877 | AJ60: 2.81 | AK60: 1691 | AL60: 2.73 | AM60: 6147 | AN60: 2.48 | AP60: 0 | AQ60: 0 | AR60: 799.54 | AS60: 4.58 | AT60: 831.08 | AU60: 4.4 | AW60: 1.1 | AX60: 1.1 | AY60: 0 | AZ60: 0 | BA60: 0 | BB60: alleen parkeervergunning | BC60: alleen parkeervergunning | BE60: 83.87 | BF60: 7.73 | BG60: 75.8 | BH60: 7.75 | BI60: 51.11 | BJ60: 14.47 | BK60: 13.5 | BL60: 3.05
A61: 4 | B61: 0177 | C61: Raalte | D61: 0.0878 | E61: -0.29 | F61: 0.2324 | G61: -2.85 | H61: 0.1899 | I61: 0.07 | J61: 0.4223 | K61: -1.56 | L61: 393.08 | N61: 180.18 | O61: 9 | P61: 225.59 | Q61: 7.06 | S61: 255.24 | T61: 5.87 | U61: 255.24 | V61: 5.87 | W61: 255.24 | X61: 5.87 | Y61: 255.24 | Z61: 5.87 | AA61: 255.24 | AB61: 5.87 | AC61: 255.24 | AD61: 5.87 | AE61: 255.24 | AF61: 5.87 | AG61: 755.88 | AH61: 5.9 | AI61: 755.88 | AJ61: 5.9 | AK61: 1260.36 | AL61: 5.9 | AM61: 2771.28 | AN61: 5.9 | AP61: 0 | AQ61: 0 | AR61: 828.5 | AS61: 3.48 | AT61: 873.91 | AU61: 3.3 | AW61: 1.5 | AX61: 1.5 | AY61: 50 | AZ61: 0 | BA61: 0 | BB61: 0 | BC61: 0 | BE61: 83.87 | BF61: 7.71 | BG61: 75.8 | BH61: 7.75 | BI61: 51.1 | BJ61: 14.45 | BK61: 14 | BL61: 8.11
A62: 4 | B62: 1742 | C62: Rijssen-Holten | D62: 0.0796 | E62: 8.7 | F62: 0.2558 | G62: 8.82 | H62: 0.2047 | I62: 9.03 | J62: 0.4605 | K62: 8.91 | L62: 346.1 | N62: 120 | O62: -27.71 | P62: 150 | Q62: -30.88 | S62: 179 | T62: 4.07 | U62: 179 | V62: 4.07 | W62: 179 | X62: 4.07 | Y62: 179 | Z62: 4.07 | AA62: 179 | AB62: 4.07 | AC62: 179 | AD62: 4.07 | AE62: 179 | AF62: 4.07 | AG62: 1688.28 | AH62: 4.07 | AI62: 2065.6 | AJ62: 4.07 | AK62: 5199.65 | AL62: 4.07 | AM62: 15710.85 | AN62: 4.07 | AP62: 0 | AQ62: 0 | AR62: 645.1 | AS62: -1.72 | AT62: 675.1 | AU62: -4.57 | AW62: 0.95 | AX62: 0.95 | AY62: 11.76 | AZ62: 25.5 | BA62: -35.44 | BB62: 0 | BC62: 0 | BE62: 83.85 | BF62: 7.71 | BG62: 75.8 | BH62: 7.75 | BI62: 51.1 | BJ62: 14.45 | BK62: 7.5 | BL62: 0
A63: 4 | B63: 0180 | C63: Staphorst | D63: 0.106 | E63: 1.85 | F63: 0.2359 | G63: 0.51 | H63: 0.1978 | I63: 3.74 | J63: 0.4337 | K63: 1.96 | L63: 415.98 | N63: 230.88 | O63: 4.53 | P63: 254.76 | Q63: 4.09 | S63: 208 | T63: 0 | U63: 208 | V63: 0 | W63: 208 | X63: 0 | Y63: 208 | Z63: 0 | AA63: 208 | AB63: 0 | AC63: 208 | AD63: 0 | AE63: 208 | AF63: 0 | AG63: 517 | AH63: 0 | AI63: 585 | AJ63: 0 | AK63: 1180 | AL63: 0 | AM63: 5260 | AN63: 0 | AP63: 0 | AQ63: 0 | AR63: 854.86 | AS63: 2.1 | AT63: 878.74 | AU63: 2.04 | AW63: 1 | AX63: 1 | AY63: 0 | AZ63: 48 | BA63: 2.13 | BB63: 0 | BC63: 0 | BE63: 83.85 | BF63: 7.85 | BG63: 75.8 | BH63: 7.82 | BI63: 51.1 | BJ63: 14.45 | BK63: 7.5 | BL63: 0
A64: 4 | B64: 1708 | C64: Steenwijkerland | D64: 0.0773 | E64: 2.12 | F64: 0.2186 | G64: 3.52 | H64: 0.1768 | I64: 3.51 | J64: 0.3954 | K64: 3.51 | L64: 293.71 | N64: 224.29 | O64: 1.62 | P64: 256.79 | Q64: 1.41 | S64: 208.22 | T64: 2.37 | U64: 208.22 | V64: 2.37 | AP64: 0 | AQ64: 0 | AR64: 726.22 | AS64: 2.04 | AT64: 758.72 | AU64: 1.95 | AW64: 1.1 | AX64: 1.1 | AY64: 0 | AZ64: 0 | BA64: 0 | BB64: 0 | BC64: 0 | BE64: 83.87 | BF64: 7.71 | BG64: 75.8 | BH64: 7.7 | BI64: 51.11 | BJ64: 14.47 | BK64: 6.7 | BL64: 2.29
A65: 4 | B65: 0183 | C65: Tubbergen | D65: 0.0918 | E65: 7.95 | F65: 0.2252 | G65: 10.31 | H65: 0.1734 | I65: 10.07 | J65: 0.3986 | K65: 10.21 | L65: 442.97 | N65: 192.08 | O65: 95.84 | P65: 217.16 | Q65: 76.33 | S65: 293.8 | T65: 11.37 | U65: 293.8 | V65: 11.37 | W65: 293.8 | X65: 11.37 | Y65: 293.8 | Z65: 11.37 | AA65: 293.8 | AB65: 11.37 | AC65: 368.3 | AD65: 8.87 | AE65: 442.8 | AF65: 7.27 | AG65: 1560.3 | AH65: -2.77 | AI65: 1858.3 | AJ65: -2.34 | AK65: 4465.3 | AL65: -1 | AM65: 14970.3 | AN65: 0.2 | AP65: 0 | AQ65: 0 | AR65: 928.85 | AS65: 20.28 | AT65: 953.93 | AU65: 19.64 | AW65: 0.7 | AX65: 1.05 | AY65: 0 | AZ65: 0 | BA65: 0 | BB65: 0 | BC65: 0 | BE65: 83.5 | BF65: 7.74 | BG65: 75 | BH65: 11.11 | BI65: 48.15 | BJ65: 13.29 | BK65: 6.5 | BL65: 8.33
A66: 4 | B66: 1700 | C66: Twenterand | D66: 0.1269 | E66: 1.99 | F66: 0.2445 | G66: -0.88 | H66: 0.2406 | I66: -4.62 | J66: 0.4851 | K66: -2.77 | L66: 501.51 | N66: 156.12 | O66: -6.6 | P66: 196.92 | Q66: -5.31 | S66: 278.76 | T66: 2.52 | U66: 278.76 | V66: 2.52 | W66: 278.76 | X66: 2.52 | Y66: 278.76 | Z66: 2.52 | AA66: 278.76 | AB66: 2.52 | AC66: 278.76 | AD66: 2.52 | AE66: 278.76 | AF66: 2.52 | AG66: 1471.41 | AH66: 2.5 | AI66: 1760.69 | AJ66: 2.5 | AK66: 3945.77 | AL66: 2.5 | AM66: 11204.22 | AN66: 0.28 | AP66: 0 | AQ66: 0 | AR66: 936.39 | AS66: 0.6 | AT66: 977.19 | AU66: 0.58 | AW66: 1.15 | AX66: 1.15 | AY66: 4.55 | AZ66: 0 | BA66: 0 | BB66: 0 | BC66: 0 | BE66: 83.87 | BF66: 7.71 | BG66: 75.8 | BH66: 7.7 | BI66: 51.1 | BJ66: 14.45 | BK66: 8 | BL66: 6.67
A67: 4 | B67: 0189 | C67: Wierden | D67: 0.0852 | E67: 2.92 | F67: 0.2186 | G67: 3.09 | H67: 0.1749 | I67: 3.11 | J67: 0.3935 | K67: 3.1 | L67: 401.1 | N67: 216.94 | O67: 12.44 | P67: 244.87 | Q67: 10.87 | S67: 322.2 | T67: 5.71 | U67: 322.2 | V67: 5.71 | W67: 322.2 | X67: 5.71 | Y67: 322.2 | Z67: 5.71 | AA67: 322.2 | AB67: 5.71 | AC67: 322.2 | AD67: 5.71 | AE67: 322.2 | AF67: 5.71 | AG67: 322.2 | AH67: 5.71 | AI67: 322.2 | AJ67: 5.71 | AK67: 322.2 | AL67: 5.71 | AM67: 322.2 | AN67: 5.71 | AP67: 0 | AQ67: 0 | AR67: 940.24 | AS67: 5.95 | AT67: 968.17 | AU67: 5.77 | AW67: 1.25 | AX67: 1.25 | AY67: 4.17 | AZ67: 0 | BA67: 0 | BB67: 0 | BC67: 0 | BE67: 83.85 | BF67: 7.71 | BG67: 75.8 | BH67: 7.75 | BI67: 51.1 | BJ67: 14.45 | BK67: 9.3 | BL67: 5.08
A68: 4 | B68: 1896 | C68: Zwartewaterland | D68: 0.0908 | E68: 7.75 | F68: 0.2602 | G68: 8.58 | H68: 0.1938 | I68: 8.59 | J68: 0.454 | K68: 8.59 | L68: 324.74 | N68: 221.64 | O68: 6.74 | P68: 245.29 | Q68: 6.05 | S68: 258 | T68: 10.26 | U68: 314 | V68: 10.18 | W68: 314 | X68: 10.18 | Y68: 606 | Z68: 10.18 | AA68: 909 | AB68: 10.18 | AC68: 1212 | AD68: 10.18 | AE68: 1515 | AF68: 10.18 | AG68: 6363 | AH68: 10.18 | AI68: 7575 | AJ68: 10.18 | AK68: 18180 | AL68: 10.18 | AM68: 90900 | AN68: 10.18 | AP68: 0 | AQ68: 0 | AR68: 804.38 | AS68: 8.26 | AT68: 884.03 | AU68: 8.12 | AW68: 1.1 | AX68: 1.1 | AY68: 4.76 | AZ68: 72 | BA68: 7.46 | BB68: 0 | BC68: 0 | BE68: 83.85 | BF68: 7.71 | BG68: 75.8 | BH68: 7.75 | BI68: 51.1 | BJ68: 14.45 | BK68: 7.5 | BL68: 0
A69: 4 | B69: 0193 | C69: Zwolle | D69: 0.0989 | E69: 6.37 | F69: 0.4909 | G69: 9.03 | H69: 0.3967 | I69: 9.02 | J69: 0.8876 | K69: 9.03 | L69: 432.13 | N69: 228.62 | O69: -9.84 | P69: 300.39 | Q69: 3.52 | S69: 121.12 | T69: 6.1 | U69: 121.12 | V69: 6.1 | W69: 121.12 | X69: 6.1 | Y69: 121.12 | Z69: 6.1 | AA69: 121.12 | AB69: 6.1 | AC69: 121.12 | AD69: 6.1 | AE69: 121.12 | AF69: 6.1 | AG69: 830.72 | AH69: 6.1 | AI69: 992.92 | AJ69: 6.1 | AK69: 2397.02 | AL69: 5.43 | AM69: 10078.17 | AN69: 6.1 | AP69: 0 | AQ69: 0 | AR69: 781.87 | AS69: 1.02 | AT69: 853.64 | AU69: 5.31 | AW69: 1.1 | AX69: 2.5 | AY69: 25 | AZ69: 0 | BA69: 0 | BB69: 3.3 | BC69: 0 | BE69: 83.85 | BF69: 7.71 | BG69: 75.8 | BH69: 7.75 | BI69: 51.1 | BJ69: 14.45 | BK69: 16.75 | BL69: 6.01
A70: 5 | B70: 0197 | C70: Aalten | D70: 0.0974 | E70: 7.14 | F70: 0.2096 | G70: 4.65 | H70: 0.1566 | I70: 5.5 | J70: 0.3662 | K70: 5.01 | L70: 356.9 | N70: 122.75 | O70: 5.45 | P70: 144.49 | Q70: 4.85 | S70: 98.44 | T70: 1.4 | U70: 177.83 | V70: 1.4 | W70: 145 | X70: 1.4 | Y70: 290 | Z70: 1.4 | AA70: 435 | AB70: 1.4 | AC70: 580 | AD70: 1.4 | AE70: 725 | AF70: 1.4 | AG70: 3045 | AH70: 1.4 | AI70: 3625 | AJ70: 1.4 | AK70: 6473.22 | AL70: 1.59 | AM70: 8230.5 | AN70: 1.61 | AP70: 0 | AQ70: 0 | AR70: 578.09 | AS70: 5.76 | AT70: 679.22 | AU70: 5.09 | AW70: 1.35 | AX70: 1.35 | AY70: 0 | AZ70: 32.5 | BA70: -33.33 | BB70: 0 | BC70: 0 | BE70: 83.85 | BF70: 7.71 | BG70: 75.8 | BH70: 7.75 | BI70: 51.1 | BJ70: 14.45 | BK70: 7.5 | BL70: 5.63
A71: 5 | B71: 0200 | C71: Apeldoorn | D71: 0.1014 | E71: 3.63 | F71: 0.4829 | G71: 3.17 | H71: 0.3804 | I71: 3.16 | J71: 0.8633 | K71: 3.16 | L71: 471.98 | N71: 285.69 | O71: 6.33 | P71: 299.39 | Q71: 6.02 | S71: 207.6 | T71: 3.46 | U71: 207.6 | V71: 3.46 | AP71: 0 | AQ71: 0 | AR71: 965.27 | AS71: 17.03 | AT71: 978.97 | AU71: 16.75 | AW71: 0.62 | AX71: 2.79 | AY71: 2.95 | AZ71: 37.5 | BA71: -51.64 | BB71: 3.56 | BC71: 5.95 | BE71: 83.85 | BF71: 7.85 | BG71: 75.8 | BH71: 7.82 | BI71: 51.1 | BJ71: 14.45 | BK71: 17 | BL71: 6.58
A72: 5 | B72: 0202 | C72: Arnhem | D72: 0.1102 | E72: 5.88 | F72: 0.7026 | G72: 5.18 | H72: 0.1756 | I72: 5.17 | J72: 0.8782 | K72: 5.18 | L72: 482.93 | N72: 252.6 | O72: 13.66 | P72: 336.84 | Q72: 13.69 | S72: 218.24 | T72: 4.34 | U72: 218.24 | V72: 4.34 | AP72: 0 | AQ72: 0 | AR72: 953.77 | AS72: 7.46 | AT72: 1038.01 | AU72: 7.95 | AW72: 1 | AX72: 2.5 | AY72: 0 | AZ72: 0 | BA72: 0 | BB72: 3.5 | BC72: 2.94 | BE72: 83.85 | BF72: 7.71 | BG72: 75.8 | BH72: 7.75 | BI72: 51.1 | BJ72: 14.45 | BK72: 11.8 | BL72: 0
A73: 5 | B73: 0203 | C73: Barneveld | D73: 0.0744 | E73: 4.88 | F73: 0.208 | G73: 5.22 | H73: 0.1641 | I73: 5.25 | J73: 0.3721 | K73: 5.23 | L73: 395.63 | N73: 200.7 | O73: 1.98 | P73: 334.5 | Q73: 1.98 | S73: 209.65 | T73: 3.99 | U73: 209.65 | V73: 3.99 | W73: 209.65 | X73: 3.99 | Y73: 209.65 | Z73: 3.99 | AA73: 209.65 | AB73: 3.99 | AC73: 234.65 | AD73: 3.55 | AE73: 284.65 | AF73: 2.91 | AG73: 1084.65 | AH73: 0.75 | AI73: 1284.65 | AJ73: 0.63 | AK73: 3034.65 | AL73: 0.27 | AM73: 12534.65 | AN73: 0.06 | AP73: 0 | AQ73: 0 | AR73: 805.98 | AS73: 3.91 | AT73: 939.78 | AU73: 3.63 | AW73: 1.19 | AX73: 1.19 | AY73: 4.39 | AZ73: 55.75 | BA73: 3.82 | BB73: 1.2 | BC73: 0 | BE73: 83.85 | BF73: 7.71 | BG73: 75.8 | BH73: 7.75 | BI73: 51.1 | BJ73: 14.45 | BK73: 16.6 | BL73: 5.73
A74: 5 | B74: 1945 | C74: Berg en Dal | D74: 0.0796 | E74: 8.17 | F74: 0.2372 | G74: 6.23 | H74: 0.1962 | I74: 6.25 | J74: 0.4334 | K74: 6.24 | L74: 348.47 | N74: 224.05 | O74: -0.62 | P74: 319.36 | Q74: -0.61 | S74: 213 | T74: 4.41 | U74: 285 | V74: 4.4 | W74: 213 | X74: 4.41 | Y74: 355 | Z74: 4.41 | AA74: 551 | AB74: 4.55 | AC74: 551 | AD74: 4.55 | AE74: 551 | AF74: 4.55 | AG74: 1763 | AH74: 4.51 | AI74: 1763 | AJ74: 4.51 | AK74: 3506 | AL74: 4.5 | AM74: 15707 | AN74: 4.5 | AP74: 0 | AQ74: 0 | AR74: 785.52 | AS74: 4.51 | AT74: 952.83 | AU74: 3.97 | AW74: 1.03 | AX74: 1.63 | AY74: 0 | AZ74: 0 | BA74: 0 | BB74: 0 | BC74: 0 | BE74: 83.85 | BF74: 7.85 | BG74: 75.8 | BH74: 7.82 | BI74: 48.15 | BJ74: 7.84 | BK74: 11.2 | BL74: 4.67
A75: 5 | B75: 1859 | C75: Berkelland | D75: 0.1041 | E75: 12.15 | F75: 0.234 | G75: 2.72 | H75: 0.1809 | I75: 1.46 | J75: 0.4149 | K75: 2.17 | L75: 447.1 | N75: 142.44 | O75: 3.04 | P75: 195.12 | Q75: 3.04 | S75: 307.13 | T75: 3.11 | U75: 379.4 | V75: 3.11 | W75: 349.52 | X75: 3.11 | Y75: 481.52 | Z75: 3.11 | AA75: 613.52 | AB75: 3.12 | AC75: 745.52 | AD75: 3.12 | AE75: 877.52 | AF75: 3.12 | AG75: 2923.52 | AH75: 3.2 | AI75: 3427.52 | AJ75: 3.21 | AK75: 6947.52 | AL75: 2.99 | AM75: 23027.52 | AN75: 3.05 | AP75: 0 | AQ75: 0 | AR75: 896.67 | AS75: 7.41 | AT75: 1021.62 | AU75: 6.87 | AW75: 1.25 | AX75: 1.25 | AY75: 0 | AZ75: 0 | BA75: 0 | BB75: 0 | BC75: 0 | BE75: 83.87 | BF75: 7.71 | BG75: 75.8 | BH75: 7.7 | BI75: 51.11 | BJ75: 14.47 | BK75: 7.9 | BL75: 3.95
A76: 5 | B76: 0209 | C76: Beuningen | D76: 0.1172 | E76: 10.02 | F76: 0.5488 | G76: 6.3 | H76: 0.4154 | I76: 7.63 | J76: 0.9642 | K76: 6.87 | L76: 525.13 | N76: 195.02 | O76: 8.51 | P76: 204.05 | Q76: 8.11 | S76: 223 | T76: 0 | U76: 223 | V76: 0 | W76: 223 | X76: 0 | Y76: 223 | Z76: 0 | AA76: 223 | AB76: 0 | AC76: 223 | AD76: 0 | AE76: 223 | AF76: 0 | AG76: 223 | AH76: 0 | AI76: 223 | AJ76: 0 | AK76: 223 | AL76: 0 | AM76: 223 | AN76: 0 | AP76: 0 | AQ76: 0 | AR76: 943.15 | AS76: 7.17 | AT76: 952.18 | AU76: 7.1 | AW76: 2 | AX76: 2 | AY76: 19.05 | AZ76: 92.6 | BA76: 3 | BB76: 0 | BC76: 0 | BE76: 83.87 | BF76: 7.87 | BG76: 75.8 | BH76: 7.82 | BI76: 51.11 | BJ76: 22.86 | BK76: 15.1 | BL76: 2.72
