Workbook
Name btw: [1]Uitgangspunten!$E$12
Name jaar: [1]Uitgangspunten!$E$7
Name jaar: '[2]Gegevens gemeenten'!$B$3
Name jaarnieuw: [1]Uitgangspunten!$E$7

Sheet OZB oud
B6: 2025 Vastgestelde verordening OZB | D6: 496126.54
E7: is dit 2024? | F7: Klopt dit?
B8: Belastingsoort | C8: Tarief 2025 | D8: Ons tarief | E8: WOZ oud volgens presentatie | F8: WOZ 2025 | H8: 2025
B9: OZB eigen woningen | C9: 0.000648 | D9: 0.000659 | E9: 7215000000 | F9: 7.9245077e+09 | G9: =D9*E9 -> 4754685 | H9: =F9*C9 -> 5135081 | I9: =C9-D9 -> -1.1e-05 | J9: =F9/E9 -> 1.0983379 | K9: =D9*1.01 -> 0.00066559 | L9: =K9*H9 -> 3417.8586
B10: OZB gebruiker niet woningen | C10: 0.001524 | D10: 0.00149 | E10: 570000000 | F10: 6.1787336e+08 | G10: =D10*E10 -> 849300 | H10: =F10*C10 -> 941639 | I10: =C10-D10 -> 3.4e-05 | J10: =F10/E10 -> 1.0839884
B11: OZB eigenaar niet woningen | C11: 0.001876 | D11: 0.001834 | E11: 651000000 | F11: 6.6972228e+08 | G11: =D11*E11 -> 1193934 | H11: =F11*C11 -> 1256399 | I11: =C11-D11 -> 4.2e-05 | J11: =F11/E11 -> 1.0287593
E12: =SUM(E9:E11) -> 8436000000 | F12: =SUM(F9:F11) -> 9.2121034e+09 | G12: =SUM(G9:G11) -> 6797919 | H12: =SUM(H9:H11) -> 7333119
B13: OZB opbrengst woning €390.000
B14: 390000 | C14: =C9*B14 -> 252.72 | D14: =C9*D6 -> 321.49 | E14: dit bedrag staat in COELO 2025 | F14: 7925000000 | G14: =F14*C9 -> 5135400 | I14: Opmerkingen
B15: =F9/B14 -> 20319.251 | I15: Gemiddelde WOZ waarde in COELO is 496.126,54
B16: OZB eigen woningen | I16: Gemiddelde WOZ waarde gemeente Geldrop is 390.000
B17: Gemiddelde WOZ 2025 in COELO | C17: 496126.54 | I17: In presentatie is uitgegaan van totale WOZ van 7.215.000.000
B18: Tarief 2025 | C18: =C9 -> 0.000648 | F18: 8 | G18: 0=aflopen | I18: Maar volgens het overzicht hiernaast is uitgegaan van WOZ 7.924.507.716
B19: OZB 2025 COELO | C19: 321 | F19: 2 | G19: 1=oplopen
B20: Tariefsaanapssing | C20: 0.3 | F20: 3
B21: Voorgesteld tarief | C21: =C18*(1+C20) -> 0.0008424 | F21: 4
B22: Voorgesteld OZB bedrag | C22: =C21*C17 -> 417.937 | F22: 5
B23: Totale OZB | C23: =C21*F9 -> 6675605.3
B24: 1771 | C24: Geldrop-Mierlo
B25: =_xlfn.RANK.EQ(C22,'Gegevens per gemeente 2025'!L5:L346,1) -> #N/A | D25: =_xlfn.RANK.EQ(3,F18:F22,1) -> 2
C26: =IF(B24='COELO oud'!B20,1,0) -> 1

Sheet Dashboard
A4: Gemeentelijke lasten Geldrop-Mierlo
A5: Bedragen in euro's | I5: De blauwe cellen zijn beschikbaar voor scenario analyse
B6: BEGROTING 2025 | I6: 2025 NA AANPASSING | J6: AANPASSING | R6: VERSCHIL AANPASSINGEN TOV BEGROTING
A7: Heffingen | B7: Bedrag 2025 | C7: Maatman meerpersoons eigenaar | D7: Maatman meerpersoons huurder | E7: Maatman eenpersoons eigenaar | F7: Maatman eenpersoons huurder | G7: Kwijtschelding | I7: Heffingen | J7: Percentage aanpassing | K7: Bedrag 2025 na aanpassing | L7: Maatman meerpersoons eigenaar | M7: Maatman meerpersoons huurder | N7: Maatman eenpersoons eigenaar | O7: Maatman eenpersoons huurder | P7: Kwijtschelding | R7: Heffingen | S7: Bedrag 2025 | T7: Maatman meerpersoons eigenaar | U7: Maatman meerpersoons huurder | V7: Maatman eenpersoons eigenaar | W7: Maatman eenpersoons huurder | X7: Kwijtschelding | Z7: Positie landelijk gemiddelde 2025* | AA7: Geschat landelijk gemiddelde na aanpassing *
A8: OZB eigen woningen | B8: =OZB!$C$17 -> 252.72 | C8: =B8 -> 252.72 | E8: =B8 -> 252.72 | G8: 0 | I8: OZB eigen woningen | J8: =SUM($K$20:$K$22)+SUM($P$20:$P$21) -> 0.020176079 | K8: =OZB!C21 -> 257.8189 | L8: =K8 -> 257.8189 | N8: =K8 -> 257.8189 | P8: 0 | R8: OZB eigen woningen | S8: =K8-B8 -> 5.0988987 | T8: =L8-C8 -> 5.0988987 | U8: =M8-D8 -> 0 | V8: =N8-E8 -> 5.0988987 | W8: =O8-F8 -> 0 | X8: =P8-G8 -> 0 | Z8: =OZB!C25 -> 19 | AA8: =OZB!C24 -> 20
A9: OZB niet woningen bv € 500.000 | B9: =OZB!K31 -> 850 | G9: 0 | I9: OZB niet woningen bv € 500.000 | J9: 0 | K9: =OZB!K32 -> 850 | P9: 0 | R9: OZB niet woningen bv € 500.000 | S9: =K9-B9 -> 0 | T9: =L9-C9 -> 0 | U9: =M9-D9 -> 0 | V9: =N9-E9 -> 0 | W9: =O9-F9 -> 0 | X9: =P9-G9 -> 0
A10: Afvalstoffenheffing vast | B10: ='Afval omrekening'!I19 -> 222 | C10: ='Afval omrekening'!S19 -> 222 | D10: ='Afval omrekening'!S19 -> 222 | E10: ='Afval omrekening'!O19 -> 222 | F10: =E10 -> 222 | G10: 0 | I10: Afvalstoffenheffing vast | K10: ='Afval omrekening'!I21 -> 216.30667 | L10: ='Afval omrekening'!S21 -> 216.30667 | M10: ='Afval omrekening'!S21 -> 216.30667 | N10: ='Afval omrekening'!O21 -> 216.30667 | O10: ='Afval omrekening'!O21 -> 216.30667 | P10: 0 | R10: Afvalstoffenheffing vast | S10: =K10-B10 -> -5.6933288 | T10: =L10-C10 -> -5.6933288 | U10: =M10-D10 -> -5.6933288 | V10: =N10-E10 -> -5.6933288 | W10: =O10-F10 -> -5.6933288 | X10: =P10-G10 -> 0
A11: Afvalstoffenheffing variabel | B11: ='Afval omrekening'!I18 -> 91.598624 | C11: ='Afval omrekening'!S18 -> 176.68 | D11: ='Afval omrekening'!S18 -> 176.68 | E11: ='Afval omrekening'!O18 -> 42 | F11: ='Afval omrekening'!O18 -> 42 | G11: 0 | I11: Afvalstoffenheffing variabel | K11: ='Afval omrekening'!I18 -> 91.598624 | L11: ='Afval omrekening'!S18 -> 176.68 | M11: ='Afval omrekening'!S18 -> 176.68 | N11: ='Afval omrekening'!O18 -> 42 | O11: ='Afval omrekening'!O18 -> 42 | P11: 0 | R11: Afvalstoffenheffing variabel | S11: =K11-B11 -> 0 | T11: =L11-C11 -> 0 | U11: =M11-D11 -> 0 | V11: =N11-E11 -> 0 | W11: =O11-F11 -> 0 | X11: =P11-G11 -> 0
A12: Afvalstoffenheffing | B12: ='Afval omrekening'!I20 -> 313.59862 | C12: ='Afval omrekening'!S20 -> 398.68 | D12: ='Afval omrekening'!S20 -> 398.68 | E12: ='Afval omrekening'!O20 -> 264 | F12: ='Afval omrekening'!O20 -> 264 | G12: 0 | I12: Afvalstoffenheffing | K12: ='Afval omrekening'!I22 -> 307.9053 | L12: ='Afval omrekening'!S22 -> 392.98667 | M12: ='Afval omrekening'!S22 -> 392.98667 | N12: ='Afval omrekening'!O22 -> 258.30667 | O12: ='Afval omrekening'!O22 -> 258.30667 | P12: 0 | R12: Afvalstoffenheffing | S12: =K12-B12 -> -5.6933288 | T12: =L12-C12 -> -5.6933288 | U12: =M12-D12 -> -5.6933288 | V12: =N12-E12 -> -5.6933288 | W12: =O12-F12 -> -5.6933288 | X12: =P12-G12 -> 0
A13: Rioolheffing | B13: =Riool!C6 -> 201.6 | C13: =Riool!C6 -> 201.6 | D13: =Riool!C6 -> 201.6 | E13: =B13 -> 201.6 | F13: =B13 -> 201.6 | G13: 0 | I13: Rioolheffing | J13: 0 | K13: =(N26-Riool!$J$22)*(1+$J13) -> 240 | L13: =(N26-Riool!$J$22)*(1+$J13) -> 240 | M13: =(N26-Riool!$J$22)*(1+$J13) -> 240 | N13: =(N25-Riool!$J$22)*(1+$J13) -> 120 | O13: =(N25-Riool!$J$22)*(1+$J13) -> 120 | P13: 0 | R13: Rioolheffing | S13: =K13-B13 -> 38.4 | T13: =L13-C13 -> 38.4 | U13: =M13-D13 -> 38.4 | V13: =N13-E13 -> -81.6 | W13: =O13-F13 -> -81.6 | X13: =P13-G13 -> 0 | Z13: =Riool!C33 -> 84 | AA13: =Riool!C32 -> 178
A14: Totale gemeentelijke lasten | B14: =SUM(B8:B9)+B12+B13 -> 1617.9186 | C14: =SUM(C8:C9)+C12+C13 -> 853 | D14: =SUM(D8:D9)+D12+D13 -> 600.28 | E14: =SUM(E8:E9)+E12+E13 -> 718.32 | F14: =SUM(F8:F9)+F12+F13 -> 465.6 | G14: =SUM(G8:G9)+G12+G13 -> 0 | I14: Totale gemeentelijke lasten | K14: =SUM(K8:K9)+K12+K13 -> 1655.7242 | L14: =SUM(L8:L9)+L12+L13 -> 890.80557 | M14: =SUM(M8:M9)+M12+M13 -> 632.98667 | N14: =SUM(N8:N9)+N12+N13 -> 636.12557 | O14: =SUM(O8:O9)+O12+O13 -> 378.30667 | P14: =SUM(P8:P13) -> 0 | R14: Totale gemeentelijke lasten | S14: =SUM(S8:S9)+S12+S13 -> 37.80557 | T14: =SUM(T8:T9)+T12+T13 -> 37.80557 | U14: =SUM(U8:U9)+U12+U13 -> 32.706671 | V14: =SUM(V8:V9)+V12+V13 -> -82.19443 | W14: =SUM(W8:W9)+W12+W13 -> -87.293329 | X14: =SUM(X8:X9)+X12+X13 -> 0
A18: Uitgangspunten begroting 2025 | I18: Aanpassingsmogelijkheden | J18: percentages tussen 0-100% (bij 0% wordt het bedrag niet meegenomen, bij 100% volledig meegenomen) | O18: %OZB tov bedragen begroting 2025 | Z18: OZB obv gemiddelde WOZ waarde Geldrop van € 390.000 en landelijk € 496.126
A19: Afvalstoffenheffig | C19: Rioolheffing | I19: Afvalstoffenheffig | K19: %OZB | L19: Rioolheffing | P19: %OZB | Z19: * Bron: COELO obv 342 gemeenten
A20: Percentage straatreiniging (25%) | B20: 1 | C20: Percentage straatreiniging (37,5%) | E20: 1 | I20: Percentage straatreiniging (25%) | J20: 1 | K20: =IF(J20<>100%,(Afval!O31-Afval!N14)/$B$41,0) -> 0 | L20: Percentage straatreiniging (37,5%) | O20: 1 | P20: =IF(O20<>100%,(100%-O20)*Riool!H21/$B$41,0) -> 0
A21: Zwerfafval vergoeding | B21: Ja | C21: Percentage kwijtschelding | E21: 1 | I21: Zwerfafval vergoeding | J21: Ja | K21: =IF(J21="Nee",-Afval!O32/$B$41,0) -> 0 | L21: Percentage kwijtschelding | O21: 1 | P21: =IF(O21<>100%,(100%-O21)*Riool!H20/$B$41,0) -> 0
A22: Percentage kwijtschelding | B22: 1 | I22: Percentage kwijtschelding | J22: 1 | K22: =(Afval!O37-Afval!$N$16)/$B$41 -> 0.020176079
A23: Alleen vastrecht | B23: Nee | C23: Rioolheffing | I23: Vastrecht met variabele kosten | L23: Aanpassing rioolheffing
A24: Bedrag variabele kosten | B24: 0 | C24: Categorie | E24: Tarief 2025 | F24: Aantal | G24: Inkomsten | I24: Volledige kwijtschelding | L24: Categorie (extra categorie 1a en 1b) | N24: Tarief 2025 | O24: Aantal | P24: Inkomsten
C25: Cat 1: woningen (0-200 m3) | E25: 201.6 | F25: 16399 | G25: =F25*E25 -> 3306038.4 | I25: Alleen vastrecht | L25: Cat 1a: woningen (0-50 m3) | N25: 120 | O25: 6399 | P25: =O25*N25 -> 767880
C26: Cat 2+3: woningen (>200 m3) | E26: 268.8 | F26: =Riool!D7+Riool!D8 -> 1722 | G26: =F26*E26 -> 462873.6 | I26: Vastrecht met variabele kosten | J26: 10 | L26: Cat 1b: woningen (50-200 m3) | N26: 240 | O26: 10000 | P26: =O26*N26 -> 2400000
A27: Extra afval scenario's: | C27: Cat 4: niet woningen (0-200 m3) | E27: 201.6 | F27: 797 | G27: =F27*E27 -> 160675.2 | I27: Extra afval scenario's: | L27: Cat 2+3: woningen (>200 m3)* | N27: =$N$26+67 -> 307 | O27: =Riool!I7+Riool!I8 -> 1722 | P27: =O27*N27 -> 528654
A28: 1.Papierinzameling | B28: 2 weken | C28: Cat 5+6: niet woningen (>200 m3) | E28: 268.8 | F28: =Riool!D10+Riool!D11 -> 1206 | G28: =F28*E28 -> 324172.8 | I28: =Afval_dashboard!U6 -> 1. Oud papier en karton | J28: =Afval_dashboard!V6 -> 1x per vier weken | L28: Cat4: niet woningen (0-200 m3) | N28: =N26 -> 240 | O28: =Riool!I9 -> 797 | P28: =O28*N28 -> 191280
A29: 2.PBD (plastic, Blik en Drinkpakken) | B29: 1 week | C29: Totaal | G29: =SUM(G25:G28) -> 4253760 | I29: =Afval_dashboard!U7 -> 2. PBD (Plastic, Blik en Drankenkartons) | J29: =Afval_dashboard!V7 -> 1x per twee weken + elke week op hotspots | L29: Cat 5+6: niet woningen (>200 m3)* | N29: =$N$26+67 -> 307 | O29: =Riool!I10+Riool!I11 -> 1206 | P29: =O29*N29 -> 370242
A30: 3.Groenbak (GFT container) | B30: Tarief | I30: =Afval_dashboard!U8 -> 3. Luiers en incontinentiemateriaal | J30: =Afval_dashboard!V8 -> centrale ondergrondse containers | L30: Totaal | P30: =SUM(P25:P29) -> 4258056
A31: 4.Container luier en incontinentie | B31: Huidig Renewi | I31: =Afval_dashboard!U9 -> 4. GFT/E-container (Groente-, Fruit-, Tuin- en Etensrestenafval) | J31: =Afval_dashboard!V9 -> tarief verlagen | L31: *Tarief niet woningen is tarief woningen + €67 volgens huidige verhouding
A32: 5.Bladcontainers | B32: Wel plaatsen | I32: =Afval_dashboard!U10 -> 5. Bladkorven | J32: =Afval_dashboard!V10 -> bladkorven
A33: 6.Milieustraat | B33: Betaald | I33: =Afval_dashboard!U11 -> 6. Milieustraat | J33: =Afval_dashboard!V11 -> poorttarieven
I35: TOTAAL % OZB | K35: =SUM($K$20:$K$22)+SUM($P$20:$P$21) -> 0.020176079
A39: Vergelijking baten en lasten 2025 | I39: Vergelijking baten en lasten na aanpassing | R39: Verschil baten en lasten voor en na anpassing
A40: Heffingen | B40: Begroting 2025 | C40: Kosten | D40: Verschil opbrengsten kosten | I40: Heffingen | J40: Opbrengsten na aanpassing | K40: Kosten na aanpassing | L40: Verschil opbrengsten kosten | R40: Heffingen | S40: Verschil Opbrengsten | T40: Verschil kosten
A41: OZB eigen woningen | B41: =OZB!E5 -> 5135081 | C41: 0 | D41: 0 | I41: OZB eigen woningen | J41: =OZB!F5 -> 5238686.8 | K41: 0 | L41: 0 | R41: OZB eigen woningen | S41: =J41-B41 -> 103605.8 | T41: =K41-C41 -> 0
A42: OZB niet woningen | B42: =OZB!E6+OZB!E7 -> 2198038 | C42: 0 | D42: 0 | I42: OZB niet woningen | J42: =OZB!F6+OZB!F7 -> 2198038 | K42: 0 | L42: 0 | R42: OZB niet woningen | S42: =J42-B42 -> 0 | T42: =K42-C42 -> 0
A43: Afvalstoffenheffing | B43: =Afval!J43 -> 6356130.5 | C43: =Afval!G43 -> 6355383.2 | D43: =B43-C43 -> 747.22319 | I43: Afvalstoffenheffing | J43: =Afval_dashboard!N39 -> 5363805 | K43: =Afval_dashboard!Q39 -> 6486447 | L43: =J43-K43 -> -1122642 | R43: Afvalstoffenheffing | S43: =J43-B43 -> -992325.46 | T43: =K43-C43 -> 131063.76
A44: Rioolheffing | B44: =Riool!E12 -> 4253760 | C44: 4252236 | D44: =B44-C44 -> 1524 | I44: Rioolheffing | J44: =Riool!J12 -> 4258056 | K44: =4252236-(100%-O20)*Riool!$H$21-(100%-O21)*Riool!$H$20 -> 4252236 | L44: =J44-K44 -> 5820 | R44: Rioolheffing | S44: =J44-B44 -> 4296 | T44: =K44-C44 -> 0
A45: Totale gemeentelijke lasten | B45: =SUM(B41:B44) -> 17943009 | C45: =SUM(C41:C44) -> 10607619 | D45: =SUM(D41:D44) -> 2271.2232 | I45: Totale gemeentelijke lasten | J45: =SUM(J41:J44) -> 17058586 | K45: =SUM(K41:K44) -> 10738683 | L45: =SUM(L41:L44) -> -1116822 | R45: Totale gemeentelijke lasten | S45: =SUM(S41:S44) -> -884423.66 | T45: =SUM(T41:T44) -> 131063.76
A49: TOELICHTING DASHBOARD
A50: OZB | I50: Rioolheffing | R50: Afvalstoffenheffing
A51: Voor OZB zijn de knoppen J8 en J9 beschikbaar om het percentage | I51: Voor rioolheffing zijn de volgende knoppen beschikbaar: | N51: In de cellen O20 en O21 kan een percentage tussen | R51: Voor afvalstoffenheffing zijn de volgende knoppen beschikbaar
A52: OZB aan te passen | I52: In cel N26 en N26 kunnen de tarieven voor een en meerpersoonshuishoudens worden ingevoerd. | N52: 0% - 100% worden ingegeven voor het toekennen van | R52: In cel J20 kan een percentage tussen 0% - 100% worden ingegeven voor het toekennen van kosten voor straatreiniging.
I53: In cel J13 kan een percentage worden ingegeven waarmee de tarieven in N25 t/m N29 worden verhoogd | N53: kosten voor straatreiniging en kwijtschelding. | R53: Cel J21 is een dropdown waarmee kan worden aangegeven of de zwerfafval vergoeding wordt meergerekend of niet (Ja= wel en Nee-niet).
...

Sheet OZB
C2: OZB bijlage bij dashboard
B4: Belastingsoort | C4: Tarief 2025 verordening OZB | D4: WOZ 2025 | E4: OZB 2025 | F4: OZB 2025 na aanpassing
B5: OZB eigen woningen | C5: 0.000648 | D5: 7.9245077e+09 | E5: =D5*C5 -> 5135081 | F5: =C22 -> 5238686.8
B6: OZB gebruiker niet woningen | C6: 0.001524 | D6: 6.1787336e+08 | E6: =D6*C6 -> 941639 | F6: =K24 -> 941639
B7: OZB eigenaar niet woningen | C7: 0.001876 | D7: 6.6972228e+08 | E7: =D7*C7 -> 1256399 | F7: =K25 -> 1256399
B8: Totaal | D8: =SUM(D5:D7) -> 9.2121034e+09 | E8: =SUM(E5:E7) -> 7333119 | F8: =SUM(F5:F7) -> 7436724.8
B9: OZB opbrengst woning €390.000
F10: 7925000000 | G10: =F10*C5 -> 5135400
B12: OZB eigen woningen | J12: OZB niet woningen
B13: Gemiddelde WOZ 2025 | C13: 390000
B14: Gemiddelde WOZ 2025 in COELO | C14: 496126.54
B15: Tarief 2025 | C15: =C5 -> 0.000648 | J15: Tarief 2025 gebruiker niet woningen | K15: =C6 -> 0.001524
B16: OZB 2025 in COELO | C16: =C5*C14 -> 321.49 | D16: obv € 496.126,54 | J16: Tarief 2025 eigenaar niet woningen | K16: =C7 -> 0.001876
B17: OZB 2025 in COELO | C17: =C15*C13 -> 252.72 | D17: obv gemiddelde WOZ waarde € 390.000
B18: Tariefsaanpassing | C18: =Dashboard!J8 -> 0.020176079
B19: Tarief na aanpassing | C19: =C15*(1+C18) -> 0.0006610741 | J19: Tariefsaanpassing | K19: =Dashboard!J9 -> 0
B20: Voorgesteld OZB bedrag | C20: =C19*C14 -> 327.97641 | D20: obv € 496.126,54 | J20: Tarief na aanpassing gebruiker niet woning | K20: =K15*(1+K19) -> 0.001524
B21: Voorgesteld OZB bedrag | C21: =C19*C13 -> 257.8189 | D21: obv gemiddelde WOZ waarde € 390.000 | J21: Tarief na aanpassing eigenaar niet woning | K21: =K16*(1+K$19) -> 0.001876
B22: OZB eigen woning na aanpassing | C22: =C19*D5 -> 5238686.8
B23: 342 gemeenten
B24: Positie COELO lijst 2025 na aanpassing | C24: =_xlfn.RANK.EQ($C20,'Gegevens per gemeente 2025'!$L$5:$L$346,1) -> 20 | D24: obv € 496.126,54 | J24: OZB gebruiker niet woningeigen na aanpassing | K24: =K20*D6 -> 941639
B25: Positie COELO lijst 2025 | C25: =_xlfn.RANK.EQ($C16,COELO!$L$2:$L$343,1) -> 19 | J25: OZB eigenaar niet woningeigen na aanpassing | K25: =K21*D7 -> 1256399
B27: NB: In het dashboard wordt het bedrag per maatman weergegeven met WOZ waarde van € 390.000
B28: Voor de landelijke lijst wordt he percentage per maatman vermenigvuldigd met een WOZ waarde van € 496.126
B30: Vraag: Betaalt huurder OZB? Klopt het dat dat de eigenaar de OZB betaalt? | J30: Gemiddelde WOZ waarde als voorbeeld | K30: 500000
J31: OZB | K31: =((K30*K15)+(K16*K30))/2 -> 850
J32: OZB na aanpassing | K32: =((K30*K20)+(K30*K21))/2 -> 850
B33: Opmerkingen
B34: Gemiddelde WOZ waarde in COELO is 496.126,54
B35: Gemiddelde WOZ waarde gemeente Geldrop is 390.000
B37: In presentatie is uitgegaan van totale WOZ van 7.215.000.000
B38: Maar volgens het overzicht hiernaast is uitgegaan van WOZ 7.924.507.716

Sheet Riool
D2: Rioolheffing bijlage bij dashboard
B4: Categorie | C4: Tarief 2025 | D4: Aantal | E4: Inkomsten | G4: Categorie | H4: Tarief 2025 na aanpassing | I4: Aantal | J4: Inkomsten na aanpassing | K4: 2025 | L4: Categorie | M4: Tarief 2025 | N4: Aantal | O4: Inkomsten | P4: Tarief 2025 na aanpassing | Q4: Aantal | R4: Inkomsten na aanpassing | X4: De rioolheffing in Geldrop-Mierlo is gebaseerd op de geraamde kosten voor de rioolzorg. In het GRP wordt de hoogte en stijging van de rioolheffing voor de planperiode (5 jaar) geprognotiseerd. Elk jaar stelt de raad de hoogt van de heffing voor het komende begrotingsjaar vast.
E5: =D5*C5 -> 0 | G5: Cat1a: woningen (0-50 m3) | H5: =Dashboard!N13 -> 120 | I5: =Dashboard!O25 -> 6399 | J5: =H5*I5 -> 767880 | K5: 120 | L5: Cat1: woningen (1-50 m3) | M5: 120 | N5: 5000 | O5: =N5*M5 -> 600000 | P5: 126 | Q5: 6399 | R5: =P5*Q5 -> 806274 | X5: De hoogte van de heffing is tot in detail onderbouwd met de te verwachten kosten voor de rioolzorg. Er zit een groot spreadsheet achter wat zich hier niet laat tonen, want te groot.
B6: Cat1: woningen (0-200 m3) | C6: 201.6 | D6: 16399 | E6: =D6*C6 -> 3306038.4 | G6: Cat1b: woningen (50-200 m3) | H6: =Dashboard!L13 -> 240 | I6: =Dashboard!O26 -> 10000 | J6: =H6*I6 -> 2400000 | K6: 240 | L6: Cat1: woningen (50-200 m3) | M6: 240 | N6: =16399-N5 -> 11399 | O6: =N6*M6 -> 2735760 | P6: 250 | Q6: 10000 | R6: =P6*Q6 -> 2500000 | X6: In de bijlage van het GRP zit een tabel waarin de jaarlijkse rioolzorg-kosten zijn samengevat.
B7: Cat2: woningen (200-500 m3) | C7: 268.8 | D7: 1548 | E7: =D7*C7 -> 416102.4 | G7: Cat2: woningen (200-500 m3) | H7: =(Dashboard!N27-Riool!$J$22)*(1+Dashboard!$J$13) -> 307 | I7: 1548 | J7: =H7*I7 -> 475236 | K7: 307 | L7: Cat2: woningen (200-500 m3) | M7: 268.8 | N7: 1548 | O7: =N7*M7 -> 416102.4 | P7: =M7 -> 268.8 | Q7: 1548 | R7: =P7*Q7 -> 416102.4 | X7: Daar staan ook de doorbelastingen in.
B8: Cat3: woningen (> 500 m3) | C8: 268.8 | D8: 174 | E8: =D8*C8 -> 46771.2 | G8: Cat3: woningen (> 500 m3) | H8: =(Dashboard!N27-Riool!$J$22)*(1+Dashboard!$J$13) -> 307 | I8: 174 | J8: =H8*I8 -> 53418 | K8: 307 | L8: Cat3: woningen (> 500 m3) | M8: 268.8 | N8: 174 | O8: =N8*M8 -> 46771.2 | P8: =M8 -> 268.8 | Q8: 174 | R8: =P8*Q8 -> 46771.2 | X8: We hebben doorbelastingen Straatreiniging, Kwijtschelding. Daarnaast de interne kosten voor salaris en overhead.
B9: Cat4: niet-woningen (0-200 m3) | C9: 201.6 | D9: 797 | E9: =D9*C9 -> 160675.2 | G9: Cat4: niet-woningen (0-200 m3) | H9: =(Dashboard!N28-Riool!$J$22)*(1+Dashboard!$J$13) -> 240 | I9: 797 | J9: =H9*I9 -> 191280 | K9: 240 | L9: Cat4: niet-woningen (0-200 m3) | M9: 201.6 | N9: 797 | O9: =N9*M9 -> 160675.2 | P9: 211.7 | Q9: 797 | R9: =P9*Q9 -> 168724.9 | X9: De kwijtschelding is circa 136.000, en de straatreiniging een kleine 360.000 per jaar
B10: Cat5: niet-woningen (200-500 m3) | C10: 268.8 | D10: 108 | E10: =D10*C10 -> 29030.4 | G10: Cat5: niet-woningen (200-500 m3) | H10: =(Dashboard!N29-Riool!$J$22)*(1+Dashboard!$J$13) -> 307 | I10: 108 | J10: =H10*I10 -> 33156 | K10: 307 | L10: Cat1: niet-woningen (200-500 m3) | M10: 268.8 | N10: 108 | O10: =N10*M10 -> 29030.4 | P10: =M10 -> 268.8 | Q10: 108 | R10: =P10*Q10 -> 29030.4
B11: Cat6: niet-woningen (> 500 m3) | C11: 268.8 | D11: 1098 | E11: =D11*C11 -> 295142.4 | G11: Cat6: niet-woningen (> 500 m3) | H11: =(H10-Riool!$J$22)*(1+Dashboard!$J$13) -> 307 | I11: 1098 | J11: =H11*I11 -> 337086 | K11: 307 | L11: Cat6: niet-woningen (> 500 m3) | M11: 268.8 | N11: 1098 | O11: =N11*M11 -> 295142.4 | P11: =M11 -> 268.8 | Q11: 1098 | R11: =P11*Q11 -> 295142.4 | X11: In het tweede scenario wordt de tariefcategorie bekeken.
B12: Totaal | E12: =SUM(E5:E11) -> 4253760 | G12: Totaal | I12: =SUM(I5:I11) -> 20124 | J12: =SUM(J5:J11) -> 4258056 | L12: Totaal | O12: =SUM(O5:O11) -> 4283481.6 | R12: =SUM(R5:R11) -> 4262045.3 | X12: Uitgangspunten
X13: ·De laagste tariefcategorie wordt gesplitst in een groep tot 100 m3 watergebruik en een groep tot 200 m3 watergebruik.
X14: ·Verondersteld wordt dat alleen de eenpersoonshuishoudens in de (nieuwe) eerste categorie vallen.
B15: Doorbelasting naar riolering | X15: ·De totale inkomsten blijven gelijk.
B16: Kwijtschelding | C16: 136000 | E16: opmerkingen riool | AE16: 16000 | AF16: =AE16/2.2 -> 7272.7273 | AG16: =0.3*AE16 -> 4800
B17: Straatreiniging | C17: 352195 | X17: Volgens opgaaf BSOB zijn er 16.000 heffingsplichtige adressen. Daarvan is 30% een- of twee- persoonshuishouden.
B18: Straatreiniging salaris | C18: 9137 | X18: Resultaat
B19: Watertaken | C19: 264872 | G19: Kosten | X19: Het tarief van de categorie 1a halveert ten opzichte van de huidige situatie.
B20: Totaal | C20: =SUM(C16:C19) -> 762204 | G20: Kwijtschelding | H20: 136000 | I20: =Dashboard!O20 -> 1 | J20: =(H20*(100%-I20))/I12 -> 0 | X20: Het tarief van de tweede categorie 1b (tot 200m3) stijgt met ongeveer 25% ten opzichte van de huidige situatie.
G21: Straatreiniging | H21: =352195+9137 -> 361332 | I21: =Dashboard!O21 -> 1 | J21: =(H21*(100%-I21))/I12 -> 0
B22: Salariskosten riolering | C22: 337792 | J22: =SUM(J20:J21) -> 0 | W22: Volgens opgaaf BSOB zijn er 16.000 heffingsplichtige adressen. Daarvan is 30% een- of twee- persoonshuishouden.
B23: Automatiseringskosten riolering | C23: 18552 | W23: Resultaat
B24: Overhead riolering | C24: 296108 | D24: algemene kosten % | W24: Het tarief van de categorie 1a halveert ten opzichte van de huidige situatie.
B25: Totaal | C25: =SUM(C22:C24) -> 652452 | W25: Het tarief van de tweede categorie 1b (tot 200m3) stijgt met ongeveer 25% ten opzichte van de huidige situatie.
C26: =C25+C20 -> 1414656
W27: Mogelijkheid inbouwen bij riool dat we kiezen voor een verschil tussen een en meerpersoons huishoudens. verdeling van het huidige tarief zodat de totaalopbrengst gelijk blijft.
B28: OZB 2025 COELO | C28: 201.6 | W28: Waterverbruik vaststellen op tarief 0-75 m3 waterverbruik. En > 75m3 dit betekent
B29: Tariefsaanpassing | C29: =Dashboard!I13 -> Rioolheffing | W29: verdeling huidige tarief zodat totaal opbrengst gelijk blijft
B30: Tarief na aanpassing | C30: =H6 -> 240
B31: 342 gemeenten
B32: Positie COELO lijst na aanpassing | C32: =_xlfn.RANK.EQ($C30,'Gegevens per gemeente 2025'!$U$5:$U$346,1) -> 178
B33: Positie COELO lijst | C33: =_xlfn.RANK.EQ($C28,COELO!$U$2:$U$343,1) -> 84
C36: 6399
C37: 10000

Sheet Afval
B3: opmerkingen bij afval
F4: BEGROTING 2025 | M4: AANPASSING BEGROTING 2025
F5: Kosten | G5: EUR | I5: Baten | M5: Kosten | N5: EUR | P5: Baten
B6: 2025 | F6: Afvalinzameling (Cure) | G6: 2971879 | H6: =G6/$G$25 -> 0.61782726 | M6: Afvalinzameling (Cure) | N6: 2971879
B7: Vastrecht | C7: 222.3
B8: Variabel | C8: 185 | F8: Milieustraat (Cure) | G8: 1253362 | H8: =(G8-J8)/$G$25 -> 0.20339278 | I8: Tarieven milieustraat | J8: 275000 | K8: 0 | M8: Milieustraat (Cure) | N8: 1253362 | P8: Tarieven milieustraat | Q8: 275000
B9: Totaal | C9: =SUM(C7:C8) -> 407.3
B10: Tariefsaanpassing | C10: 0 | F10: Taakveld Afval | G10: 109300 | H10: =G10/$G$25 -> 0.0227225 | I10: Afvalstoffenheffing (vastrecht) incl. reinigingsrecht | J10: 4068268.8 | K10: =J10/J25 -> 0.68722991 | M10: Taakveld Afval | N10: 109300 | P10: Afvalstoffenheffing (vastrecht) incl. reinigingsrecht | Q10: =R10+0*4068268.77 -> 4068268.8 | R10: 4068268.8
B11: Vastrecht na aanpassing | C11: =C7*(1+C10) -> 222.3
B12: Variabel na aanpassing | C12: =C8*(1+C10) -> 185 | F12: Bijzet | G12: 94000 | H12: =G12/$G$25 -> 0.019541765 | I12: Afvalstoffenheffing (variabel) | J12: 1851538.7 | K12: =J12/J25 -> 0.31277009 | M12: Bijzet | N12: 94000 | P12: Afvalstoffenheffing (variabel) | Q12: 1851538.7
B13: Totaal na aanpassing | C13: =SUM(C11:C12) -> 407.3
B14: 342 gemeenten | F14: Straatreiniging | G14: 222774 | H14: =(G14-J14)/$G$25 -> 0.012775117 | I14: Zwerfafval-vergoedingen | J14: 161323 | K14: 0 | M14: Straatreiniging | N14: =222774*N31 -> 222774 | P14: Zwerfafval-vergoedingen | Q14: =161323*IF(N32="Ja",1,0) -> 161323
B15: Positie COELO lijst na aanpassing | C15: =_xlfn.RANK.EQ($C13,'Gegevens per gemeente 2025'!$P$5:$P$346,1) -> 274
B16: Positie COELO lijst | C16: =_xlfn.RANK.EQ($C9,COELO!$P$2:$P$343,1) -> 272 | F16: Kwijtschelding | G16: 185612 | H16: =G16/$G$25 -> 0.038587087 | M16: Kwijtschelding | N16: =IF(M36=M38,O37-((C7*C17)*N33),IF(M36=M37,O37-((C17*C9)*N33),IF(M36=M39,O37-(((C11*C17)+(C17*N39))*N33),N33*O37))) -> 82006.2
B17: Aantal gezinnen volgens 100% norm | C17: 446
B18: Aantal huisdhoudens | C18: 18329 | F18: Salariskosten | G18: 186003 | H18: =G18/$G$25 -> 0.038668372 | M18: Salariskosten | N18: =186003 -> 186003
F20: Overheadkosten | G20: 153204 | H20: =G20/$G$25 -> 0.031849751 | M20: Overheadkosten | N20: =153204 -> 153204
F22: Kapitaallasten | G22: 70399.23 | H22: =G22/$G$25 -> 0.014635375 | M22: Kapitaallasten | N22: 70399.23
F24: Totaal kosten | G24: =SUM(G6:G22) -> 5246533.2 | I24: Totaal baten | J24: =SUM(J8:J14) -> 6356130.5 | K24: =SUM(K8:K14) -> 1 | M24: Totaal kosten | N24: =SUM(N6:N22) -> 5142927.4 | P24: Totaal baten | Q24: =SUM(Q8:Q14) -> 6356130.5
F25: Kosten ter verrekening door Afvalstoffenheffing | G25: =G24-J8-J14 -> 4810210.2 | H25: =SUM(H6:H22) -> 1 | I25: Baten uit Afvalstoffenheffing | J25: =SUM(J10:J12) -> 5919807.5 | K25: =J25-J27 -> 4810957.5 | M25: Kosten ter verrekening door Afvalstoffenheffing | N25: =N24-Q8-Q14 -> 4706604.4 | P25: Baten uit Afvalstoffenheffing | Q25: =SUM(Q10:Q12) -> 5919807.5
F26: Check uit B2025 | G26: 4810210.2 | I26: Check verschil kosten - baten Afvalstoffenheffing | J26: =J25-G25 -> 1109597.2 | M26: Check uit B2025 | N26: 4810210.2 | P26: Check verschil kosten - baten Afvalstoffenheffing | Q26: =Q25-N25 -> 1213203
F27: Verschil | G27: =G25-G26 -> 0 | I27: BTW | J27: 1108850 | M27: Verschil | N27: =N25-N26 -> -103605.8 | P27: BTW | Q27: 1108850
I28: Resterend verschil | J28: =J26-J27 -> 747.22319 | P28: Resterend verschil | Q28: =Q26-Q27 -> 104353.02
B30: VARIABEL TARIEF NIET VERANDEREN! | F30: BEGROTING 2025 | M30: AANPASSING BEGROTING 2025 | P30: Tariefverlaging vastrecht | Q30: =IF(Q28>0,Q28/C18,0) -> 5.6933288
F31: Percentage Straatreiniging | G31: 1 | M31: Percentage Straatreiniging | N31: =Dashboard!J20 -> 1 | O31: 222774
F32: Zwerfafval vergoeding | G32: Ja | M32: Zwerfafval vergoeding | N32: =Dashboard!J21 -> Ja | O32: 161323
F33: Salariskosten | G33: 1 | M33: Percentage kwijtschelding | N33: =Dashboard!J22 -> 1
F34: Overhead kosten | G34: 1
F35: Kwijtschelding | M35: Kwijtschelding
F36: Percentage kwijtschelding | G36: 1 | M36: =Dashboard!I23 -> Vastrecht met variabele kosten
F37: Alleen vastrecht | G37: Nee | M37: Volledige kwijtschelding | O37: =185612 -> 185612
F38: Vast recht + €90 vaste kosten | G38: 0 | M38: Alleen vastrecht | N38: =(C7*C17)*N33 -> 99145.8
F39: Geen kwijtschelding | G39: 0 | H39: 90 | M39: =Dashboard!I26 -> Vastrecht met variabele kosten | N39: =Dashboard!J26 -> 10
N41: =N24+Q27-SUM(N47:N52) -> 4444133.1 | Q41: =Q24 -> 6356130.5
G43: =G24+J27 -> 6355383.2 | J43: =J24 -> 6356130.5
M46: Besparing | P46: Dashboard
F47: 1.Papierinzameling | G47: 2 weken | I47: =SUM('Afval aanvulling'!E14) -> 307359 | M47: 1.Papierinzameling | N47: =IF(P47=G47,0,Q47) -> 33000 | P47: =Dashboard!J28 -> 1x per vier weken | Q47: 33000
F48: 2.PBD (plastic, Blik en Drinkpakken) | G48: 1 week | I48: =SUM('Afval aanvulling'!E17:E22) -> 106972 | M48: 2.PBD (plastic, Blik en Drinkpakken) | N48: =IF(P48=G48,0,Q48) -> 125000 | P48: =Dashboard!J29 -> 1x per twee weken + elke week op hotspots | Q48: 125000
F49: 3.Groenbak (GFT container) | G49: Tarief | I49: ='Afval aanvulling'!E34-'Afval aanvulling'!E28 -> 504580 | M49: 3.Groenbak (GFT container) | N49: =IF(P49=G49,0,Q49) -> 399644.3 | P49: =Dashboard!J30 -> centrale ondergrondse containers | Q49: 399644.3
F50: 4.Container luier en incontinentie | G50: Inzamelen | I50: ='Afval aanvulling'!E44+'Afval aanvulling'!E49 -> 88997 | M50: 4.Container luier en incontinentie | N50: =IF(P50=P55,Q55,IF(P50=P56,Q56,IF(P50=P57,Q57,IF(P50=P58,Q58,IF(P50=P59,Q59,0))))) -> 0 | P50: =Dashboard!J31 -> tarief verlagen | Q50: =IF(S50=S55,T55,IF(S50=S56,T56,IF(S50=S57,T57,IF(S50=S58,T58,IF(S50=S59,T59,0))))) -> 0
...

Sheet Afval aanvulling
B3: indexatie | C3: BTW | D3: Omschrijving | E3: 2025
B5: Papier | D5: Papier
B6: Materiele kostenindex | C6: BTW ja exp | D6: Personeelskosten papier | E6: 296813
B7: Materiele kostenindex | C7: BTW ja exp | D7: Tractiekosten papier | E7: 148210
B8: Materiele kostenindex | C8: BTW ja exp | D8: Inzamelmiddelen papier | E8: 4336
B9: Materiele kostenindex | C9: BTW ja exp | D9: Overige directe kosten papier | E9: 0
B10: Materiele kostenindex | C10: BTW ja exp | D10: Diensten derden papier | E10: 0
B11: Materiele kostenindex | C11: BTW nee | D11: Papierinzameling - vergoeding | E11: 0
B12: Geen index | C12: BTW nee | D12: Opbrengst papier | E12: -138000
B13: Geen index | C13: BTW nee | D13: Opbrengst papier | E13: -4000
B14: Totaal | E14: =SUM(E6:E13) -> 307359
B16: PMD | D16: PMD
B17: Materiele kostenindex | C17: BTW ja exp | D17: Personeelskosten PMD | E17: 231260
B18: Materiele kostenindex | C18: BTW ja exp | D18: Tractiekosten PMD | E18: 111654
B19: Materiele kostenindex | C19: BTW ja exp | D19: Kosten inzameling PMD | E19: 125058
B20: Materiele kostenindex | C20: BTW ja exp | D20: Overige directe kosten PMD | E20: 0
B21: Materiele kostenindex | C21: BTW nee | D21: Diensten derden PMD | E21: 0
B22: Geen index | C22: BTW nee | D22: Inzamelvergoeding Nedvang | E22: -361000
B23: Totaal | E23: =SUM(E17:E22) -> 106972
B25: GFT | D25: GFT
B26: Materiele kostenindex | C26: BTW ja exp | D26: Personeelskosten GFT 25% vast | E26: 114422
B27: Materiele kostenindex | C27: BTW ja exp | D27: Tractiekosten GFT 25% vast | E27: 100158
B28: Materiele kostenindex | C28: BTW ja exp | D28: Inzamelmiddelen GFT 100% vast | E28: 12032
B29: Materiele kostenindex | C29: BTW ja exp | D29: Verwerking GFT 0% vast | E29: 216000
B30: Materiele kostenindex | C30: BTW nee | D30: Verbrandingsbelasting GFT 0% vast | E30: 6000
B31: Materiele kostenindex | C31: BTW ja exp | D31: Transport GFT 0% vast | E31: 35000
B32: Materiele kostenindex | C32: BTW ja exp | D32: Op- en Overslagkosten GFT (0% vast) | E32: 28000
B33: Materiele kostenindex | C33: BTW ja exp | D33: Diensten derden GFT (0% vast) | E33: 5000
B34: Totaal | E34: =SUM(E26:E33) -> 516612
B36: Overige kosten afval | D36: Overige kosten afval
B37: Materiele kostenindex | C37: BTW ja exp | D37: Voorlichtingskosten | E37: 10000
B38: Materiele kostenindex | C38: BTW ja exp | D38: Personeelskosten Grof HHA | E38: 2283
B39: Materiele kostenindex | C39: BTW ja exp | D39: Tractiekosten Grof HHA | E39: 0
B40: Materiele kostenindex | C40: BTW ja exp | D40: Kringloopbedrijvigheid | E40: 54000
B41: Materiele kostenindex | C41: BTW ja exp | D41: Containerbeheer | E41: 79646
B42: Materiele kostenindex | C42: BTW ja exp | D42: Klantenservice | E42: 39780
B43: Materiele kostenindex | C43: BTW ja exp | D43: Extra opdrachten | E43: 7871
A44: 4 | B44: Materiele kostenindex | C44: BTW ja exp | D44: Diensten derden luiers | E44: 88385
B45: Materiele kostenindex | C45: BTW ja exp | D45: Inzameling kerstbomen | E45: 5000
B46: Materiele kostenindex | C46: BTW ja exp | D46: Initiatieven zwerfafval | E46: 17500
...

Sheet Afval_dashboard
B3: opmerkingen bij afval | F3: DASHBOARD AFVALSTOFFEN
F4: BEGROTING 2025 | U4: DASHBOARD
B5: 2025 | F5: Kosten | G5: EUR | I5: Baten | M5: Kosten | N5: EUR | P5: Baten | Q5: EUR | Y5: Huidig | Z5: Dashboard | AA5: Kosten | AC5: Inkomsten
B6: Vastrecht | C6: 222.3 | F6: Afvalinzameling (Cure) | G6: 2971879 | H6: =G6/$G$20 -> 0.64262426 | M6: Afvalinzameling (Cure) | N6: 3258686 | U6: =X6 -> 1. Oud papier en karton | V6: 1x per vier weken | X6: 1. Oud papier en karton | Y6: 1x per twee weken | Z6: =Y6 -> 1x per twee weken | AA6: 0 | AC6: 0
B7: Variabel | C7: 185 | F7: Milieustraat (Cure) | G7: 1253362 | H7: =(G7-J7)/$G$20 -> 0.21155611 | I7: Tarieven milieustraat | J7: 275000 | M7: Milieustraat (Cure) | N7: 1143567 | P7: Tarieven milieustraat | Q7: 275000 | U7: =X8 -> 2. PBD (Plastic, Blik en Drankenkartons) | V7: 1x per twee weken + elke week op hotspots | Z7: 1x per vier weken | AA7: -33000 | AC7: 0 | AE7: Besparing, minder kosten | AG7: Mail YB 06052025: Als frequentie naar 1x per 4 weken dan besparing van €33.000
B8: Totaal | C8: =SUM(C6:C7) -> 407.3 | U8: =X11 -> 3. Luiers en incontinentiemateriaal | V8: centrale ondergrondse containers | X8: 2. PBD (Plastic, Blik en Drankenkartons) | Y8: 1x per twee weken + elke week op hotspots | Z8: =Y8 -> 1x per twee weken + elke week op hotspots | AA8: 0 | AC8: 0 | AE8: -
B9: Tariefsaanpassing | C9: 0 | F9: Taakveld Afval | G9: 109300 | H9: =G9/$G$20 -> 0.023634485 | I9: Afvalstoffenheffing (vastrecht) incl. reinigingsrecht | J9: 4068268.8 | M9: Taakveld Afval | N9: 127500 | P9: Afvalstoffenheffing (vastrecht) incl. reinigingsrecht | Q9: 4166762 | U9: =X16 -> 4. GFT/E-container (Groente-, Fruit-, Tuin- en Etensrestenafval) | V9: tarief verlagen | Z9: 1x per twee weken | AA9: -75000 | AC9: 0 | AE9: Besparing, minder kosten | AG9: Mail YB 06052025: Als frequentie naar 1x per 2 weken dan besparing van € 125.000
B10: Vastrecht na aanpassing | C10: =C6*(1+C9) -> 222.3 | F10: Bijzet | G10: 94000 | H10: =G10/$G$20 -> 0.02032609 | I10: Afvalstoffenheffing (variabel) | J10: 1851538.7 | M10: Bijzet | N10: 82211 | P10: Afvalstoffenheffing (variabel) | Q10: 1904453 | U10: =X19 -> 5. Bladkorven | V10: bladkorven | Z10: Deelvoorziening met toegangscontrole | AG10: Mail YB 22072025: Kosten worden nog doorgerekend.
B11: Variabel na aanpassing | C11: =C7*(1+C9) -> 185 | U11: =X22 -> 6. Milieustraat | V11: poorttarieven | X11: 3. Luiers en incontinentiemateriaal | Y11: kinderdagverblijven | Z11: =Y11 -> kinderdagverblijven | AA11: 0 | AC11: 0 | AE11: -
B12: Totaal na aanpassing | C12: =SUM(C10:C11) -> 407.3 | F12: Straatreiniging | G12: 222774 | H12: =(G12-J12)/$G$20 -> 0.013287857 | I12: Zwerfafval-vergoedingen | J12: 161323 | M12: Straatreiniging | N12: =AA44 -> 263989 | P12: Zwerfafval-vergoedingen | Q12: 140232 | Z12: centrale ondergrondse containers + luierzakken afschaffen | AA12: =-(90000-42000+15000) -> -63000 | AC12: 0 | AE12: Besparing, minder kosten | AG12: Mail YB 13052025: Cure 4 locaties en luierzakken afschaffen betekent een besparing, vermindering van de kosten € 41.821+€ 15.000
M13: Kwijtschelding | N13: 160000 | Z13: centrale ondergrondse containers | AA13: =-(90000-42000) -> -48000 | AC13: 0 | AE13: Besparing, minder kosten | AG13: Mail YB 06052025: Inzameling op 4 locaties ondergronds Cure+milieustraat betekent een besparing, vermindering van de kosten € 41.821
B14: Positie COELO lijst na aanpassing | C14: =_xlfn.RANK.EQ($C12,'Gegevens per gemeente 2025'!$P$5:$P$346,1) -> 274 | Z14: luierzakken afschaffen | AA14: -15000 | AC14: 0 | AE14: Besparing, minder kosten | AG14: Mail YB 06052025: Afschaffen luierzakken betekent een besparing, vermindering van de kosten € 15.000
B15: Positie COELO lijst | C15: =_xlfn.RANK.EQ($C8,COELO!$P$2:$P$343,1) -> 272 | F15: Salariskosten | G15: 186003 | H15: =G15/$G$20 -> 0.040220359 | M15: Salariskosten | N15: 180653 | Z15: inzameling afschaffen | AA15: =-(85000+15000) -> -100000 | AC15: 0 | AE15: Besparing, minder kosten | AG15: Mail YB 13052025: Als de inzameling wordt afgeschaft dan betekent dit een besparing, vermindering van de kosten met € 90.000+€ 15.000
B16: Aantal gezinnen volgens 100% norm | C16: 446 | F16: Overheadkosten | G16: 153204 | H16: =G16/$G$20 -> 0.033128067 | M16: Overheadkosten | N16: 153627 | X16: 4. GFT/E-container (Groente-, Fruit-, Tuin- en Etensrestenafval) | Y16: huidig tarief per lediging | Z16: =Y16 -> huidig tarief per lediging | AA16: 0 | AC16: 0
B17: Aantal huisdhoudens | C17: 18329 | F17: Kapitaallasten | G17: 70399.23 | H17: =G17/$G$20 -> 0.015222777 | M17: Kapitaallasten | N17: 74572 | Z17: tarief afschaffen | AA17: 0 | AC17: 0 | AE17: Minder inkomsten | AG17: Mail YB 16052025: Als GFT kosteloos wordt dan betekent dit een vermidering van de inkomsten met € 399.644
Z18: tarief verlagen | AA18: 0 | AC18: 0 | AE18: Minder inkomsten | AG18: Mail YB 22072025: Kosten worden nog doorgerekend.
F19: Totaal kosten | G19: =SUM(G6:G17) -> 5060921.2 | I19: Totaal baten | J19: =SUM(J7:J12) -> 6356130.5 | M19: Totaal kosten | N19: =SUM(N6:N17) -> 5444805 | P19: Totaal baten | Q19: =SUM(Q7:Q12) -> 6486447 | X19: 5. Bladkorven | Y19: bladkorven | Z19: =Y19 -> bladkorven | AA19: 0 | AC19: 0 | AE19: -
F20: Kosten ter verrekening door Afvalstoffenheffing | G20: =G19-J7-J12 -> 4624598.2 | H20: =SUM(H6:H17) -> 1 | I20: Baten uit Afvalstoffenheffing | J20: =SUM(J9:J10) -> 5919807.5 | M20: Kosten tbv Afvalstoffenheffing | N20: =N19-Q7-Q12 -> 5029573 | P20: Baten uit Afvalstoffenheffing | Q20: =SUM(Q9:Q10) -> 6071215 | Z20: 10 weken gratis GFT/E | AA20: 42000 | AC20: -50000 | AE20: Meer kosten en minder inkomsten | AG20: Mail YB 10062025: 10 weken gratis is minder kosten € 72.000 en minder inkomsten € 115.000
F21: Check uit B2025 | G21: 4810210.2 | I21: Check verschil kosten - baten Afvalstoffenheffing | J21: =J20-G20 -> 1295209.2 | M21: Check uit B2025 | N21: 4810210.2 | P21: Check verschil kosten - baten Afvalstoffenheffing | Q21: =Q20-N20 -> 1041642 | Z21: GFT/E tarief afschaffen | AA21: 0 | AC21: 60000 | AE21: Meer inkomsten | AG21: Mail YB 10062025: zie groenbak
F22: Verschil | G22: =G20-G21 -> -185612 | I22: BTW | J22: 1108850 | M22: Verschil | N22: =N20-N21 -> 219362.76 | P22: BTW | Q22: =V37 -> 1112994 | X22: 6. Milieustraat | Y22: poorttarieven | Z22: =Y22 -> poorttarieven | AA22: 0 | AC22: 0
I23: Resterend verschil | J23: =J21-J22 -> 186359.22 | P23: Resterend verschil | Q23: =Q21-V37 -> -71352 | Z23: gratis toegang | AA23: 0 | AC23: =-Q7 -> -275000 | AE23: Minder inkomsten | AG23: YB: Als de milieustraat kosteloos wordt dan betekent dit een vermidering van de inkomsten met € 275.000
F24: BEGROTING 2025 | Z24: eerste [X] x gratis | AA24: 0 | AC24: -266500 | AE24: Minder inkomsten | AG24: Mail YB 22072025: vermindering van de inkomsten met € 266.500
F25: Percentage Straatreiniging | G25: 1 | M25: SCENARIO'S DASHBOARD | N25: Kosten | Q25: Baten | Z25: GRIP-wagen | AA25: 0 | AC25: 0 | AG25: Mail YB 22072025: Kosten worden nog doorgerekend.
F26: Zwerfafval vergoeding | G26: Ja | M26: Percentage Straatreiniging | N26: =-(1-V44)*AA44 -> 0 | Q26: =AC44 -> 0
F27: Salariskosten | G27: 1 | M27: Zwerfafval vergoeding | N27: =AA45 -> 0 | Q27: =AC45-AC45*IF(V45="Ja",1,0) -> 0
F28: Overhead kosten | G28: 1 | M28: Percentage kwijtschelding | N28: 0 | Q28: =AC46 -> 0
B29: VARIABEL TARIEF NIET VERANDEREN! | F29: Kwijtschelding
F30: Percentage kwijtschelding | G30: 1 | M30: SCENARIO'S AFVALSTOFFENHEFFING
F31: Alleen vastrecht | G31: Nee | M31: =U6 -> 1. Oud papier en karton | N31: {=_xlfn.IFS($V$6=$Z$6,AA$6,$V$6=$Z$7,AA$7)} -> -33000 | Q31: {=_xlfn.IFS($V$6=$Z$6,AC$6,$V$6=$Z$7,AC$7)} -> 0 | U31: TARIEF | V31: Aantal aansluitingen | X31: Tarief | Y31: Tarief 2025 | Z31: Verschil | AA31: Opbrengsten | AC31: Verdeling % | AE31: Verdeling 2025 %
F32: Vast recht + €90 vaste kosten | G32: 0 | M32: =U7 -> 2. PBD (Plastic, Blik en Drankenkartons) | N32: {=_xlfn.IFS($V$7=$Z$8,AA$8,$V$7=$Z$9,AA$9,$V$7=$Z$10,AA$10)} -> 0 | Q32: {=_xlfn.IFS($V$7=$Z$8,AC$8,$V$7=$Z$9,AC$9,$V$7=$Z$10,AC$10)} -> 0 | U32: Vast | V32: =V39 -> 18329 | X32: =AA32/V32 -> 226.20502 | Y32: 222 | Z32: =X32-Y32 -> 4.2050209 | AA32: =AA34*(AC32/100) -> 4146111.8 | AC32: 68.4 | AE32: 68
F33: Geen kwijtschelding | G33: 0 | M33: =U8 -> 3. Luiers en incontinentiemateriaal | N33: {=_xlfn.IFS($V$8=$Z$11,AA$11,$V$8=$Z$12,AA$12,$V$8=$Z$13,AA$13,$V$8=$Z$14,AA$14,$V$8=$Z$15,AA$15)} -> -48000 | Q33: {=_xlfn.IFS($V$8=$Z$11,AC$11,$V$8=$Z$12,AC$12,$V$8=$Z$13,AC$13,$V$8=$Z$14,AC$14,$V$8=$Z$15,AC$15)} -> 0 | U33: Variabel | V33: =V39 -> 18329 | X33: =AA33/V33 -> 104.50407 | Y33: 103 | Z33: =X33-Y33 -> 1.504074 | AA33: =AA34*(AC33/100) -> 1915455.2 | AC33: 31.6 | AE33: 32
H34: 90 | M34: =X16 -> 4. GFT/E-container (Groente-, Fruit-, Tuin- en Etensrestenafval) | N34: {=_xlfn.IFS($V$9=$Z$16,AA$16,$V$9=$Z$17,AA$17,$V$9=$Z$18,AA$18)} -> 0 | Q34: {=_xlfn.IFS($V$9=$Z$16,AC$16,$V$9=$Z$17,AC$17,$V$9=$Z$18,AC$18)} -> 0 | U34: Totaal | X34: =SUM(X32:X33) -> 330.70909 | Y34: =SUM(Y32:Y33) -> 325 | Z34: =SUM(Z32:Z33) -> 5.7090949 | AA34: =Q42 -> 6061567 | AC34: =SUM(AC32:AC33) -> 100 | AE34: Niet gelijk aan 100! Pas de verdeling aan!
F35: Extra scenario's | M35: =X19 -> 5. Bladkorven | N35: {=_xlfn.IFS($V$10=$Z$19,AA$19,$V$10=$Z$20,AA$20,$V$10=$Z$21,AA$21)} -> 0 | Q35: {=_xlfn.IFS($V$10=$Z$19,AC$19,$V$10=$Z$20,AC$20,$V$10=$Z$21,AC$21)} -> 0
F36: 1.Papierinzameling | G36: 2 weken | M36: =X22 -> 6. Milieustraat | N36: {=_xlfn.IFS($V$11=$Z$22,AA$22,$V$11=$Z$23,AA$23,$V$11=$Z$24,AA$24,$V$11=$Z$25,AA$25)} -> 0 | Q36: {=_xlfn.IFS($V$11=$Z$22,AC$22,$V$11=$Z$23,AC$23,$V$11=$Z$24,AC$24,$V$11=$Z$25,AC$25)} -> 0
F37: 2.PBD (plastic, Blik en Drinkpakken) | G37: 1 week | M37: =IF(OR(V9=Z17,V9=Z18),"Verschuiving van GFT-tarief naar restafvaltarief","") -> Verschuiving van GFT-tarief naar restafvaltarief | U37: BTW 2025 | V37: 1112994
F38: 3.Groenbak (GFT container) | G38: Tarief | U38: Aantal gezinnen volgens 100% norm | V38: 446
F39: 4.Container luier en incontinentie | G39: Inzamelen | M39: TOTAAL KOSTEN | N39: =N19+SUM(N26:N36) -> 5363805 | P39: TOTAAL BATEN | Q39: =Q19+SUM(Q26:Q36) -> 6486447 | U39: Aantal huishoudens | V39: 18329
F40: 5.Bladcontainers | G40: Wel plaatsen | M40: Kosten door Afvalstoffenheffing | N40: =N39-Q7-Q12-SUM(Q26:Q36) -> 4948573 | P40: Baten uit Afvalstoffenheffing | Q40: =SUM(Q9:Q10) -> 6071215
F41: 6.Milieustraat | G41: Betaald | M41: BTW | N41: =V37 -> 1112994 | P41: Resterend verschil | Q41: =N40+N41-Q40 -> -9648
P42: Baten uit Afvalstoffenheffing | Q42: =N40+N41-SUM(Q26:Q36) -> 6061567
...

Sheet Vast-Variabel
B2: Aantal aansluitingen | C2: Tarief | D2: Tarief 2025 | E2: Verschil | F2: Opbrengsten | G2: Verdeling %
A3: Vast | B3: =Afval_dashboard!C17 -> 18329 | C3: =F3/B3 -> 248.03182 | D3: 220 | E3: =C3-D3 -> 28.031821 | F3: =F5*(G3/100) -> 4546175.2 | G3: 75 | M3: Vast | N3: =Afval_dashboard!C17 -> 18329 | O3: =R3/N3 -> 224.88218 | P3: 220 | Q3: =O3-P3 -> 4.8821845 | R3: =R5*(S3/100) -> 4121865.6 | S3: 68
A4: Variabel | B4: =Afval_dashboard!C17 -> 18329 | C4: =F4/B4 -> 82.677274 | D4: 103 | E4: =C4-D4 -> -20.322726 | F4: =F5*(G4/100) -> 1515391.8 | G4: 25 | M4: Variabel | N4: =Afval_dashboard!C17 -> 18329 | O4: =R4/N4 -> 105.82691 | P4: 103 | Q4: =O4-P4 -> 2.8269104 | R4: =R5*(S4/100) -> 1939701.4 | S4: =S5-S3 -> 32
F5: =Afval_dashboard!Q42 -> 6061567 | G5: 100 | R5: =Afval_dashboard!Q42 -> 6061567 | S5: 100
A7: 185 komt uit COELO. Deze gegevens kloppen niet. Daarom rekenen vanuit de begroting.

Sheet Afval omrekening
A1: GROEN | G1: Gemiddeld huishouden (2,2 leden) | J1: Nuenen | K1: Gemert-Bakel | M1: 240L | N1: 1-persoonshuishouden | Q1: 240L | R1: 4-persoonshuishouden
A2: Aantal containers | B2: Volume | C2: Totaal volume | D2: Equivalent in 240L-containers | E2: Aantal huishoudens | F2: 240L-equivalent per huishouden | G2: Aantal containers | N2: Aantal containers | R2: Aantal containers
A3: =14470+49 -> 14519 | B3: 240 | C3: =A3*B3 -> 3484560 | D3: =C3/240 -> 14519 | E3: 18329 | F3: =D3/E3 -> 0.79213269 | I3: 8.68 | J3: 3.75 | K3: 0
A4: =50690+48 -> 50738 | B4: 140 | C4: =A4*B4 -> 7103320 | D4: =C4/240 -> 29597.167 | E4: 18329 | F4: =D4/E4 -> 1.6147726
A5: 90 | B5: 80 | C5: =A5*B5 -> 7200 | D5: =C5/240 -> 30 | E5: 18329 | F5: =D5/E5 -> 0.0016367505
F6: =SUM(F3:F5) -> 2.408542 | G6: 3 | I6: =$G$6*I3 -> 26.04 | J6: =$G$6*J3 -> 11.25 | K6: =$G$6*K3 -> 0 | M6: 1.0947918 | N6: 1 | O6: =N6*I3 -> 8.68 | Q6: =M6*4 -> 4.3791673 | R6: 5 | S6: =R6*I3 -> 43.4
A9: REST
A10: Aantal containers | B10: Volume | C10: Totaal volume | D10: Equivalent in 240L-containers | E10: Aantal huishoudens | F10: 240L-equivalent per huishouden
A11: 33961 | B11: 240 | C11: =A11*B11 -> 8150640 | D11: =C11/240 -> 33961 | E11: 18329 | F11: =D11/E11 -> 1.8528561 | I11: 16.66 | J11: 26 | K11: 18.7
A12: 42873 | B12: 140 | C12: =A12*B12 -> 6002220 | D12: =C12/240 -> 25009.25 | E12: 18329 | F12: =D12/E12 -> 1.3644634
A13: 122 | B13: 80 | C13: =A13*B13 -> 9760 | D13: =C13/240 -> 40.666667 | E13: 18329 | F13: =D13/E13 -> 0.0022187062
A14: 48426 | B14: 40 | C14: =A14*B14 -> 1937040 | D14: =C14/240 -> 8071 | E14: 18329 | F14: =D14/E14 -> 0.44034044
A15: 48426 | B15: 25 | C15: =A15*B15 -> 1210650 | D15: =C15/240 -> 5044.375 | E15: 18329 | F15: =D15/E15 -> 0.27521278
F16: =SUM(F11:F15) -> 3.9350915 | G16: 4 | I16: =$F$16*I11 -> 65.558624 | J16: =$F$16*J11 -> 102.31238 | K16: =$F$16*K11 -> 73.586211 | M16: 1.9232181 | N16: 2 | O16: =N16*I11 -> 33.32 | Q16: =M16*4 -> 7.6928726 | R16: 8 | S16: =R16*I11 -> 133.28
A18: 2024 | H18: Variabel | I18: =SUM(I6+I16) -> 91.598624 | J18: =SUM(J6+J16) -> 113.56238 | K18: =SUM(K6+K16) -> 73.586211 | M18: Variabel | O18: =SUM(O6,O16) -> 42 | P18: =O21-O19 -> -5.6933288 | S18: =SUM(S6,S16) -> 176.68
A19: Aantal huishoudens | B19: 18239 | C19: 18329 | H19: Vast | I19: 222 | J19: 183 | K19: 190 | M19: Vast | O19: =I19 -> 222 | S19: =I19 -> 222
A20: Percentage hoogbouw | B20: 0.23 | I20: =SUM(I18:I19) -> 313.59862 | J20: =SUM(J18:J19) -> 296.56238 | K20: =SUM(K18:K19) -> 263.58621 | O20: =SUM(O18:O19) -> 264 | S20: =SUM(S18:S19) -> 398.68
A21: Afvalstoffenheffing vast recht | B21: 190 | C21: 222 | G21: Na aanpassing | I21: =I19-Afval!Q30 -> 216.30667 | N21: Na aanpassing | O21: =O19-Afval!$Q$30 -> 216.30667 | R21: Na aanpassing | S21: =S19-Afval!$Q$30 -> 216.30667
A22: Afvalstoffenheffing variabel - 240L groen | B22: 8.4 | C22: 8.68 | I22: =I21+I18 -> 307.9053 | O22: =O21+O18 -> 258.30667 | S22: =S21+S18 -> 392.98667
A23: Afvalstoffenheffing variabel - 240L grijs | B23: 16.13 | C23: 16.66
A24: 40L | C24: 3.55 | I24: =E11*I22 -> 5643596.2
A25: •Gedifferentieerd tarief (DifTar) | I25: =I19*E11 -> 4069038
A26: •Vastrecht per huishouden
A27: •Variabel tarief voor restafval en GFT
A30: Omrekening naar COELO om tarieven te kunnen vergelijken: | N30: Onderwerp | O30: Beginstand woningvoorraad | P30: Beginstand woningvoorraad | Q30: Beginstand woningvoorraad
A31: •Totaal aantal ledigingen in 2024 omgerekend naar gemiddeld aantal 240L-ledigingen voor GFT- en restafval | N31: Woningtype | O31: Totaal woningen | P31: Hoogbouw | Q31: Laagbouw
A32: •Vermenigvuldigd met tarieven per gemeente | N32: Perioden | O32: aantal | P32: aantal | Q32: aantal
A33: •Optellen bij vastrecht | N33: 2024 | O33: 18448 | P33: 4170 | Q33: 14278
A34: Er wordt gerekend met 3 GFT-ledigingen en 4 restafval-ledigingen | P34: 0.22604076 | Q34: 0.77395924
A35: Inclusief hoogbouw; gemiddeld 2,2 inwoners per huishouden | N35: % Hoogbouw | O35: 0.23
N36: Restafval k/inw | O36: 91.8
A37: •Variabele kosten Geldrop-Mierlo zijn vergelijkbaar met andere Diftar-gemeenten, maar de verhouding GFT-/restafval is uiteenlopend | N37: gft (k/inw) | O37: 70.9
A38: •Tariefstelling hoogbouw/laagbouw is niet gelijkwaardig | N38: % restafval | O38: 56
A43: Gemeenten vergelijken: | U43: 2024 | V43: Geldrop-Mierlo | W43: Nuenen | X43: Gemert-Bakel | Y43: Best | Z43: Veldhoven | AA43: Son & Breugel
A44: •Totaal aantal ledigingen in 2024 omgerekend naar gemiddeld aantal 240L-ledigingen voor GFT- en restafval | V44: 40.000 inwoners | W44: 23.000 inwoners | X44: 31.000 inwoners | Y44: 31.000 inwoners | Z44: 45.000 inwoners | AA44: 48.000 inwoners
A45: •Vermenigvuldigd met tarieven per gemeente | U45: Totaal | V45: 279 | W45: 297 | X45: 264 | Y45: 369 | Z45: 311 | AA45: 334
A46: •Optellen bij vastrecht | U46: Vastrecht | V46: 190 | W46: 183 | X46: 190 | Y46: 369 | Z46: 311 | AA46: 334
A47: àEr wordt gerekend met 3 GFT-ledigingen en 4 restafval-ledigingen | U47: Variabel | V47: 89 | W47: 114 | X47: 74 | Y47: 0 | Z47: 0 | AA47: 0
A48: Inclusief hoogbouw; gemiddeld 2,2 inwoners per huishouden | U48: Variabel Rest 240L | V48: 16.13 | W48: 26 | X48: 18.7 | Y48: - | Z48: - | AA48: -
U49: Variabel GFT 240L | V49: 8.4 | W49: 3.75 | X49: - | Y49: - | Z49: -
...

Sheet Hoogbouw_Laagbouw
A2: Woningvoorraad; woningtype op 1 januari, regio
B5: Onderwerp | C5: Beginstand woningvoorraad | D5: Beginstand woningvoorraad | E5: Beginstand woningvoorraad
B6: Woningtype | C6: Totaal woningen | D6: Hoogbouw | E6: Laagbouw
A7: Regio's | B7: Perioden | C7: aantal | D7: aantal | E7: aantal
A8: Geldrop-Mierlo | B8: 2024 | C8: 18448 | D8: 4170 | E8: 14278
A9: Bron: CBS | D9: =D8/C8 -> 0.22604076 | E9: =E8/C8 -> 0.77395924
A11: aantal gezinnen dat in aanmerking komt voor kwijtschelding:
A12: Je kunt er voor nu van uit gaan dat dat 446 gezinnen zijn.
A13: @Bob Altena, dat is dus volgens de 100%-norm. Een van de zaken die ter sprake is geweest is dat ander ‘sociaal beleid’ (niet mijn expertise, dus de juiste naam weet ik niet) uitgaat van de 120%-norm. Wellicht is dat ook een knop op aan te draaien? Kun jij aan Miret aangeven hoeveel gezinnen er in aanmerking voor kwijtschelding zouden komen als die norm zou worden aangepast naar 120%?

Sheet Opbouw Afval
A1: o.b.v. begroting 2025
B2: KOSTEN | J2: BATEN
F3: EUR | G3: % kosten ter verrekening uit Afvalstoffenheffing | N3: EUR | O3: % baten uit Afvalstoffenheffing
B4: Afvalinzameling (Cure) | D4: Resultaat van kosten van inzameling, bedrijfsvoering Cure en opbrengsten van gescheiden reststromen. | F4: 2971879 | G4: =F4/$F$23 -> 0.61782726
Q5: 2025
B6: Milieustraat (Cure) | D6: Resultaat van kosten van inzameling en baten van gescheiden reststromen en bijdrage Heeze-Leende | F6: 1253362 | G6: =(F6-N6)/$F$23 -> 0.20339278 | J6: Tarieven milieustraat | L6: Tarief per categorie grofvuil per aantal bezoeken | N6: 275000 | O6: 0 | P6: Toegangstarieven Milieustraat incl H-L
B8: Taakveld Afval | D8: Kosten voor het taakveld Afval, uitgevoerd door Gemeente Geldrop-Mierlo | F8: 109300 | G8: =F8/$F$23 -> 0.0227225 | J8: Afvalstoffenheffing (vastrecht) incl. reinigingsrecht | L8: Vast bedrag per huishouden per jaar | N8: =4068268.77-L28 -> 4068268.8 | O8: =N8/N23 -> 0.68722991 | P8: Afvalstoffen heffing vast | Q8: 4044959 | R8: =SUM(Q8:Q9) -> 4068269
P9: Reinigingsrechten | Q9: 23310
B10: Bijzet | D10: Doorbelaste kosten van de buitendienst voor het opruimen van bijzet. | F10: 94000 | G10: =F10/$F$23 -> 0.019541765 | J10: Afvalstoffenheffing (variabel) | L10: Tarief per lediging voor restafval en GFT-afval | N10: 1851538.7 | O10: =N10/N23 -> 0.31277009 | P10: Afvalstoffen heffing variabel | Q10: 1851539
B12: Straatreiniging | D12: Doorbelaste kosten van de buitendienst voor straatreiniging inclusief zwerfafval | F12: 222774 | G12: =(F12-N12)/$F$23 -> 0.012775117 | I12: (25% van 6210019/75001 + 100% 6210019/38048. | J12: Zwerfafval-vergoedingen | L12: Vergoeding van Verpact namens de verpakkingsindustrie voor het ontstaan van zwerfafval | N12: 161323 | O12: 0 | P12: Nedvang | Q12: 123023 | R12: =SUM(Q12:Q13) -> 161323 | S12: UPV-zwerfafvalvergoeding van € 3,02 per inwoner x 40.736 = € 123.023 | W12: =40736*3.02 -> 123022.72
I13: =-F12*0.275 -> -61262.85 | P13: Prullenbakregeling | Q13: 38300 | S13: aantal inwoners*0,94 | W13: =40736*0.94 -> 38291.84
B14: Kwijtschelding | D14: Kwijtscheldingsregeling voor huishoudens onder de minimagrens en wegens medische noodzaak | F14: =185612-L28 -> 185612 | G14: =F14/$F$23 -> 0.038587087
B16: Salariskosten | D16: Kosten van directe inzet van personeel van Gemeente Geldrop-Mierlo op het taakveld afval | F16: 186003 | G16: =F16/$F$23 -> 0.038668372
B18: Overheadkosten | D18: Kosten van indirecte inzet van personeel van Gemeente Geldrop-Mierlo op het taakveld afval | F18: 153204 | G18: =F18/$F$23 -> 0.031849751
B20: Kapitaallasten | D20: Afschrijvings- en rentekosten incl. milieustraat | F20: 70399.23 | G20: =F20/$F$23 -> 0.014635375
D22: Totaal kosten | F22: =SUM(F4:F20) -> 5246533.2 | L22: Totaal baten | N22: =SUM(N6:N20) -> 6356130.5 | P22: 6356130.5
D23: Kosten ter verrekening door Afvalstoffenheffing | F23: 4810210.2 | G23: =SUM(G4:G20) -> 1 | L23: Baten uit Afvalstoffenheffing | N23: =SUM(N8:N10) -> 5919807.5 | O23: =SUM(O4:O21) -> 1 | P23: 5919807.5
D24: Check uit B2025 | F24: 4810210.2 | L24: Check verschil kosten - baten Afvalstoffenheffing | N24: =N23-F23 -> 1109597.2 | P24: 1109597.2 | Q24: =P23-P24 -> 4810210.2
D25: Verschil | F25: 0 | G25: correct | L25: BTW | N25: 1108850 | P25: 1108850
L26: Resterend verschil | N26: =N24-N25 -> 747.22319 | O26: acceptabel | P26: 747.22319
L28: 0 | N28: =N8/222 -> 18325.535
L29: 185612

Sheet COELO oud
A1: Provinciecode | B1: Gemeente code | C1: Gemeentenaam | D1: Tarief woningen | E1: Mutatie Tarief woningen | F1: Tarief eigenaar niet-woning | G1: Mutatie Tarief eigenaar niet-woning | H1: Tarief gebruiker niet-woning | I1: Mutatie Tarief gebruiker niet-woning | J1: Tarief niet-woning eigenaar+gebruiker | K1: Mutatie Tarief niet-woning eigenaar+gebruiker | L1: Gemiddeld betaalde ozb woningen
A2: 7 | B2: 0448 | C2: Texel | D2: 0.0323 | E2: 2.96 | F2: 0.0733 | G2: 6.45 | H2: 0.0578 | I2: 6.63 | J2: 0.1311 | K2: 6.53 | L2: 149.52
A3: 7 | B3: 0361 | C3: Alkmaar | D3: 0.0574 | E3: 6.18 | F3: 0.5087 | G3: 12.49 | H3: 0.0673 | I3: -3.49 | J3: 0.576 | K3: 10.36 | L3: 262.5
A4: 2 | B4: 0060 | C4: Ameland | D4: 0.0647 | E4: -1.51 | F4: 0.1511 | G4: -0.4 | H4: 0.1209 | I4: -0.41 | J4: 0.272 | K4: -0.4 | L4: 264.75
A5: 2 | B5: 0085 | C5: Ooststellingwerf | D5: 0.0748 | E5: 1.64 | F5: 0.0988 | G5: 5.73 | H5: 0.0843 | I5: 8.19 | J5: 0.1831 | K5: 6.85 | L5: 271.89
A6: 8 | B6: 0518 | C6: 's-Gravenhage | D6: 0.0523 | E6: 5.6 | F6: 0.3168 | G6: 6.51 | H6: 0.2576 | I6: 5.4 | J6: 0.5744 | K6: 6.01 | L6: 272.2
A7: 7 | B7: 0406 | C7: Huizen | D7: 0.0466 | E7: 4.37 | F7: 0.1876 | G7: 6.82 | H7: 0.1636 | I7: 6.65 | J7: 0.3512 | K7: 6.75 | L7: 274
A8: 9 | B8: 1714 | C8: Sluis | D8: 0.0803 | E8: 6.1 | F8: 0.2194 | G8: 2.35 | H8: 0.1789 | I8: 2.39 | J8: 0.3983 | K8: 2.37 | L8: 293.47
A9: 8 | B9: 0606 | C9: Schiedam | D9: 0.0763 | E9: 5.77 | F9: 0.356 | G9: 11.36 | H9: 0.249 | I9: 18.42 | J9: 0.605 | K9: 14.16 | L9: 295.86
A10: 9 | B10: 0703 | C10: Reimerswaal | D10: 0.085 | E10: 2.42 | F10: 0.2266 | G10: 2.58 | H10: 0.1837 | I10: 2.58 | J10: 0.4103 | K10: 2.58 | L10: 296.93
A11: 10 | B11: 0758 | C11: Breda | D11: 0.0564 | E11: 7.04 | F11: 0.2275 | G11: 7.89 | H11: 0.1821 | I11: 7.44 | J11: 0.4096 | K11: 7.69 | L11: 298.68
A12: 8 | B12: 0610 | C12: Sliedrecht | D12: 0.0736 | E12: 8.34 | F12: 0.2338 | G12: 10.57 | H12: 0.1716 | I12: -0.19 | J12: 0.4054 | K12: 5.75 | L12: 299.39
A13: 4 | B13: 1708 | C13: Steenwijkerland | D13: 0.0756 | E13: 2.63 | F13: 0.2197 | G13: 2.7 | H13: 0.1777 | I13: 2.71 | J13: 0.3974 | K13: 2.71 | L13: 302.26
... A50: 11 | B50: 1640 | C50: Leudal | D50: 0.0901 | E50: 6.39 | F50: 0.1731 | G50: 17.59 | H50: 0.1623 | I50: 10.26 | J50: 0.3354 | K50: 13.92 | L50: 362.14
A51: 8 | B51: 0597 | C51: Ridderkerk | D51: 0.0906 | E51: 1.64 | F51: 0.496 | G51: 6.49 | H51: 0 | I51: nvt | J51: 0.496 | K51: 6.49 | L51: 362.52
A52: 8 | B52: 0603 | C52: Rijswijk | D52: 0.077 | E52: 10.62 | F52: 0.6521 | G52: 16.29 | H52: 0 | I52: nvt | J52: 0.6521 | K52: 16.29 | L52: 363.28
A53: 7 | B53: 1980 | C53: Dijk en Waard | D53: 0.0783 | E53: 14.83 | F53: 0.387 | G53: 15.38 | H53: 0.2789 | I53: 14.58 | J53: 0.6659 | K53: 15.04 | L53: 364.21
A54: 9 | B54: 0717 | C54: Veere | D54: 0.0769 | E54: 5.75 | F54: 0.1767 | G54: 16.27 | H54: 0.1336 | I54: 12.85 | J54: 0.3103 | K54: 14.77 | L54: 364.38
A55: 5 | B55: 0197 | C55: Aalten | D55: 0.0952 | E55: 2.24 | F55: 0.2044 | G55: 2.39 | H55: 0.1527 | I55: 2.38 | J55: 0.3571 | K55: 2.38 | L55: 364.46
A56: 2 | B56: 1949 | C56: Waadhoeke | D56: 0.1168 | E56: 4.4 | F56: 0.246 | G56: 3.39 | H56: 0.1684 | I56: 0.57 | J56: 0.4144 | K56: 2.23 | L56: 364.64
A57: 2 | B57: 0080 | C57: Leeuwarden | D57: 0.10721 | E57: 2.55 | F57: 0.48401 | G57: 3.29 | H57: 0.38806 | I57: 3.52 | J57: 0.87207 | K57: 3.4 | L57: 367.09
A58: 10 | B58: 0777 | C58: Etten-Leur | D58: 0.0842 | E58: 7.87 | F58: 0.1808 | G58: 10.09 | H58: 0.1503 | I58: 8.68 | J58: 0.3311 | K58: 9.45 | L58: 368.37
A59: 9 | B59: 0654 | C59: Borsele | D59: 0.099 | E59: 0.31 | F59: 0.3062 | G59: 9.64 | H59: 0.2715 | I59: 10.38 | J59: 0.5777 | K59: 9.98 | L59: 370.03
A60: 5 | B60: 0273 | C60: Putten | D60: 0.061 | E60: 3.97 | F60: 0.201 | G60: 3.92 | H60: 0.1609 | I60: 4.25 | J60: 0.3619 | K60: 4.07 | L60: 370.87
A61: 9 | B61: 0715 | C61: Terneuzen | D61: 0.1242 | E61: 3.18 | F61: 0.3399 | G61: 2.54 | H61: 0.2728 | I61: 2.51 | J61: 0.6127 | K61: 2.52 | L61: 372.01
A62: 7 | B62: 1911 | C62: Hollands Kroon | D62: 0.0881 | E62: 1.48 | F62: 0.1901 | G62: 2.49 | H62: 0.1431 | I62: 2.81 | J62: 0.3332 | K62: 2.63 | L62: 374.37
A63: 4 | B63: 0175 | C63: Ommen | D63: 0.077 | E63: 3.74 | F63: 0.2138 | G63: 3.66 | H63: 0.152 | I63: 2.61 | J63: 0.3658 | K63: 3.22 | L63: 375.47
A64: 8 | B64: 0513 | C64: Gouda | D64: 0.0892 | E64: 3.28 | F64: 0.4004 | G64: 5.3 | H64: 0.3211 | I64: 5.87 | J64: 0.7215 | K64: 5.55 | L64: 377.48
... A74: 10 | B74: 1655 | C74: Halderberge | D74: 0.0867 | E74: 9.98 | F74: 0.2521 | G74: 9.59 | H74: 0.2253 | I74: 9.63 | J74: 0.4774 | K74: 9.61 | L74: 387.09
A75: 8 | B75: 1916 | C75: Leidschendam-Voorburg | D75: 0.07079 | E75: 7.53 | F75: 0.48075 | G75: 5.73 | H75: 0 | I75: nvt | J75: 0.48075 | K75: 5.73 | L75: 388.12
A76: 8 | B76: 1930 | C76: Nissewaard | D76: 0.107606 | E76: 5.77 | F76: 0.352789 | G76: 6.44 | H76: 0.281271 | I76: 8.52 | J76: 0.63406 | K76: 7.35 | L76: 388.31
A77: 10 | B77: 1724 | C77: Bergeijk | D77: 0.0738 | E77: 3.87 | F77: 0.1968 | G77: 4.48 | H77: 0.1574 | I77: 4.47 | J77: 0.3542 | K77: 4.48 | L77: 388.37
A78: 10 | B78: 0770 | C78: Eersel | D78: 0.0713 | E78: 12.88 | F78: 0.2066 | G78: 19.87 | H78: 0.1613 | I78: 17.38 | J78: 0.3679 | K78: 18.76 | L78: 389
A79: 10 | B79: 0867 | C79: Waalwijk | D79: 0.0875 | E79: 3.2 | F79: 0.2243 | G79: -5.85 | H79: 0.158 | I79: -5.38 | J79: 0.3823 | K79: -5.66 | L79: 390.07
A80: 3 | B80: 1690 | C80: De Wolden | D80: 0.0838 | E80: 0.48 | F80: 0.1955 | G80: -0.42 | H80: 0.1576 | I80: -2 | J80: 0.3531 | K80: -1.13 | L80: 390.14
A81: 7 | B81: 0402 | C81: Hilversum | D81: 0.0641 | E81: 6.21 | F81: 0.3034 | G81: 10.05 | H81: 0.2026 | I81: 10 | J81: 0.506 | K81: 10.03 | L81: 390.6
A82: 7 | B82: 0394 | C82: Haarlemmermeer | D82: 0.06843 | E82: 1.61 | F82: 0.29896 | G82: 2.94 | H82: 0.26131 | I82: 1.79 | J82: 0.56027 | K82: 2.4 | L82: 390.62
A83: 5 | B83: 1734 | C83: Overbetuwe | D83: 0.0802 | E83: 6.35 | F83: 0.166 | G83: 15.45 | H83: 0.1342 | I83: 15.37 | J83: 0.3002 | K83: 15.42 | L83: 390.68
A84: 3 | B84: 1680 | C84: Aa en Hunze | D84: 0.0927 | E84: 5.85 | F84: 0.2168 | G84: 0.76 | H84: 0.1021 | I84: 5.04 | J84: 0.3189 | K84: 2.09 | L84: 391.1
A85: 10 | B85: 1991 | C85: Maashorst | D85: 0.07714 | E85: 12.87 | F85: 0.27036 | G85: 12.38 | H85: 0.21545 | I85: 12.66 | J85: 0.48581 | K85: 12.51 | L85: 391.49
...

Sheet Gegevens per gemeente 2025
A1: Gegevens gemeenten 2025 | D1: Tarieven, bedragen en mutaties
A2: © COELO, Groningen | D2: OZB | N2: Afvalstoffenheffing | S2: Rioolheffing huishoudens | W2: Rioolheffing bedrijven | AP2: Woonlasten | AX2: Toeristenbelasting | AZ2: Hondenbelasting | BC2: Leges
